Workbook

Sheet MOC-SUMMARY
A1: SUMMARY SHIPPING, CARGO & PASSENGER STATISTICS
A2: PMO : Misamis Oriental/Cagayan de Oro
A3: AT BERTH AND ANCHORAGE
A4: 2025
A6: PARTICULARS | D6: A T B E R T H | H6: AT ANCHORAGE | L6: TOTAL
D7: Base Port | E7: Terminal Ports | F7: Government Ports | G7: Private Ports | H7: Base Port | I7: Terminal Ports | J7: Government Ports | K7: Private Ports
A8: A. SHIPPING
A10: 1. Number of vessels | D10: ='MOC-berth'!AP10 -> 2650 | E10: ='MOC-berth'!AQ10 -> 12135 | F10: ='MOC-berth'!AR10 -> 1365 | G10: ='MOC-berth'!AS10 -> 829 | H10: ='MOC-ancho'!Y10 -> 7 | I10: ='MOC-ancho'!Z10 -> 1 | J10: ='MOC-ancho'!AA10 -> 6 | K10: ='MOC-ancho'!AB10 -> 62 | L10: =+L11+L12 -> 17055
A11: Domestic | D11: ='MOC-berth'!AP11 -> 2521 | E11: ='MOC-berth'!AQ11 -> 12135 | F11: ='MOC-berth'!AR11 -> 1363 | G11: ='MOC-berth'!AS11 -> 616 | H11: ='MOC-ancho'!Y11 -> 6 | I11: ='MOC-ancho'!Z11 -> 0 | J11: ='MOC-ancho'!AA11 -> 6 | K11: ='MOC-ancho'!AB11 -> 35 | L11: =SUM(D11:K11) -> 16682
A12: Foreign | D12: ='MOC-berth'!AP12 -> 129 | E12: ='MOC-berth'!AQ12 -> 0 | F12: ='MOC-berth'!AR12 -> 2 | G12: ='MOC-berth'!AS12 -> 213 | H12: ='MOC-ancho'!Y12 -> 1 | I12: ='MOC-ancho'!Z12 -> 1 | J12: ='MOC-ancho'!AA12 -> 0 | K12: ='MOC-ancho'!AB12 -> 27 | L12: =SUM(D12:K12) -> 373
A14: 2. Gross Tonnage | D14: ='MOC-berth'!AP14 -> 16109307 | E14: ='MOC-berth'!AQ14 -> 4856601.3 | F14: ='MOC-berth'!AR14 -> 831393.26 | G14: ='MOC-berth'!AS14 -> 2712056 | H14: ='MOC-ancho'!Y14 -> 28569.13 | I14: ='MOC-ancho'!Z14 -> 5602 | J14: ='MOC-ancho'!AA14 -> 6754.29 | K14: ='MOC-ancho'!AB14 -> 664713.3 | L14: =+L15+L16 -> 25214996
A15: Domestic | D15: ='MOC-berth'!AP15 -> 14611305 | E15: ='MOC-berth'!AQ15 -> 4856601.3 | F15: ='MOC-berth'!AR15 -> 831181.26 | G15: ='MOC-berth'!AS15 -> 589038.01 | H15: ='MOC-ancho'!Y15 -> 5075.13 | I15: ='MOC-ancho'!Z15 -> 0 | J15: ='MOC-ancho'!AA15 -> 6754.29 | K15: ='MOC-ancho'!AB15 -> 56577.3 | L15: =SUM(D15:K15) -> 20956532
A16: Foreign | D16: ='MOC-berth'!AP16 -> 1498002.6 | E16: ='MOC-berth'!AQ16 -> 0 | F16: ='MOC-berth'!AR16 -> 212 | G16: ='MOC-berth'!AS16 -> 2123018 | H16: ='MOC-ancho'!Y16 -> 23494 | I16: ='MOC-ancho'!Z16 -> 5602 | J16: ='MOC-ancho'!AA16 -> 0 | K16: ='MOC-ancho'!AB16 -> 608136 | L16: =SUM(D16:K16) -> 4258464.6
A18: 3. Net Tonnage | D18: ='MOC-berth'!AP18 -> 7473372 | E18: ='MOC-berth'!AQ18 -> 2048407.8 | F18: ='MOC-berth'!AR18 -> 305540.49 | G18: ='MOC-berth'!AS18 -> 1371032 | H18: ='MOC-ancho'!Y18 -> 13901.09 | I18: ='MOC-ancho'!Z18 -> 1681 | J18: ='MOC-ancho'!AA18 -> 3560.21 | K18: ='MOC-ancho'!AB18 -> 293456.12 | L18: =+L19+L20 -> 11510951
A19: Domestic | D19: ='MOC-berth'!AP19 -> 6706659.1 | E19: ='MOC-berth'!AQ19 -> 2048407.8 | F19: ='MOC-berth'!AR19 -> 305453.49 | G19: ='MOC-berth'!AS19 -> 313699.02 | H19: ='MOC-ancho'!Y19 -> 2741.09 | I19: ='MOC-ancho'!Z19 -> 0 | J19: ='MOC-ancho'!AA19 -> 3560.21 | K19: ='MOC-ancho'!AB19 -> 25959.12 | L19: =SUM(D19:K19) -> 9406479.9
A20: Foreign | D20: ='MOC-berth'!AP20 -> 766712.84 | E20: ='MOC-berth'!AQ20 -> 0 | F20: ='MOC-berth'!AR20 -> 87 | G20: ='MOC-berth'!AS20 -> 1057333 | H20: ='MOC-ancho'!Y20 -> 11160 | I20: ='MOC-ancho'!Z20 -> 1681 | J20: ='MOC-ancho'!AA20 -> 0 | K20: ='MOC-ancho'!AB20 -> 267497 | L20: =SUM(D20:K20) -> 2104470.8
A22: 4. Deadweight Tonnage | D22: ='MOC-berth'!AP22 -> 12277498 | E22: ='MOC-berth'!AQ22 -> 6942335.8 | F22: ='MOC-berth'!AR22 -> 1377299.7 | G22: ='MOC-berth'!AS22 -> 4301612.6 | H22: ='MOC-ancho'!Y22 -> 39218.9 | I22: ='MOC-ancho'!Z22 -> 1274 | J22: ='MOC-ancho'!AA22 -> 8900.7305 | K22: ='MOC-ancho'!AB22 -> 1040685 | L22: =+L23+L24 -> 25988824
A23: Domestic | D23: ='MOC-berth'!AP23 -> 9899795.4 | E23: ='MOC-berth'!AQ23 -> 6942335.8 | F23: ='MOC-berth'!AR23 -> 1376949.9 | G23: ='MOC-berth'!AS23 -> 985217.66 | H23: ='MOC-ancho'!Y23 -> 9851.4 | I23: ='MOC-ancho'!Z23 -> 0 | J23: ='MOC-ancho'!AA23 -> 8900.7305 | K23: ='MOC-ancho'!AB23 -> 86923.136 | L23: =SUM(D23:K23) -> 19309974
A24: Foreign | D24: ='MOC-berth'!AP24 -> 2377702.2 | E24: ='MOC-berth'!AQ24 -> 0 | F24: ='MOC-berth'!AR24 -> 349.8 | G24: ='MOC-berth'!AS24 -> 3316395 | H24: ='MOC-ancho'!Y24 -> 29367.5 | I24: ='MOC-ancho'!Z24 -> 1274 | J24: ='MOC-ancho'!AA24 -> 0 | K24: ='MOC-ancho'!AB24 -> 953761.82 | L24: =SUM(D24:K24) -> 6678850.3
A26: 5. Length of Vessel (m.) | D26: ='MOC-berth'!AP26 -> 269357.01 | E26: ='MOC-berth'!AQ26 -> 448270.91 | F26: ='MOC-berth'!AR26 -> 65316.48 | G26: ='MOC-berth'!AS26 -> 67798.8 | H26: ='MOC-ancho'!Y26 -> 575.21 | I26: ='MOC-ancho'!Z26 -> 93.7 | J26: ='MOC-ancho'!AA26 -> 382.88 | K26: ='MOC-ancho'!AB26 -> 7166.68 | L26: =+L27+L28 -> 858961.67
A27: Domestic | D27: ='MOC-berth'!AP27 -> 253174.36 | E27: ='MOC-berth'!AQ27 -> 448270.91 | F27: ='MOC-berth'!AR27 -> 65256.18 | G27: ='MOC-berth'!AS27 -> 40995.33 | H27: ='MOC-ancho'!Y27 -> 395.21 | I27: ='MOC-ancho'!Z27 -> 0 | J27: ='MOC-ancho'!AA27 -> 382.88 | K27: ='MOC-ancho'!AB27 -> 2711.22 | L27: =SUM(D27:K27) -> 811186.09
A28: Foreign | D28: ='MOC-berth'!AP28 -> 16182.65 | E28: ='MOC-berth'!AQ28 -> 0 | F28: ='MOC-berth'!AR28 -> 60.3 | G28: ='MOC-berth'!AS28 -> 26803.47 | H28: ='MOC-ancho'!Y28 -> 180 | I28: ='MOC-ancho'!Z28 -> 93.7 | J28: ='MOC-ancho'!AA28 -> 0 | K28: ='MOC-ancho'!AB28 -> 4455.46 | L28: =SUM(D28:K28) -> 47775.58
A30: 6. Beam of Vessel (m.) | D30: ='MOC-berth'!AP30 -> 45851.17 | E30: ='MOC-berth'!AQ30 -> 124675.23 | F30: ='MOC-berth'!AR30 -> 16131.07 | G30: ='MOC-berth'!AS30 -> 12052.16 | H30: ='MOC-ancho'!Y30 -> 104.11 | I30: ='MOC-ancho'!Z30 -> 17.2 | J30: ='MOC-ancho'!AA30 -> 69.01 | K30: ='MOC-ancho'!AB30 -> 1240.51 | L30: =+L31+L32 -> 200140.46
A31: Domestic | D31: ='MOC-berth'!AP31 -> 43147.95 | E31: ='MOC-berth'!AQ31 -> 124675.23 | F31: ='MOC-berth'!AR31 -> 16118.75 | G31: ='MOC-berth'!AS31 -> 7571.18 | H31: ='MOC-ancho'!Y31 -> 74.11 | I31: ='MOC-ancho'!Z31 -> 0 | J31: ='MOC-ancho'!AA31 -> 69.01 | K31: ='MOC-ancho'!AB31 -> 463.75 | L31: =SUM(D31:K31) -> 192119.98
A32: Foreign | D32: ='MOC-berth'!AP32 -> 2703.22 | E32: ='MOC-berth'!AQ32 -> 0 | F32: ='MOC-berth'!AR32 -> 12.32 | G32: ='MOC-berth'!AS32 -> 4480.98 | H32: ='MOC-ancho'!Y32 -> 30 | I32: ='MOC-ancho'!Z32 -> 17.2 | J32: ='MOC-ancho'!AA32 -> 0 | K32: ='MOC-ancho'!AB32 -> 776.76 | L32: =SUM(D32:K32) -> 8020.48
A34: 7. Draft of Vessel (m.) | D34: ='MOC-berth'!AP34 -> 12099.722 | E34: ='MOC-berth'!AQ34 -> 28454.205 | F34: ='MOC-berth'!AR34 -> 3851.645 | G34: ='MOC-berth'!AS34 -> 3171.0375 | H34: ='MOC-ancho'!Y34 -> 26.39 | I34: ='MOC-ancho'!Z34 -> 4.4 | J34: ='MOC-ancho'!AA34 -> 16.35 | K34: ='MOC-ancho'!AB34 -> 306.6475 | L34: =+L35+L36 -> 47930.398
A35: Domestic | D35: ='MOC-berth'!AP35 -> 11336.587 | E35: ='MOC-berth'!AQ35 -> 28454.205 | F35: ='MOC-berth'!AR35 -> 3848.135 | G35: ='MOC-berth'!AS35 -> 1892.405 | H35: ='MOC-ancho'!Y35 -> 18.775 | I35: ='MOC-ancho'!Z35 -> 0 | J35: ='MOC-ancho'!AA35 -> 16.35 | K35: ='MOC-ancho'!AB35 -> 123.24 | L35: =SUM(D35:K35) -> 45689.698
A36: Foreign | D36: ='MOC-berth'!AP36 -> 763.135 | E36: ='MOC-berth'!AQ36 -> 0 | F36: ='MOC-berth'!AR36 -> 3.51 | G36: ='MOC-berth'!AS36 -> 1278.6325 | H36: ='MOC-ancho'!Y36 -> 7.615 | I36: ='MOC-ancho'!Z36 -> 4.4 | J36: ='MOC-ancho'!AA36 -> 0 | K36: ='MOC-ancho'!AB36 -> 183.4075 | L36: =SUM(D36:K36) -> 2240.7
A38: 8. Down/Idle Time (hrs.) | D38: ='MOC-berth'!AP38 -> 27121.745 | E38: ='MOC-berth'!AQ38 -> 80735.056 | F38: ='MOC-berth'!AR38 -> 5610.2833 | G38: ='MOC-berth'!AS38 -> 0 | H38: ='MOC-ancho'!Y38 -> 0 | I38: ='MOC-ancho'!Z38 -> 0 | J38: ='MOC-ancho'!AA38 -> 0 | K38: ='MOC-ancho'!AB38 -> 0 | L38: =+L39+L40 -> 113467.08
A39: Domestic | D39: ='MOC-berth'!AP39 -> 18116.445 | E39: ='MOC-berth'!AQ39 -> 80735.056 | F39: ='MOC-berth'!AR39 -> 5610.2833 | G39: ='MOC-berth'!AS39 -> 0 | H39: ='MOC-ancho'!Y39 -> 0 | I39: ='MOC-ancho'!Z39 -> 0 | J39: ='MOC-ancho'!AA39 -> 0 | K39: ='MOC-ancho'!AB39 -> 0 | L39: =SUM(D39:K39) -> 104461.78
A40: Foreign | D40: ='MOC-berth'!AP40 -> 9005.3 | E40: ='MOC-berth'!AQ40 -> 0 | F40: ='MOC-berth'!AR40 -> 0 | G40: ='MOC-berth'!AS40 -> 0 | H40: ='MOC-ancho'!Y40 -> 0 | I40: ='MOC-ancho'!Z40 -> 0 | J40: ='MOC-ancho'!AA40 -> 0 | K40: ='MOC-ancho'!AB40 -> 0 | L40: =SUM(D40:K40) -> 9005.3
A42: 9. Waiting Time (hrs.) | D42: ='MOC-berth'!AP42 -> 23874.867 | E42: ='MOC-berth'!AQ42 -> 236.33333 | F42: ='MOC-berth'!AR42 -> 3413.6 | G42: ='MOC-berth'!AS42 -> 28024.45 | H42: ='MOC-ancho'!Y42 -> 0 | I42: ='MOC-ancho'!Z42 -> 0 | J42: ='MOC-ancho'!AA42 -> 0 | K42: ='MOC-ancho'!AB42 -> 0 | L42: =+L43+L44 -> 55549.25
A43: Domestic | D43: ='MOC-berth'!AP43 -> 18633.883 | E43: ='MOC-berth'!AQ43 -> 236.33333 | F43: ='MOC-berth'!AR43 -> 3413.6 | G43: ='MOC-berth'!AS43 -> 27305.1 | H43: ='MOC-ancho'!Y43 -> 0 | I43: ='MOC-ancho'!Z43 -> 0 | J43: ='MOC-ancho'!AA43 -> 0 | K43: ='MOC-ancho'!AB43 -> 0 | L43: =SUM(D43:K43) -> 49588.917
A44: Foreign | D44: ='MOC-berth'!AP44 -> 5240.9833 | E44: ='MOC-berth'!AQ44 -> 0 | F44: ='MOC-berth'!AR44 -> 0 | G44: ='MOC-berth'!AS44 -> 719.35 | H44: ='MOC-ancho'!Y44 -> 0 | I44: ='MOC-ancho'!Z44 -> 0 | J44: ='MOC-ancho'!AA44 -> 0 | K44: ='MOC-ancho'!AB44 -> 0 | L44: =SUM(D44:K44) -> 5960.3333
A46: 10. Service Time (hrs.) | D46: ='MOC-berth'!AP46 -> 90907.217 | E46: ='MOC-berth'!AQ46 -> 106851.88 | F46: ='MOC-berth'!AR46 -> 19525.583 | G46: ='MOC-berth'!AS46 -> 122464.03 | H46: ='MOC-ancho'!Y46 -> 519.13333 | I46: ='MOC-ancho'!Z46 -> 10.466667 | J46: ='MOC-ancho'!AA46 -> 855.3 | K46: ='MOC-ancho'!AB46 -> 8434.1667 | L46: =+L47+L48 -> 349567.78
A47: Domestic | D47: ='MOC-berth'!AP47 -> 66057.85 | E47: ='MOC-berth'!AQ47 -> 106851.88 | F47: ='MOC-berth'!AR47 -> 19484.25 | G47: ='MOC-berth'!AS47 -> 106637.3 | H47: ='MOC-ancho'!Y47 -> 423.23333 | I47: ='MOC-ancho'!Z47 -> 0 | J47: ='MOC-ancho'!AA47 -> 855.3 | K47: ='MOC-ancho'!AB47 -> 7339.3333 | L47: =SUM(D47:K47) -> 307649.15
A48: Foreign | D48: ='MOC-berth'!AP48 -> 24849.367 | E48: ='MOC-berth'!AQ48 -> 0 | F48: ='MOC-berth'!AR48 -> 41.333333 | G48: ='MOC-berth'!AS48 -> 15826.733 | H48: ='MOC-ancho'!Y48 -> 95.9 | I48: ='MOC-ancho'!Z48 -> 10.466667 | J48: ='MOC-ancho'!AA48 -> 0 | K48: ='MOC-ancho'!AB48 -> 1094.8333 | L48: =SUM(D48:K48) -> 41918.633
A50: 11. Net Service Time (hrs.) | D50: ='MOC-berth'!AP50 -> 63785.472 | E50: ='MOC-berth'!AQ50 -> 26116.827 | F50: ='MOC-berth'!AR50 -> 13915.3 | G50: ='MOC-berth'!AS50 -> 122464.03 | H50: ='MOC-ancho'!Y50 -> 519.13333 | I50: ='MOC-ancho'!Z50 -> 10.466667 | J50: ='MOC-ancho'!AA50 -> 855.3 | K50: ='MOC-ancho'!AB50 -> 8434.1667 | L50: =+L51+L52 -> 236100.7
A51: Domestic | D51: ='MOC-berth'!AP51 -> 47941.405 | E51: ='MOC-berth'!AQ51 -> 26116.827 | F51: ='MOC-berth'!AR51 -> 13873.967 | G51: ='MOC-berth'!AS51 -> 106637.3 | H51: ='MOC-ancho'!Y51 -> 423.23333 | I51: ='MOC-ancho'!Z51 -> 0 | J51: ='MOC-ancho'!AA51 -> 855.3 | K51: ='MOC-ancho'!AB51 -> 7339.3333 | L51: =SUM(D51:K51) -> 203187.37
A52: Foreign | D52: ='MOC-berth'!AP52 -> 15844.067 | E52: ='MOC-berth'!AQ52 -> 0 | F52: ='MOC-berth'!AR52 -> 41.333333 | G52: ='MOC-berth'!AS52 -> 15826.733 | H52: ='MOC-ancho'!Y52 -> 95.9 | I52: ='MOC-ancho'!Z52 -> 10.466667 | J52: ='MOC-ancho'!AA52 -> 0 | K52: ='MOC-ancho'!AB52 -> 1094.8333 | L52: =SUM(D52:K52) -> 32913.333
A54: 12. Total Dwell Time in Port (hrs.) | D54: ='MOC-berth'!AP54 -> 114782.08 | E54: ='MOC-berth'!AQ54 -> 107088.22 | F54: ='MOC-berth'!AR54 -> 22939.183 | G54: ='MOC-berth'!AS54 -> 150488.48 | H54: ='MOC-ancho'!Y54 -> 519.13333 | I54: ='MOC-ancho'!Z54 -> 10.466667 | J54: ='MOC-ancho'!AA54 -> 855.3 | K54: ='MOC-ancho'!AB54 -> 8434.1667 | L54: =+L55+L56 -> 405117.03
A55: Domestic | D55: ='MOC-berth'!AP55 -> 84691.733 | E55: ='MOC-berth'!AQ55 -> 107088.22 | F55: ='MOC-berth'!AR55 -> 22897.85 | G55: ='MOC-berth'!AS55 -> 133942.4 | H55: ='MOC-ancho'!Y55 -> 423.23333 | I55: ='MOC-ancho'!Z55 -> 0 | J55: ='MOC-ancho'!AA55 -> 855.3 | K55: ='MOC-ancho'!AB55 -> 7339.3333 | L55: =SUM(D55:K55) -> 357238.07
A56: Foreign | D56: ='MOC-berth'!AP56 -> 30090.35 | E56: ='MOC-berth'!AQ56 -> 0 | F56: ='MOC-berth'!AR56 -> 41.333333 | G56: ='MOC-berth'!AS56 -> 16546.083 | H56: ='MOC-ancho'!Y56 -> 95.9 | I56: ='MOC-ancho'!Z56 -> 10.466667 | J56: ='MOC-ancho'!AA56 -> 0 | K56: ='MOC-ancho'!AB56 -> 1094.8333 | L56: =SUM(D56:K56) -> 47878.967
A58: B . CARGO AND PASSENGER
A60: 1. Total Cargo Throughput (m.t.) | D60: ='MOC-berth'!AP60 -> 7228640.8 | E60: ='MOC-berth'!AQ60 -> 14772.05 | F60: ='MOC-berth'!AR60 -> 75782.26 | G60: ='MOC-berth'!AS60 -> 2034258.8 | H60: ='MOC-ancho'!Y60 -> 0 | I60: ='MOC-ancho'!Z60 -> 0 | J60: ='MOC-ancho'!AA60 -> 680 | K60: ='MOC-ancho'!AB60 -> 187005.85 | L60: =+L62+L80 -> 9541139.8
A62: a. Domestic | D62: ='MOC-berth'!AP62 -> 5754966.4 | E62: ='MOC-berth'!AQ62 -> 14772.05 | F62: ='MOC-berth'!AR62 -> 75782.26 | G62: ='MOC-berth'!AS62 -> 756870.48 | H62: ='MOC-ancho'!Y62 -> 0 | I62: ='MOC-ancho'!Z62 -> 0 | J62: ='MOC-ancho'!AA62 -> 680 | K62: ='MOC-ancho'!AB62 -> 48687.444 | L62: =+L64+L72 -> 6651758.7
A64: Inbound | D64: ='MOC-berth'!AP64 -> 3236747.5 | E64: ='MOC-berth'!AQ64 -> 6255.84 | F64: ='MOC-berth'!AR64 -> 35051.76 | G64: ='MOC-berth'!AS64 -> 381682.1 | H64: ='MOC-ancho'!Y64 -> 0 | I64: ='MOC-ancho'!Z64 -> 0 | J64: ='MOC-ancho'!AA64 -> 680 | K64: ='MOC-ancho'!AB64 -> 41568.596 | L64: =SUM(L65:L70) -> 3701985.8
A65: Breakbulk | D65: ='MOC-berth'!AP65 -> 515661.5 | E65: ='MOC-berth'!AQ65 -> 6255.84 | F65: ='MOC-berth'!AR65 -> 28601.76 | G65: ='MOC-berth'!AS65 -> 50121.067 | H65: ='MOC-ancho'!Y65 -> 0 | I65: ='MOC-ancho'!Z65 -> 0 | J65: ='MOC-ancho'!AA65 -> 0 | K65: ='MOC-ancho'!AB65 -> 0 | L65: =SUM(D65:K65) -> 600640.17
A66: Liquid Bulk | D66: ='MOC-berth'!AP66 -> 116393.41 | E66: ='MOC-berth'!AQ66 -> 0 | F66: ='MOC-berth'!AR66 -> 1250 | G66: ='MOC-berth'!AS66 -> 31868.786 | H66: ='MOC-ancho'!Y66 -> 0 | I66: ='MOC-ancho'!Z66 -> 0 | J66: ='MOC-ancho'!AA66 -> 680 | K66: ='MOC-ancho'!AB66 -> 37775.196 | L66: =SUM(D66:K66) -> 187967.39
A67: Dry Bulk | D67: ='MOC-berth'!AP67 -> 3294.45 | E67: ='MOC-berth'!AQ67 -> 0 | F67: ='MOC-berth'!AR67 -> 5200 | G67: ='MOC-berth'!AS67 -> 289702.25 | H67: ='MOC-ancho'!Y67 -> 0 | I67: ='MOC-ancho'!Z67 -> 0 | J67: ='MOC-ancho'!AA67 -> 0 | K67: ='MOC-ancho'!AB67 -> 3793.4 | L67: =SUM(D67:K67) -> 301990.1
A68: Containerized | D68: ='MOC-berth'!AP68 -> 2601398.1 | E68: ='MOC-berth'!AQ68 -> 0 | F68: ='MOC-berth'!AR68 -> 0 | G68: ='MOC-berth'!AS68 -> 9990 | H68: ='MOC-ancho'!Y68 -> 0 | I68: ='MOC-ancho'!Z68 -> 0 | J68: ='MOC-ancho'!AA68 -> 0 | K68: ='MOC-ancho'!AB68 -> 0 | L68: =SUM(D68:K68) -> 2611388.1
A69: Transit Cargo | D69: ='MOC-berth'!AP69 -> 0 | E69: ='MOC-berth'!AQ69 -> 0 | F69: ='MOC-berth'!AR69 -> 0 | G69: ='MOC-berth'!AS69 -> 0 | H69: ='MOC-ancho'!Y69 -> 0 | I69: ='MOC-ancho'!Z69 -> 0 | J69: ='MOC-ancho'!AA69 -> 0 | K69: ='MOC-ancho'!AB69 -> 0 | L69: =SUM(D69:K69) -> 0
A70: Transhipment | D70: ='MOC-berth'!AP70 -> 0 | E70: ='MOC-berth'!AQ70 -> 0 | F70: ='MOC-berth'!AR70 -> 0 | G70: ='MOC-berth'!AS70 -> 0 | H70: ='MOC-ancho'!Y70 -> 0 | I70: ='MOC-ancho'!Z70 -> 0 | J70: ='MOC-ancho'!AA70 -> 0 | K70: ='MOC-ancho'!AB70 -> 0 | L70: =SUM(D70:K70) -> 0
A72: Outbound | D72: ='MOC-berth'!AP72 -> 2518218.9 | E72: ='MOC-berth'!AQ72 -> 8516.21 | F72: ='MOC-berth'!AR72 -> 40730.5 | G72: ='MOC-berth'!AS72 -> 375188.38 | H72: ='MOC-ancho'!Y72 -> 0 | I72: ='MOC-ancho'!Z72 -> 0 | J72: ='MOC-ancho'!AA72 -> 0 | K72: ='MOC-ancho'!AB72 -> 7118.848 | L72: =SUM(L73:L78) -> 2949772.9
A73: Breakbulk | D73: ='MOC-berth'!AP73 -> 354507.39 | E73: ='MOC-berth'!AQ73 -> 8516.21 | F73: ='MOC-berth'!AR73 -> 12349.72 | G73: ='MOC-berth'!AS73 -> 316699.18 | H73: ='MOC-ancho'!Y73 -> 0 | I73: ='MOC-ancho'!Z73 -> 0 | J73: ='MOC-ancho'!AA73 -> 0 | K73: ='MOC-ancho'!AB73 -> 50 | L73: =SUM(D73:K73) -> 692122.5
A74: Liquid Bulk | D74: ='MOC-berth'!AP74 -> 526756.54 | E74: ='MOC-berth'!AQ74 -> 0 | F74: ='MOC-berth'!AR74 -> 7920 | G74: ='MOC-berth'!AS74 -> 21045.765 | H74: ='MOC-ancho'!Y74 -> 0 | I74: ='MOC-ancho'!Z74 -> 0 | J74: ='MOC-ancho'!AA74 -> 0 | K74: ='MOC-ancho'!AB74 -> 7068.848 | L74: =SUM(D74:K74) -> 562791.16
A75: Dry Bulk | D75: ='MOC-berth'!AP75 -> 10250 | E75: ='MOC-berth'!AQ75 -> 0 | F75: ='MOC-berth'!AR75 -> 20460.78 | G75: ='MOC-berth'!AS75 -> 26571.439 | H75: ='MOC-ancho'!Y75 -> 0 | I75: ='MOC-ancho'!Z75 -> 0 | J75: ='MOC-ancho'!AA75 -> 0 | K75: ='MOC-ancho'!AB75 -> 0 | L75: =SUM(D75:K75) -> 57282.219
A76: Containerized Cargo | D76: ='MOC-berth'!AP76 -> 1626705 | E76: ='MOC-berth'!AQ76 -> 0 | F76: ='MOC-berth'!AR76 -> 0 | G76: ='MOC-berth'!AS76 -> 10872 | H76: ='MOC-ancho'!Y76 -> 0 | I76: ='MOC-ancho'!Z76 -> 0 | J76: ='MOC-ancho'!AA76 -> 0 | K76: ='MOC-ancho'!AB76 -> 0 | L76: =SUM(D76:K76) -> 1637577
A77: Transit Cargo | D77: ='MOC-berth'!AP77 -> 0 | E77: ='MOC-berth'!AQ77 -> 0 | F77: ='MOC-berth'!AR77 -> 0 | G77: ='MOC-berth'!AS77 -> 0 | H77: ='MOC-ancho'!Y77 -> 0 | I77: ='MOC-ancho'!Z77 -> 0 | J77: ='MOC-ancho'!AA77 -> 0 | K77: ='MOC-ancho'!AB77 -> 0 | L77: =SUM(D77:K77) -> 0
A78: Transhipment | D78: ='MOC-berth'!AP78 -> 0 | E78: ='MOC-berth'!AQ78 -> 0 | F78: ='MOC-berth'!AR78 -> 0 | G78: ='MOC-berth'!AS78 -> 0 | H78: ='MOC-ancho'!Y78 -> 0 | I78: ='MOC-ancho'!Z78 -> 0 | J78: ='MOC-ancho'!AA78 -> 0 | K78: ='MOC-ancho'!AB78 -> 0 | L78: =SUM(D78:K78) -> 0
A80: b. Foreign | D80: ='MOC-berth'!AP80 -> 1473674.4 | E80: ='MOC-berth'!AQ80 -> 0 | F80: ='MOC-berth'!AR80 -> 0 | G80: ='MOC-berth'!AS80 -> 1277388.3 | H80: ='MOC-ancho'!Y80 -> 0 | I80: ='MOC-ancho'!Z80 -> 0 | J80: ='MOC-ancho'!AA80 -> 0 | K80: ='MOC-ancho'!AB80 -> 138318.4 | L80: =+L82+L90 -> 2889381.1
A82: Import | D82: ='MOC-berth'!AP82 -> 1466439.6 | E82: ='MOC-berth'!AQ82 -> 0 | F82: ='MOC-berth'!AR82 -> 0 | G82: ='MOC-berth'!AS82 -> 1113209.2 | H82: ='MOC-ancho'!Y82 -> 0 | I82: ='MOC-ancho'!Z82 -> 0 | J82: ='MOC-ancho'!AA82 -> 0 | K82: ='MOC-ancho'!AB82 -> 138318.4 | L82: =SUM(L83:L88) -> 2717967.2
A83: Breakbulk | D83: ='MOC-berth'!AP83 -> 648162.88 | E83: ='MOC-berth'!AQ83 -> 0 | F83: ='MOC-berth'!AR83 -> 0 | G83: ='MOC-berth'!AS83 -> 61296.378 | H83: ='MOC-ancho'!Y83 -> 0 | I83: ='MOC-ancho'!Z83 -> 0 | J83: ='MOC-ancho'!AA83 -> 0 | K83: ='MOC-ancho'!AB83 -> 0 | L83: =SUM(D83:K83) -> 709459.26
A84: Liquid Bulk | D84: ='MOC-berth'!AP84 -> 419266.83 | E84: ='MOC-berth'!AQ84 -> 0 | F84: ='MOC-berth'!AR84 -> 0 | G84: ='MOC-berth'!AS84 -> 422839.11 | H84: ='MOC-ancho'!Y84 -> 0 | I84: ='MOC-ancho'!Z84 -> 0 | J84: ='MOC-ancho'!AA84 -> 0 | K84: ='MOC-ancho'!AB84 -> 138318.4 | L84: =SUM(D84:K84) -> 980424.35
A85: Dry Bulk | D85: ='MOC-berth'!AP85 -> 391197.88 | E85: ='MOC-berth'!AQ85 -> 0 | F85: ='MOC-berth'!AR85 -> 0 | G85: ='MOC-berth'!AS85 -> 629073.68 | H85: ='MOC-ancho'!Y85 -> 0 | I85: ='MOC-ancho'!Z85 -> 0 | J85: ='MOC-ancho'!AA85 -> 0 | K85: ='MOC-ancho'!AB85 -> 0 | L85: =SUM(D85:K85) -> 1020271.6
A86: Containerized Cargo | D86: ='MOC-berth'!AP86 -> 7812 | E86: ='MOC-berth'!AQ86 -> 0 | F86: ='MOC-berth'!AR86 -> 0 | G86: ='MOC-berth'!AS86 -> 0 | H86: ='MOC-ancho'!Y86 -> 0 | I86: ='MOC-ancho'!Z86 -> 0 | J86: ='MOC-ancho'!AA86 -> 0 | K86: ='MOC-ancho'!AB86 -> 0 | L86: =SUM(D86:K86) -> 7812
A87: Transit Cargo | D87: ='MOC-berth'!AP87 -> 0 | E87: ='MOC-berth'!AQ87 -> 0 | F87: ='MOC-berth'!AR87 -> 0 | G87: ='MOC-berth'!AS87 -> 0 | H87: ='MOC-ancho'!Y87 -> 0 | I87: ='MOC-ancho'!Z87 -> 0 | J87: ='MOC-ancho'!AA87 -> 0 | K87: ='MOC-ancho'!AB87 -> 0 | L87: =SUM(D87:K87) -> 0
A88: Transhipment | D88: ='MOC-berth'!AP88 -> 0 | E88: ='MOC-berth'!AQ88 -> 0 | F88: ='MOC-berth'!AR88 -> 0 | G88: ='MOC-berth'!AS88 -> 0 | H88: ='MOC-ancho'!Y88 -> 0 | I88: ='MOC-ancho'!Z88 -> 0 | J88: ='MOC-ancho'!AA88 -> 0 | K88: ='MOC-ancho'!AB88 -> 0 | L88: =SUM(D88:K88) -> 0
A90: Export | D90: ='MOC-berth'!AP90 -> 7234.8 | E90: ='MOC-berth'!AQ90 -> 0 | F90: ='MOC-berth'!AR90 -> 0 | G90: ='MOC-berth'!AS90 -> 164179.14 | H90: ='MOC-ancho'!Y90 -> 0 | I90: ='MOC-ancho'!Z90 -> 0 | J90: ='MOC-ancho'!AA90 -> 0 | K90: ='MOC-ancho'!AB90 -> 0 | L90: =SUM(L91:L96) -> 171413.94
A91: Breakbulk | D91: ='MOC-berth'!AP91 -> 4354.8 | E91: ='MOC-berth'!AQ91 -> 0 | F91: ='MOC-berth'!AR91 -> 0 | G91: ='MOC-berth'!AS91 -> 2938 | H91: ='MOC-ancho'!Y91 -> 0 | I91: ='MOC-ancho'!Z91 -> 0 | J91: ='MOC-ancho'!AA91 -> 0 | K91: ='MOC-ancho'!AB91 -> 0 | L91: =SUM(D91:K91) -> 7292.8
A92: Liquid Bulk | D92: ='MOC-berth'!AP92 -> 0 | E92: ='MOC-berth'!AQ92 -> 0 | F92: ='MOC-berth'!AR92 -> 0 | G92: ='MOC-berth'!AS92 -> 146541.14 | H92: ='MOC-ancho'!Y92 -> 0 | I92: ='MOC-ancho'!Z92 -> 0 | J92: ='MOC-ancho'!AA92 -> 0 | K92: ='MOC-ancho'!AB92 -> 0 | L92: =SUM(D92:K92) -> 146541.14
A93: Dry Bulk | D93: ='MOC-berth'!AP93 -> 0 | E93: ='MOC-berth'!AQ93 -> 0 | F93: ='MOC-berth'!AR93 -> 0 | G93: ='MOC-berth'!AS93 -> 14700 | H93: ='MOC-ancho'!Y93 -> 0 | I93: ='MOC-ancho'!Z93 -> 0 | J93: ='MOC-ancho'!AA93 -> 0 | K93: ='MOC-ancho'!AB93 -> 0 | L93: =SUM(D93:K93) -> 14700
A94: Containerized Cargo | D94: ='MOC-berth'!AP94 -> 2880 | E94: ='MOC-berth'!AQ94 -> 0 | F94: ='MOC-berth'!AR94 -> 0 | G94: ='MOC-berth'!AS94 -> 0 | H94: ='MOC-ancho'!Y94 -> 0 | I94: ='MOC-ancho'!Z94 -> 0 | J94: ='MOC-ancho'!AA94 -> 0 | K94: ='MOC-ancho'!AB94 -> 0 | L94: =SUM(D94:K94) -> 2880
A95: Transit Cargo | D95: ='MOC-berth'!AP95 -> 0 | E95: ='MOC-berth'!AQ95 -> 0 | F95: ='MOC-berth'!AR95 -> 0 | G95: ='MOC-berth'!AS95 -> 0 | H95: ='MOC-ancho'!Y95 -> 0 | I95: ='MOC-ancho'!Z95 -> 0 | J95: ='MOC-ancho'!AA95 -> 0 | K95: ='MOC-ancho'!AB95 -> 0 | L95: =SUM(D95:K95) -> 0
A96: Transhipment | D96: ='MOC-berth'!AP96 -> 0 | E96: ='MOC-berth'!AQ96 -> 0 | F96: ='MOC-berth'!AR96 -> 0 | G96: ='MOC-berth'!AS96 -> 0 | H96: ='MOC-ancho'!Y96 -> 0 | I96: ='MOC-ancho'!Z96 -> 0 | J96: ='MOC-ancho'!AA96 -> 0 | K96: ='MOC-ancho'!AB96 -> 0 | L96: =SUM(D96:K96) -> 0
A98: 2. Total Passengers | D98: ='MOC-berth'!AP98 -> 978176 | E98: ='MOC-berth'!AQ98 -> 1618222 | F98: ='MOC-berth'!AR98 -> 90666 | G98: ='MOC-berth'!AS98 -> 0 | H98: ='MOC-ancho'!Y98 -> 0 | I98: ='MOC-ancho'!Z98 -> 180 | J98: ='MOC-ancho'!AA98 -> 0 | K98: ='MOC-ancho'!AB98 -> 0 | L98: =+L99+L104 -> 2687244
A99: Domestic | B99: Disembarked | D99: ='MOC-berth'!AP99 -> 498775 | E99: ='MOC-berth'!AQ99 -> 817046 | F99: ='MOC-berth'!AR99 -> 43257 | G99: ='MOC-berth'!AS99 -> 0 | H99: ='MOC-ancho'!Y99 -> 0 | I99: ='MOC-ancho'!Z99 -> 90 | J99: ='MOC-ancho'!AA99 -> 0 | K99: ='MOC-ancho'!AB99 -> 0 | L99: =SUM(L100:L102) -> 1359168
A100: a. Domestic | D100: ='MOC-berth'!AP100 -> 498775 | E100: ='MOC-berth'!AQ100 -> 817046 | F100: ='MOC-berth'!AR100 -> 43257 | G100: ='MOC-berth'!AS100 -> 0 | H100: ='MOC-ancho'!Y100 -> 0 | I100: ='MOC-ancho'!Z100 -> 0 | J100: ='MOC-ancho'!AA100 -> 0 | K100: ='MOC-ancho'!AB100 -> 0 | L100: =SUM(D100:K100) -> 1359078
A101: b. Foreign | D101: ='MOC-berth'!AP101 -> 0 | E101: ='MOC-berth'!AQ101 -> 0 | F101: ='MOC-berth'!AR101 -> 0 | G101: ='MOC-berth'!AS101 -> 0 | H101: ='MOC-ancho'!Y101 -> 0 | I101: ='MOC-ancho'!Z101 -> 0 | J101: ='MOC-ancho'!AA101 -> 0 | K101: ='MOC-ancho'!AB101 -> 0 | L101: =SUM(D101:K101) -> 0
A102: c. Cruise Passengers | D102: ='MOC-berth'!AP102 -> 0 | E102: ='MOC-berth'!AQ102 -> 0 | F102: ='MOC-berth'!AR102 -> 0 | G102: ='MOC-berth'!AS102 -> 0 | H102: ='MOC-ancho'!Y102 -> 0 | I102: ='MOC-ancho'!Z102 -> 90 | J102: ='MOC-ancho'!AA102 -> 0 | K102: ='MOC-ancho'!AB102 -> 0 | L102: =SUM(D102:K102) -> 90
A104: Foreign | B104: Embarked | D104: ='MOC-berth'!AP104 -> 479401 | E104: ='MOC-berth'!AQ104 -> 801176 | F104: ='MOC-berth'!AR104 -> 47409 | G104: ='MOC-berth'!AS104 -> 0 | H104: ='MOC-ancho'!Y104 -> 0 | I104: ='MOC-ancho'!Z104 -> 90 | J104: ='MOC-ancho'!AA104 -> 0 | K104: ='MOC-ancho'!AB104 -> 0 | L104: =SUM(L105:L107) -> 1328076
A105: a. Domestic | D105: ='MOC-berth'!AP105 -> 479401 | E105: ='MOC-berth'!AQ105 -> 801176 | F105: ='MOC-berth'!AR105 -> 47409 | G105: ='MOC-berth'!AS105 -> 0 | H105: ='MOC-ancho'!Y105 -> 0 | I105: ='MOC-ancho'!Z105 -> 0 | J105: ='MOC-ancho'!AA105 -> 0 | K105: ='MOC-ancho'!AB105 -> 0 | L105: =SUM(D105:K105) -> 1327986
A106: b. Foreign | D106: ='MOC-berth'!AP106 -> 0 | E106: ='MOC-berth'!AQ106 -> 0 | F106: ='MOC-berth'!AR106 -> 0 | G106: ='MOC-berth'!AS106 -> 0 | H106: ='MOC-ancho'!Y106 -> 0 | I106: ='MOC-ancho'!Z106 -> 0 | J106: ='MOC-ancho'!AA106 -> 0 | K106: ='MOC-ancho'!AB106 -> 0 | L106: =SUM(D106:K106) -> 0
A107: c. Cruise Passengers | D107: ='MOC-berth'!AP107 -> 0 | E107: ='MOC-berth'!AQ107 -> 0 | F107: ='MOC-berth'!AR107 -> 0 | G107: ='MOC-berth'!AS107 -> 0 | H107: ='MOC-ancho'!Y107 -> 0 | I107: ='MOC-ancho'!Z107 -> 90 | J107: ='MOC-ancho'!AA107 -> 0 | K107: ='MOC-ancho'!AB107 -> 0 | L107: =SUM(D107:K107) -> 90

Sheet MOC-berth
A1: SHIPPING, CARGO & PASSENGER STATISTICS
A2: ='MOC-SUMMARY'!$A$2 -> PMO : Misamis Oriental/Cagayan de Oro
A3: AT BERTH ONLY
A4: 2025
A6: PARTICULARS | D6: BP | E6: BP | F6: BP | G6: TP | H6: TP | I6: TP | J6: TP | K6: TP | L6: GP | M6: GP | N6: GP | O6: GP | P6: GP | Q6: GP | R6: GP | S6: PP | T6: PP | U6: PP | V6: PP | W6: PP | X6: PP | Y6: PP | Z6: PP | AA6: PP | AB6: PP | AC6: PP | AD6: PP | AE6: PP | AF6: PP | AG6: PP | AH6: PP | AI6: PP | AJ6: PP | AK6: PP | AL6: PP | AM6: GRAND TOTAL
D7: Cagayan de Oro | E7: Cagayan de Oro Ro-Ro | F7: TOTAL | G7: Balingoan | H7: Balingoan Ro-Ro | I7: Benoni Ro-Ro | J7: Opol | K7: TOTAL | L7: Balbagon | M7: Balbagon Ro-Ro | N7: Guinsiliban Ro-Ro | O7: LGU Opol | P7: Maanas Wharf | Q7: PPA Jasaan Port | R7: TOTAL | S7: AMADI | T7: CCPC | U7: CDO Oil | V7: CAGLI | W7: Del Monte | X7: Felcor | Y7: GMC | Z7: Holcim | AA7: Minergy | AB7: PKI | AC7: MLS | AD7: Phil Coco | AE7: PICMW | AF7: PMI | AG7: Pryce - Balingasag | AH7: Pryce - Calangahan | AI7: Resins | AJ7: SMC | AK7: Wilmar | AL7: TOTAL | AP7: BP | AQ7: TP | AR7: GP | AS7: PP | AU7: GRAND TOTAL
A8: A. SHIPPING
A10: 1. Number of vessels | D10: 1227 | E10: 1423 | F10: =F11+F12 -> 2650 | G10: 3 | H10: 6501 | I10: 5614 | J10: 17 | K10: =K11+K12 -> 12135 | L10: 19 | M10: 660 | N10: 627 | O10: 11 | P10: 3 | Q10: 45 | R10: =R11+R12 -> 1365 | S10: 14 | T10: 31 | U10: 34 | V10: 84 | W10: 11 | X10: 3 | Y10: 34 | Z10: 254 | AA10: 18 | AB10: 76 | AC10: 2 | AD10: 19 | AE10: 12 | AF10: 18 | AG10: 5 | AH10: 7 | AI10: 18 | AJ10: 6 | AK10: 183 | AL10: =AL11+AL12 -> 829 | AM10: =+AM11+AM12 -> 16979 | AP10: =F10 -> 2650 | AQ10: =K10 -> 12135 | AR10: =R10 -> 1365 | AS10: =AL10 -> 829 | AU10: =+AU11+AU12 -> 16979
A11: Domestic | D11: 1098 | E11: 1423 | F11: =SUM(D11:E11) -> 2521 | G11: 3 | H11: 6501 | I11: 5614 | J11: 17 | K11: =SUM(G11:J11) -> 12135 | L11: 19 | M11: 660 | N11: 627 | O11: 11 | P11: 3 | Q11: 43 | R11: =SUM(L11:Q11) -> 1363 | S11: 6 | T11: 15 | U11: 5 | V11: 84 | W11: 0 | X11: 0 | Y11: 34 | Z11: 241 | AA11: 9 | AB11: 11 | AC11: 2 | AD11: 16 | AE11: 12 | AF11: 18 | AG11: 0 | AH11: 0 | AI11: 11 | AJ11: 6 | AK11: 146 | AL11: =SUM(S11:AK11) -> 616 | AM11: =F11+K11+R11+AL11 -> 16635 | AP11: =F11 -> 2521 | AQ11: =K11 -> 12135 | AR11: =R11 -> 1363 | AS11: =AL11 -> 616 | AU11: =SUM(AP11:AT11) -> 16635
A12: Foreign | D12: 129 | E12: 0 | F12: =SUM(D12:E12) -> 129 | G12: 0 | H12: 0 | I12: 0 | J12: 0 | K12: =SUM(G12:J12) -> 0 | L12: 0 | M12: 0 | N12: 0 | O12: 0 | P12: 0 | Q12: 2 | R12: =SUM(L12:Q12) -> 2 | S12: 8 | T12: 16 | U12: 29 | V12: 0 | W12: 11 | X12: 3 | Y12: 0 | Z12: 13 | AA12: 9 | AB12: 65 | AC12: 0 | AD12: 3 | AE12: 0 | AF12: 0 | AG12: 5 | AH12: 7 | AI12: 7 | AJ12: 0 | AK12: 37 | AL12: =SUM(S12:AK12) -> 213 | AM12: =F12+K12+R12+AL12 -> 344 | AP12: =F12 -> 129 | AQ12: =K12 -> 0 | AR12: =R12 -> 2 | AS12: =AL12 -> 213 | AU12: =SUM(AP12:AT12) -> 344
A14: 2. Gross Tonnage | D14: 6199612.3 | E14: 9909694.9 | F14: =F15+F16 -> 16109307 | G14: 1163.24 | H14: 2744964.4 | I14: 2101974.5 | J14: 8499.11 | K14: =K15+K16 -> 4856601.3 | L14: 8641.38 | M14: 184635.65 | N14: 571445 | O14: 23806.5 | P14: 2486 | Q14: 40378.73 | R14: =R15+R16 -> 831393.26 | S14: 73469.9 | T14: 118577.92 | U14: 303616 | V14: 195852.25 | W14: 86053 | X14: 64653 | Y14: 26841.65 | Z14: 362941.42 | AA14: 253437 | AB14: 588501.44 | AC14: 4639 | AD14: 14897.84 | AE14: 6543.93 | AF14: 22838.82 | AG14: 31633 | AH14: 42437 | AI14: 48554 | AJ14: 4653.54 | AK14: 461915.3 | AL14: =AL15+AL16 -> 2712056 | AM14: =+AM15+AM16 -> 24509358 | AP14: =F14 -> 16109307 | AQ14: =K14 -> 4856601.3 | AR14: =R14 -> 831393.26 | AS14: =AL14 -> 2712056 | AU14: =+AU15+AU16 -> 24509358
A15: Domestic | D15: 4701609.7 | E15: 9909694.9 | F15: =SUM(D15:E15) -> 14611305 | G15: 1163.24 | H15: 2744964.4 | I15: 2101974.5 | J15: 8499.11 | K15: =SUM(G15:J15) -> 4856601.3 | L15: 8641.38 | M15: 184635.65 | N15: 571445 | O15: 23806.5 | P15: 2486 | Q15: 40166.73 | R15: =SUM(L15:Q15) -> 831181.26 | S15: 3789.9 | T15: 11809.92 | U15: 3659 | V15: 195852.25 | W15: 0 | X15: 0 | Y15: 26841.65 | Z15: 124546.42 | AA15: 58949 | AB15: 26441.44 | AC15: 4639 | AD15: 9207.84 | AE15: 6543.93 | AF15: 22838.82 | AG15: 0 | AH15: 0 | AI15: 6368 | AJ15: 4653.54 | AK15: 82897.3 | AL15: =SUM(S15:AK15) -> 589038.01 | AM15: =F15+K15+R15+AL15 -> 20888125 | AP15: =F15 -> 14611305 | AQ15: =K15 -> 4856601.3 | AR15: =R15 -> 831181.26 | AS15: =AL15 -> 589038.01 | AU15: =SUM(AP15:AT15) -> 20888125
A16: Foreign | D16: 1498002.6 | E16: 0 | F16: =SUM(D16:E16) -> 1498002.6 | G16: 0 | H16: 0 | I16: 0 | J16: 0 | K16: =SUM(G16:J16) -> 0 | L16: 0 | M16: 0 | N16: 0 | O16: 0 | P16: 0 | Q16: 212 | R16: =SUM(L16:Q16) -> 212 | S16: 69680 | T16: 106768 | U16: 299957 | V16: 0 | W16: 86053 | X16: 64653 | Y16: 0 | Z16: 238395 | AA16: 194488 | AB16: 562060 | AC16: 0 | AD16: 5690 | AE16: 0 | AF16: 0 | AG16: 31633 | AH16: 42437 | AI16: 42186 | AJ16: 0 | AK16: 379018 | AL16: =SUM(S16:AK16) -> 2123018 | AM16: =F16+K16+R16+AL16 -> 3621232.6 | AP16: =F16 -> 1498002.6 | AQ16: =K16 -> 0 | AR16: =R16 -> 212 | AS16: =AL16 -> 2123018 | AU16: =SUM(AP16:AT16) -> 3621232.6
A18: 3. Net Tonnage | D18: 3194579 | E18: 4278793 | F18: =F19+F20 -> 7473372 | G18: 709.97 | H18: 1109035.3 | I18: 933483.74 | J18: 5178.82 | K18: =K19+K20 -> 2048407.8 | L18: 5218.15 | M18: 75760.64 | N18: 184788.9 | O18: 13448.94 | P18: 1733 | Q18: 24590.86 | R18: =R19+R20 -> 305540.49 | S18: 43104.08 | T18: 58651.78 | U18: 170525 | V18: 76334.52 | W18: 31009 | X18: 26772 | Y18: 15446.89 | Z18: 207317.42 | AA18: 143378 | AB18: 279639.51 | AC18: 2597 | AD18: 8475.75 | AE18: 2711.31 | AF18: 13267.92 | AG18: 10452 | AH18: 14538 | AI18: 24765 | AJ18: 4429.89 | AK18: 237616.95 | AL18: =AL19+AL20 -> 1371032 | AM18: =+AM19+AM20 -> 11198352 | AP18: =F18 -> 7473372 | AQ18: =K18 -> 2048407.8 | AR18: =R18 -> 305540.49 | AS18: =AL18 -> 1371032 | AU18: =+AU19+AU20 -> 11198352
A19: Domestic | D19: 2427866.2 | E19: 4278793 | F19: =SUM(D19:E19) -> 6706659.1 | G19: 709.97 | H19: 1109035.3 | I19: 933483.74 | J19: 5178.82 | K19: =SUM(G19:J19) -> 2048407.8 | L19: 5218.15 | M19: 75760.64 | N19: 184788.9 | O19: 13448.94 | P19: 1733 | Q19: 24503.86 | R19: =SUM(L19:Q19) -> 305453.49 | S19: 2590.08 | T19: 7239.78 | U19: 2066 | V19: 76334.52 | W19: 0 | X19: 0 | Y19: 15446.89 | Z19: 76006.42 | AA19: 36660 | AB19: 12985.51 | AC19: 2597 | AD19: 6317.75 | AE19: 2711.31 | AF19: 13267.92 | AG19: 0 | AH19: 0 | AI19: 4118 | AJ19: 4429.89 | AK19: 50927.95 | AL19: =SUM(S19:AK19) -> 313699.02 | AM19: =F19+K19+R19+AL19 -> 9374219.4 | AP19: =F19 -> 6706659.1 | AQ19: =K19 -> 2048407.8 | AR19: =R19 -> 305453.49 | AS19: =AL19 -> 313699.02 | AU19: =SUM(AP19:AT19) -> 9374219.4
A20: Foreign | D20: 766712.84 | E20: 0 | F20: =SUM(D20:E20) -> 766712.84 | G20: 0 | H20: 0 | I20: 0 | J20: 0 | K20: =SUM(G20:J20) -> 0 | L20: 0 | M20: 0 | N20: 0 | O20: 0 | P20: 0 | Q20: 87 | R20: =SUM(L20:Q20) -> 87 | S20: 40514 | T20: 51412 | U20: 168459 | V20: 0 | W20: 31009 | X20: 26772 | Y20: 0 | Z20: 131311 | AA20: 106718 | AB20: 266654 | AC20: 0 | AD20: 2158 | AE20: 0 | AF20: 0 | AG20: 10452 | AH20: 14538 | AI20: 20647 | AJ20: 0 | AK20: 186689 | AL20: =SUM(S20:AK20) -> 1057333 | AM20: =F20+K20+R20+AL20 -> 1824132.8 | AP20: =F20 -> 766712.84 | AQ20: =K20 -> 0 | AR20: =R20 -> 87 | AS20: =AL20 -> 1057333 | AU20: =SUM(AP20:AT20) -> 1824132.8
A22: 4. Deadweight Tonnage | D22: 8307289.2 | E22: 3970208.4 | F22: =F23+F24 -> 12277498 | G22: 2058 | H22: 3547409.1 | I22: 3379809.7 | J22: 13058.961 | K22: =K23+K24 -> 6942335.8 | L22: 21386.13 | M22: 302049.57 | N22: 942884.25 | O22: 42428.53 | P22: 5334.4 | Q22: 63216.793 | R22: =R23+R24 -> 1377299.7 | S22: 125713.81 | T22: 190948.14 | U22: 512220.73 | V22: 217677.35 | W22: 100889 | X22: 99892 | Y22: 65535.84 | Z22: 659514.39 | AA22: 400133.2 | AB22: 919643.84 | AC22: 7654.35 | AD22: 23211.42 | AE22: 11261.34 | AF22: 37474.613 | AG22: 33432 | AH22: 46121.52 | AI22: 73283.83 | AJ22: 6490 | AK22: 770515.25 | AL22: =AL23+AL24 -> 4301612.6 | AM22: =+AM23+AM24 -> 24898746 | AP22: =F22 -> 12277498 | AQ22: =K22 -> 6942335.8 | AR22: =R22 -> 1377299.7 | AS22: =AL22 -> 4301612.6 | AU22: =+AU23+AU24 -> 24898746
A23: Domestic | D23: 5929587 | E23: 3970208.4 | F23: =SUM(D23:E23) -> 9899795.4 | G23: 2058 | H23: 3547409.1 | I23: 3379809.7 | J23: 13058.961 | K23: =SUM(G23:J23) -> 6942335.8 | L23: 21386.13 | M23: 302049.57 | N23: 942884.25 | O23: 42428.53 | P23: 5334.4 | Q23: 62866.993 | R23: =SUM(L23:Q23) -> 1376949.9 | S23: 10785.152 | T23: 22502.738 | U23: 4918.25 | V23: 217677.35 | W23: 0 | X23: 0 | Y23: 65535.84 | Z23: 276028.09 | AA23: 97552 | AB23: 41334.6 | AC23: 7654.35 | AD23: 13509.8 | AE23: 11261.34 | AF23: 37474.613 | AG23: 0 | AH23: 0 | AI23: 6863.35 | AJ23: 6490 | AK23: 165630.19 | AL23: =SUM(S23:AK23) -> 985217.66 | AM23: =F23+K23+R23+AL23 -> 19204299 | AP23: =F23 -> 9899795.4 | AQ23: =K23 -> 6942335.8 | AR23: =R23 -> 1376949.9 | AS23: =AL23 -> 985217.66 | AU23: =SUM(AP23:AT23) -> 19204299
A24: Foreign | D24: 2377702.2 | E24: 0 | F24: =SUM(D24:E24) -> 2377702.2 | G24: 0 | H24: 0 | I24: 0 | J24: 0 | K24: =SUM(G24:J24) -> 0 | L24: 0 | M24: 0 | N24: 0 | O24: 0 | P24: 0 | Q24: 349.8 | R24: =SUM(L24:Q24) -> 349.8 | S24: 114928.66 | T24: 168445.4 | U24: 507302.48 | V24: 0 | W24: 100889 | X24: 99892 | Y24: 0 | Z24: 383486.3 | AA24: 302581.2 | AB24: 878309.24 | AC24: 0 | AD24: 9701.62 | AE24: 0 | AF24: 0 | AG24: 33432 | AH24: 46121.52 | AI24: 66420.48 | AJ24: 0 | AK24: 604885.06 | AL24: =SUM(S24:AK24) -> 3316395 | AM24: =F24+K24+R24+AL24 -> 5694447 | AP24: =F24 -> 2377702.2 | AQ24: =K24 -> 0 | AR24: =R24 -> 349.8 | AS24: =AL24 -> 3316395 | AU24: =SUM(AP24:AT24) -> 5694447
A26: 5. Length of Vessel (m.) | D26: 121130.45 | E26: 148226.56 | F26: =F27+F28 -> 269357.01 | G26: 158.31 | H26: 246674.84 | I26: 200553.43 | J26: 884.33 | K26: =K27+K28 -> 448270.91 | L26: 1078.52 | M26: 24649.42 | N26: 35657.9 | O26: 947.01 | P26: 244.22 | Q26: 2739.41 | R26: =R27+R28 -> 65316.48 | S26: 1334.48 | T26: 2916.76 | U26: 3817.34 | V26: 7538.51 | W26: 1155.66 | X26: 447.54 | Y26: 2404 | Z26: 16659.05 | AA26: 2572.01 | AB26: 9075.86 | AC26: 182.58 | AD26: 1191.83 | AE26: 603.8 | AF26: 1379.19 | AG26: 560.1 | AH26: 797.65 | AI26: 1418.1 | AJ26: 296.21 | AK26: 13448.13 | AL26: =AL27+AL28 -> 67798.8 | AM26: =+AM27+AM28 -> 850743.2 | AP26: =F26 -> 269357.01 | AQ26: =K26 -> 448270.91 | AR26: =R26 -> 65316.48 | AS26: =AL26 -> 67798.8 | AU26: =+AU27+AU28 -> 850743.2
A27: Domestic | D27: 104947.8 | E27: 148226.56 | F27: =SUM(D27:E27) -> 253174.36 | G27: 158.31 | H27: 246674.84 | I27: 200553.43 | J27: 884.33 | K27: =SUM(G27:J27) -> 448270.91 | L27: 1078.52 | M27: 24649.42 | N27: 35657.9 | O27: 947.01 | P27: 244.22 | Q27: 2679.11 | R27: =SUM(L27:Q27) -> 65256.18 | S27: 417.25 | T27: 1031.37 | U27: 314.51 | V27: 7538.51 | W27: 0 | X27: 0 | Y27: 2404 | Z27: 14564.74 | AA27: 1018.35 | AB27: 984.4 | AC27: 182.58 | AD27: 949.23 | AE27: 603.8 | AF27: 1379.19 | AG27: 0 | AH27: 0 | AI27: 655.2 | AJ27: 296.21 | AK27: 8655.99 | AL27: =SUM(S27:AK27) -> 40995.33 | AM27: =F27+K27+R27+AL27 -> 807696.78 | AP27: =F27 -> 253174.36 | AQ27: =K27 -> 448270.91 | AR27: =R27 -> 65256.18 | AS27: =AL27 -> 40995.33 | AU27: =SUM(AP27:AT27) -> 807696.78
A28: Foreign | D28: 16182.65 | E28: 0 | F28: =SUM(D28:E28) -> 16182.65 | G28: 0 | H28: 0 | I28: 0 | J28: 0 | K28: =SUM(G28:J28) -> 0 | L28: 0 | M28: 0 | N28: 0 | O28: 0 | P28: 0 | Q28: 60.3 | R28: =SUM(L28:Q28) -> 60.3 | S28: 917.23 | T28: 1885.39 | U28: 3502.83 | V28: 0 | W28: 1155.66 | X28: 447.54 | Y28: 0 | Z28: 2094.31 | AA28: 1553.66 | AB28: 8091.46 | AC28: 0 | AD28: 242.6 | AE28: 0 | AF28: 0 | AG28: 560.1 | AH28: 797.65 | AI28: 762.9 | AJ28: 0 | AK28: 4792.14 | AL28: =SUM(S28:AK28) -> 26803.47 | AM28: =F28+K28+R28+AL28 -> 43046.42 | AP28: =F28 -> 16182.65 | AQ28: =K28 -> 0 | AR28: =R28 -> 60.3 | AS28: =AL28 -> 26803.47 | AU28: =SUM(AP28:AT28) -> 43046.42
A30: 6. Beam of Vessel (m.) | D30: 20759.67 | E30: 25091.5 | F30: =F31+F32 -> 45851.17 | G30: 24.8 | H30: 67903.35 | I30: 56566.59 | J30: 180.49 | K30: =K31+K32 -> 124675.23 | L30: 197.52 | M30: 6310.68 | N30: 8778.6 | O30: 201.57 | P30: 56.98 | Q30: 585.72 | R30: =R31+R32 -> 16131.07 | S30: 222.65 | T30: 498.26 | U30: 654.29 | V30: 1508.28 | W30: 219.2 | X30: 81.8 | Y30: 397.5 | Z30: 2955.14 | AA30: 474.13 | AB30: 1508.91 | AC30: 35.38 | AD30: 200.55 | AE30: 138.2 | AF30: 282.13 | AG30: 95 | AH30: 131.2 | AI30: 236.5 | AJ30: 82.85 | AK30: 2330.19 | AL30: =AL31+AL32 -> 12052.16 | AM30: =+AM31+AM32 -> 198709.63 | AP30: =F30 -> 45851.17 | AQ30: =K30 -> 124675.23 | AR30: =R30 -> 16131.07 | AS30: =AL30 -> 12052.16 | AU30: =+AU31+AU32 -> 198709.63
A31: Domestic | D31: 18056.45 | E31: 25091.5 | F31: =SUM(D31:E31) -> 43147.95 | G31: 24.8 | H31: 67903.35 | I31: 56566.59 | J31: 180.49 | K31: =SUM(G31:J31) -> 124675.23 | L31: 197.52 | M31: 6310.68 | N31: 8778.6 | O31: 201.57 | P31: 56.98 | Q31: 573.4 | R31: =SUM(L31:Q31) -> 16118.75 | S31: 70.2 | T31: 191.1 | U31: 62.32 | V31: 1508.28 | W31: 0 | X31: 0 | Y31: 397.5 | Z31: 2610.14 | AA31: 214.73 | AB31: 168.3 | AC31: 35.38 | AD31: 160.55 | AE31: 138.2 | AF31: 282.13 | AG31: 0 | AH31: 0 | AI31: 109.4 | AJ31: 82.85 | AK31: 1540.1 | AL31: =SUM(S31:AK31) -> 7571.18 | AM31: =F31+K31+R31+AL31 -> 191513.11 | AP31: =F31 -> 43147.95 | AQ31: =K31 -> 124675.23 | AR31: =R31 -> 16118.75 | AS31: =AL31 -> 7571.18 | AU31: =SUM(AP31:AT31) -> 191513.11
A32: Foreign | D32: 2703.22 | E32: 0 | F32: =SUM(D32:E32) -> 2703.22 | G32: 0 | H32: 0 | I32: 0 | J32: 0 | K32: =SUM(G32:J32) -> 0 | L32: 0 | M32: 0 | N32: 0 | O32: 0 | P32: 0 | Q32: 12.32 | R32: =SUM(L32:Q32) -> 12.32 | S32: 152.45 | T32: 307.16 | U32: 591.97 | V32: 0 | W32: 219.2 | X32: 81.8 | Y32: 0 | Z32: 345 | AA32: 259.4 | AB32: 1340.61 | AC32: 0 | AD32: 40 | AE32: 0 | AF32: 0 | AG32: 95 | AH32: 131.2 | AI32: 127.1 | AJ32: 0 | AK32: 790.09 | AL32: =SUM(S32:AK32) -> 4480.98 | AM32: =F32+K32+R32+AL32 -> 7196.52 | AP32: =F32 -> 2703.22 | AQ32: =K32 -> 0 | AR32: =R32 -> 12.32 | AS32: =AL32 -> 4480.98 | AU32: =SUM(AP32:AT32) -> 7196.52
A34: 7. Draft of Vessel (m.) | D34: 6013.755 | E34: 6085.9675 | F34: =F35+F36 -> 12099.722 | G34: 6 | H34: 15079.305 | I34: 13335.2 | J34: 33.7 | K34: =K35+K36 -> 28454.205 | L34: 63.6 | M34: 1458.42 | N34: 2193.6 | O34: 32.7 | P34: 7.03 | Q34: 96.295 | R34: =R35+R36 -> 3851.645 | S34: 72.175 | T34: 146.825 | U34: 181.1325 | V34: 222.3775 | W34: 53.3175 | X34: 20.0025 | Y34: 128.8975 | Z34: 878.82 | AA34: 114.265 | AB34: 424.8525 | AC34: 4.4425 | AD34: 51.2 | AE34: 29.95 | AF34: 36.45 | AG34: 26.2325 | AH34: 37.085 | AI34: 65.125 | AJ34: 12.805 | AK34: 665.0825 | AL34: =AL35+AL36 -> 3171.0375 | AM34: =+AM35+AM36 -> 47576.61 | AP34: =F34 -> 12099.722 | AQ34: =K34 -> 28454.205 | AR34: =R34 -> 3851.645 | AS34: =AL34 -> 3171.0375 | AU34: =+AU35+AU36 -> 47576.61
A35: Domestic | D35: 5250.62 | E35: 6085.9675 | F35: =SUM(D35:E35) -> 11336.587 | G35: 6 | H35: 15079.305 | I35: 13335.2 | J35: 33.7 | K35: =SUM(G35:J35) -> 28454.205 | L35: 63.6 | M35: 1458.42 | N35: 2193.6 | O35: 32.7 | P35: 7.03 | Q35: 92.785 | R35: =SUM(L35:Q35) -> 3848.135 | S35: 25.275 | T35: 59.475 | U35: 13.87 | V35: 222.3775 | W35: 0 | X35: 0 | Y35: 128.8975 | Z35: 787.37 | AA35: 45.6575 | AB35: 36.475 | AC35: 4.4425 | AD35: 38.325 | AE35: 29.95 | AF35: 36.45 | AG35: 0 | AH35: 0 | AI35: 27.475 | AJ35: 12.805 | AK35: 423.56 | AL35: =SUM(S35:AK35) -> 1892.405 | AM35: =F35+K35+R35+AL35 -> 45531.333 | AP35: =F35 -> 11336.587 | AQ35: =K35 -> 28454.205 | AR35: =R35 -> 3848.135 | AS35: =AL35 -> 1892.405 | AU35: =SUM(AP35:AT35) -> 45531.333
A36: Foreign | D36: 763.135 | E36: 0 | F36: =SUM(D36:E36) -> 763.135 | G36: 0 | H36: 0 | I36: 0 | J36: 0 | K36: =SUM(G36:J36) -> 0 | L36: 0 | M36: 0 | N36: 0 | O36: 0 | P36: 0 | Q36: 3.51 | R36: =SUM(L36:Q36) -> 3.51 | S36: 46.9 | T36: 87.35 | U36: 167.2625 | V36: 0 | W36: 53.3175 | X36: 20.0025 | Y36: 0 | Z36: 91.45 | AA36: 68.6075 | AB36: 388.3775 | AC36: 0 | AD36: 12.875 | AE36: 0 | AF36: 0 | AG36: 26.2325 | AH36: 37.085 | AI36: 37.65 | AJ36: 0 | AK36: 241.5225 | AL36: =SUM(S36:AK36) -> 1278.6325 | AM36: =F36+K36+R36+AL36 -> 2045.2775 | AP36: =F36 -> 763.135 | AQ36: =K36 -> 0 | AR36: =R36 -> 3.51 | AS36: =AL36 -> 1278.6325 | AU36: =SUM(AP36:AT36) -> 2045.2775
A38: 8. Down/Idle Time (hrs.) | D38: 21283.187 | E38: 5838.5583 | F38: =F39+F40 -> 27121.745 | G38: 45 | H38: 22832.156 | I38: 57857.9 | J38: 0 | K38: =K39+K40 -> 80735.056 | L38: 822.48333 | M38: 2151.1167 | N38: 2636.6833 | O38: 0 | P38: 0 | Q38: 0 | R38: =R39+R40 -> 5610.2833 | S38: 0 | T38: 0 | U38: 0 | V38: 0 | W38: 0 | X38: 0 | Y38: 0 | Z38: 0 | AA38: 0 | AB38: 0 | AC38: 0 | AD38: 0 | AE38: 0 | AF38: 0 | AG38: 0 | AH38: 0 | AI38: 0 | AJ38: 0 | AK38: 0 | AL38: =AL39+AL40 -> 0 | AM38: =+AM39+AM40 -> 113467.08 | AP38: =F38 -> 27121.745 | AQ38: =K38 -> 80735.056 | AR38: =R38 -> 5610.2833 | AS38: =AL38 -> 0 | AU38: =+AU39+AU40 -> 113467.08
A39: Domestic | D39: 12277.887 | E39: 5838.5583 | F39: =SUM(D39:E39) -> 18116.445 | G39: 45 | H39: 22832.156 | I39: 57857.9 | J39: 0 | K39: =SUM(G39:J39) -> 80735.056 | L39: 822.48333 | M39: 2151.1167 | N39: 2636.6833 | O39: 0 | P39: 0 | Q39: 0 | R39: =SUM(L39:Q39) -> 5610.2833 | S39: 0 | T39: 0 | U39: 0 | V39: 0 | W39: 0 | X39: 0 | Y39: 0 | Z39: 0 | AA39: 0 | AB39: 0 | AC39: 0 | AD39: 0 | AE39: 0 | AF39: 0 | AG39: 0 | AH39: 0 | AI39: 0 | AJ39: 0 | AK39: 0 | AL39: =SUM(S39:AK39) -> 0 | AM39: =F39+K39+R39+AL39 -> 104461.78 | AP39: =F39 -> 18116.445 | AQ39: =K39 -> 80735.056 | AR39: =R39 -> 5610.2833 | AS39: =AL39 -> 0 | AU39: =SUM(AP39:AT39) -> 104461.78
A40: Foreign | D40: 9005.3 | E40: 0 | F40: =SUM(D40:E40) -> 9005.3 | G40: 0 | H40: 0 | I40: 0 | J40: 0 | K40: =SUM(G40:J40) -> 0 | L40: 0 | M40: 0 | N40: 0 | O40: 0 | P40: 0 | Q40: 0 | R40: =SUM(L40:Q40) -> 0 | S40: 0 | T40: 0 | U40: 0 | V40: 0 | W40: 0 | X40: 0 | Y40: 0 | Z40: 0 | AA40: 0 | AB40: 0 | AC40: 0 | AD40: 0 | AE40: 0 | AF40: 0 | AG40: 0 | AH40: 0 | AI40: 0 | AJ40: 0 | AK40: 0 | AL40: =SUM(S40:AK40) -> 0 | AM40: =F40+K40+R40+AL40 -> 9005.3 | AP40: =F40 -> 9005.3 | AQ40: =K40 -> 0 | AR40: =R40 -> 0 | AS40: =AL40 -> 0 | AU40: =SUM(AP40:AT40) -> 9005.3
AP41: =F41 -> 0 | AQ41: =K41 -> 0 | AR41: =R41 -> 0 | AS41: =AL41 -> 0
A42: 9. Waiting Time (hrs.) | D42: 23408.15 | E42: 466.71667 | F42: =F43+F44 -> 23874.867 | G42: 15 | H42: 0 | I42: 0 | J42: 221.33333 | K42: =K43+K44 -> 236.33333 | L42: 517.66667 | M42: 43.15 | N42: 0 | O42: 0 | P42: 0 | Q42: 2852.7833 | R42: =R43+R44 -> 3413.6 | S42: 515.78333 | T42: 1298.05 | U42: 655.45 | V42: 10.666667 | W42: 0 | X42: 0 | Y42: 1003.1667 | Z42: 5874.1333 | AA42: 59.483333 | AB42: 11 | AC42: 0 | AD42: 106.08333 | AE42: 14773.3 | AF42: 75.583333 | AG42: 0 | AH42: 0 | AI42: 45.166667 | AJ42: 0 | AK42: 3596.5833 | AL42: =AL43+AL44 -> 28024.45 | AM42: =+AM43+AM44 -> 55549.25 | AP42: =F42 -> 23874.867 | AQ42: =K42 -> 236.33333 | AR42: =R42 -> 3413.6 | AS42: =AL42 -> 28024.45 | AU42: =+AU43+AU44 -> 55549.25
A43: Domestic | D43: 18167.167 | E43: 466.71667 | F43: =SUM(D43:E43) -> 18633.883 | G43: 15 | H43: 0 | I43: 0 | J43: 221.33333 | K43: =SUM(G43:J43) -> 236.33333 | L43: 517.66667 | M43: 43.15 | N43: 0 | O43: 0 | P43: 0 | Q43: 2852.7833 | R43: =SUM(L43:Q43) -> 3413.6 | S43: 440.38333 | T43: 1298.05 | U43: 33.5 | V43: 10.666667 | W43: 0 | X43: 0 | Y43: 1003.1667 | Z43: 5852.1333 | AA43: 59.483333 | AB43: 11 | AC43: 0 | AD43: 106.08333 | AE43: 14773.3 | AF43: 75.583333 | AG43: 0 | AH43: 0 | AI43: 45.166667 | AJ43: 0 | AK43: 3596.5833 | AL43: =SUM(S43:AK43) -> 27305.1 | AM43: =F43+K43+R43+AL43 -> 49588.917 | AP43: =F43 -> 18633.883 | AQ43: =K43 -> 236.33333 | AR43: =R43 -> 3413.6 | AS43: =AL43 -> 27305.1 | AU43: =SUM(AP43:AT43) -> 49588.917
A44: Foreign | D44: 5240.9833 | E44: 0 | F44: =SUM(D44:E44) -> 5240.9833 | G44: 0 | H44: 0 | I44: 0 | J44: 0 | K44: =SUM(G44:J44) -> 0 | L44: 0 | M44: 0 | N44: 0 | O44: 0 | P44: 0 | Q44: 0 | R44: =SUM(L44:Q44) -> 0 | S44: 75.4 | T44: 0 | U44: 621.95 | V44: 0 | W44: 0 | X44: 0 | Y44: 0 | Z44: 22 | AA44: 0 | AB44: 0 | AC44: 0 | AD44: 0 | AE44: 0 | AF44: 0 | AG44: 0 | AH44: 0 | AI44: 0 | AJ44: 0 | AK44: 0 | AL44: =SUM(S44:AK44) -> 719.35 | AM44: =F44+K44+R44+AL44 -> 5960.3333 | AP44: =F44 -> 5240.9833 | AQ44: =K44 -> 0 | AR44: =R44 -> 0 | AS44: =AL44 -> 719.35 | AU44: =SUM(AP44:AT44) -> 5960.3333
A46: 10. Service Time (hrs.) | D46: 70347 | E46: 20560.217 | F46: =F47+F48 -> 90907.217 | G46: 56.066667 | H46: 25726.85 | I46: 75161.733 | J46: 5907.2333 | K46: =K47+K48 -> 106851.88 | L46: 2247.1167 | M46: 6152.9 | N46: 3649.9833 | O46: 539.75 | P46: 206.91667 | Q46: 6728.9167 | R46: =R47+R48 -> 19525.583 | S46: 3189.4333 | T46: 2533.1 | U46: 5129.6 | V46: 1822.5833 | W46: 408.85 | X46: 129.5 | Y46: 6867.0833 | Z46: 45631.8 | AA46: 1722.7167 | AB46: 2225.35 | AC46: 274.81667 | AD46: 1079.6167 | AE46: 34104.333 | AF46: 1455.95 | AG46: 358.83333 | AH46: 260.9 | AI46: 3989.9667 | AJ46: 404.5 | AK46: 10875.1 | AL46: =AL47+AL48 -> 122464.03 | AM46: =+AM47+AM48 -> 339748.72 | AP46: =F46 -> 90907.217 | AQ46: =K46 -> 106851.88 | AR46: =R46 -> 19525.583 | AS46: =AL46 -> 122464.03 | AU46: =+AU47+AU48 -> 339748.72
A47: Domestic | D47: 45497.633 | E47: 20560.217 | F47: =SUM(D47:E47) -> 66057.85 | G47: 56.066667 | H47: 25726.85 | I47: 75161.733 | J47: 5907.2333 | K47: =SUM(G47:J47) -> 106851.88 | L47: 2247.1167 | M47: 6152.9 | N47: 3649.9833 | O47: 539.75 | P47: 206.91667 | Q47: 6687.5833 | R47: =SUM(L47:Q47) -> 19484.25 | S47: 1081.9667 | T47: 1905.3333 | U47: 876.33333 | V47: 1822.5833 | W47: 0 | X47: 0 | Y47: 6867.0833 | Z47: 43929.933 | AA47: 737.18333 | AB47: 297.98333 | AC47: 274.81667 | AD47: 1014.8167 | AE47: 34104.333 | AF47: 1455.95 | AG47: 0 | AH47: 0 | AI47: 3798.8333 | AJ47: 404.5 | AK47: 8065.65 | AL47: =SUM(S47:AK47) -> 106637.3 | AM47: =F47+K47+R47+AL47 -> 299031.28 | AP47: =F47 -> 66057.85 | AQ47: =K47 -> 106851.88 | AR47: =R47 -> 19484.25 | AS47: =AL47 -> 106637.3 | AU47: =SUM(AP47:AT47) -> 299031.28
A48: Foreign | D48: 24849.367 | E48: 0 | F48: =SUM(D48:E48) -> 24849.367 | G48: 0 | H48: 0 | I48: 0 | J48: 0 | K48: =SUM(G48:J48) -> 0 | L48: 0 | M48: 0 | N48: 0 | O48: 0 | P48: 0 | Q48: 41.333333 | R48: =SUM(L48:Q48) -> 41.333333 | S48: 2107.4667 | T48: 627.76667 | U48: 4253.2667 | V48: 0 | W48: 408.85 | X48: 129.5 | Y48: 0 | Z48: 1701.8667 | AA48: 985.53333 | AB48: 1927.3667 | AC48: 0 | AD48: 64.8 | AE48: 0 | AF48: 0 | AG48: 358.83333 | AH48: 260.9 | AI48: 191.13333 | AJ48: 0 | AK48: 2809.45 | AL48: =SUM(S48:AK48) -> 15826.733 | AM48: =F48+K48+R48+AL48 -> 40717.433 | AP48: =F48 -> 24849.367 | AQ48: =K48 -> 0 | AR48: =R48 -> 41.333333 | AS48: =AL48 -> 15826.733 | AU48: =SUM(AP48:AT48) -> 40717.433
A50: 11. Net Service Time (hrs.) | D50: 49063.813 | E50: 14721.658 | F50: =F51+F52 -> 63785.472 | G50: 11.066667 | H50: 2894.6937 | I50: 17303.833 | J50: 5907.2333 | K50: =K51+K52 -> 26116.827 | L50: 1424.6333 | M50: 4001.7833 | N50: 1013.3 | O50: 539.75 | P50: 206.91667 | Q50: 6728.9167 | R50: =R51+R52 -> 13915.3 | S50: 3189.4333 | T50: 2533.1 | U50: 5129.6 | V50: 1822.5833 | W50: 408.85 | X50: 129.5 | Y50: 6867.0833 | Z50: 45631.8 | AA50: 1722.7167 | AB50: 2225.35 | AC50: 274.81667 | AD50: 1079.6167 | AE50: 34104.333 | AF50: 1455.95 | AG50: 358.83333 | AH50: 260.9 | AI50: 3989.9667 | AJ50: 404.5 | AK50: 10875.1 | AL50: =AL51+AL52 -> 122464.03 | AM50: =+AM51+AM52 -> 226281.63 | AP50: =F50 -> 63785.472 | AQ50: =K50 -> 26116.827 | AR50: =R50 -> 13915.3 | AS50: =AL50 -> 122464.03 | AU50: =+AU51+AU52 -> 226281.63
A51: Domestic | D51: 33219.747 | E51: 14721.658 | F51: =SUM(D51:E51) -> 47941.405 | G51: 11.066667 | H51: 2894.6937 | I51: 17303.833 | J51: 5907.2333 | K51: =SUM(G51:J51) -> 26116.827 | L51: 1424.6333 | M51: 4001.7833 | N51: 1013.3 | O51: 539.75 | P51: 206.91667 | Q51: 6687.5833 | R51: =SUM(L51:Q51) -> 13873.967 | S51: 1081.9667 | T51: 1905.3333 | U51: 876.33333 | V51: 1822.5833 | W51: 0 | X51: 0 | Y51: 6867.0833 | Z51: 43929.933 | AA51: 737.18333 | AB51: 297.98333 | AC51: 274.81667 | AD51: 1014.8167 | AE51: 34104.333 | AF51: 1455.95 | AG51: 0 | AH51: 0 | AI51: 3798.8333 | AJ51: 404.5 | AK51: 8065.65 | AL51: =SUM(S51:AK51) -> 106637.3 | AM51: =F51+K51+R51+AL51 -> 194569.5 | AP51: =F51 -> 47941.405 | AQ51: =K51 -> 26116.827 | AR51: =R51 -> 13873.967 | AS51: =AL51 -> 106637.3 | AU51: =SUM(AP51:AT51) -> 194569.5
A52: Foreign | D52: 15844.067 | E52: 0 | F52: =SUM(D52:E52) -> 15844.067 | G52: 0 | H52: 0 | I52: 0 | J52: 0 | K52: =SUM(G52:J52) -> 0 | L52: 0 | M52: 0 | N52: 0 | O52: 0 | P52: 0 | Q52: 41.333333 | R52: =SUM(L52:Q52) -> 41.333333 | S52: 2107.4667 | T52: 627.76667 | U52: 4253.2667 | V52: 0 | W52: 408.85 | X52: 129.5 | Y52: 0 | Z52: 1701.8667 | AA52: 985.53333 | AB52: 1927.3667 | AC52: 0 | AD52: 64.8 | AE52: 0 | AF52: 0 | AG52: 358.83333 | AH52: 260.9 | AI52: 191.13333 | AJ52: 0 | AK52: 2809.45 | AL52: =SUM(S52:AK52) -> 15826.733 | AM52: =F52+K52+R52+AL52 -> 31712.133 | AP52: =F52 -> 15844.067 | AQ52: =K52 -> 0 | AR52: =R52 -> 41.333333 | AS52: =AL52 -> 15826.733 | AU52: =SUM(AP52:AT52) -> 31712.133
A54: 12. Total Dwell Time in Port (hrs.) | D54: 93755.15 | E54: 21026.933 | F54: =F55+F56 -> 114782.08 | G54: 71.066667 | H54: 25726.85 | I54: 75161.733 | J54: 6128.5667 | K54: =K55+K56 -> 107088.22 | L54: 2764.7833 | M54: 6196.05 | N54: 3649.9833 | O54: 539.75 | P54: 206.91667 | Q54: 9581.7 | R54: =R55+R56 -> 22939.183 | S54: 3705.2167 | T54: 3831.15 | U54: 5785.05 | V54: 1833.25 | W54: 408.85 | X54: 129.5 | Y54: 7870.25 | Z54: 51505.933 | AA54: 1782.2 | AB54: 2236.35 | AC54: 274.81667 | AD54: 1185.7 | AE54: 48877.633 | AF54: 1531.5333 | AG54: 358.83333 | AH54: 260.9 | AI54: 4035.1333 | AJ54: 404.5 | AK54: 14471.683 | AL54: =AL55+AL56 -> 150488.48 | AM54: =+AM55+AM56 -> 395297.97 | AP54: =F54 -> 114782.08 | AQ54: =K54 -> 107088.22 | AR54: =R54 -> 22939.183 | AS54: =AL54 -> 150488.48 | AU54: =+AU55+AU56 -> 395297.97
A55: Domestic | D55: 63664.8 | E55: 21026.933 | F55: =SUM(D55:E55) -> 84691.733 | G55: 71.066667 | H55: 25726.85 | I55: 75161.733 | J55: 6128.5667 | K55: =SUM(G55:J55) -> 107088.22 | L55: 2764.7833 | M55: 6196.05 | N55: 3649.9833 | O55: 539.75 | P55: 206.91667 | Q55: 9540.3667 | R55: =SUM(L55:Q55) -> 22897.85 | S55: 1522.35 | T55: 3203.3833 | U55: 909.83333 | V55: 1833.25 | W55: 0 | X55: 0 | Y55: 7870.25 | Z55: 49782.067 | AA55: 796.66667 | AB55: 308.98333 | AC55: 274.81667 | AD55: 1120.9 | AE55: 48877.633 | AF55: 1531.5333 | AG55: 0 | AH55: 0 | AI55: 3844 | AJ55: 404.5 | AK55: 11662.233 | AL55: =SUM(S55:AK55) -> 133942.4 | AM55: =F55+K55+R55+AL55 -> 348620.2 | AP55: =F55 -> 84691.733 | AQ55: =K55 -> 107088.22 | AR55: =R55 -> 22897.85 | AS55: =AL55 -> 133942.4 | AU55: =SUM(AP55:AT55) -> 348620.2
A56: Foreign | D56: 30090.35 | E56: 0 | F56: =SUM(D56:E56) -> 30090.35 | G56: 0 | H56: 0 | I56: 0 | J56: 0 | K56: =SUM(G56:J56) -> 0 | L56: 0 | M56: 0 | N56: 0 | O56: 0 | P56: 0 | Q56: 41.333333 | R56: =SUM(L56:Q56) -> 41.333333 | S56: 2182.8667 | T56: 627.76667 | U56: 4875.2167 | V56: 0 | W56: 408.85 | X56: 129.5 | Y56: 0 | Z56: 1723.8667 | AA56: 985.53333 | AB56: 1927.3667 | AC56: 0 | AD56: 64.8 | AE56: 0 | AF56: 0 | AG56: 358.83333 | AH56: 260.9 | AI56: 191.13333 | AJ56: 0 | AK56: 2809.45 | AL56: =SUM(S56:AK56) -> 16546.083 | AM56: =F56+K56+R56+AL56 -> 46677.767 | AP56: =F56 -> 30090.35 | AQ56: =K56 -> 0 | AR56: =R56 -> 41.333333 | AS56: =AL56 -> 16546.083 | AU56: =SUM(AP56:AT56) -> 46677.767
A58: B . CARGO AND PASSENGER
A60: 1. Total Cargo Throughput (m.t.) | D60: 5413761 | E60: 1814879.8 | F60: =+F62+F80 -> 7228640.8 | G60: 0 | H60: 2839.76 | I60: 3043.5 | J60: 8888.79 | K60: =+K62+K80 -> 14772.05 | L60: 25982 | M60: 1734.82 | N60: 55.7 | O60: 12902.65 | P60: 3668.14 | Q60: 31438.95 | R60: =+R62+R80 -> 75782.26 | S60: 72240.991 | T60: 86637.853 | U60: 167933.16 | V60: 24402.338 | W60: 21475.468 | X60: 37833.798 | Y60: 62001.106 | Z60: 585114.13 | AA60: 401774.15 | AB60: 219078.28 | AC60: 1840.32 | AD60: 22119.964 | AE60: 0 | AF60: 13600 | AG60: 10205.522 | AH60: 16141.501 | AI60: 36546.694 | AJ60: 12772.066 | AK60: 242541.46 | AL60: =+AL62+AL80 -> 2034258.8 | AM60: =+AM62+AM80 -> 9353453.9 | AP60: =F60 -> 7228640.8 | AQ60: =K60 -> 14772.05 | AR60: =R60 -> 75782.26 | AS60: =AL60 -> 2034258.8 | AU60: =+AU62+AU80 -> 9353453.9
A62: a. Domestic | D62: 3940086.6 | E62: 1814879.8 | F62: =+F64+F72 -> 5754966.4 | G62: 0 | H62: 2839.76 | I62: 3043.5 | J62: 8888.79 | K62: =+K64+K72 -> 14772.05 | L62: 25982 | M62: 1734.82 | N62: 55.7 | O62: 12902.65 | P62: 3668.14 | Q62: 31438.95 | R62: =+R64+R72 -> 75782.26 | S62: 11178.657 | T62: 29648.498 | U62: 6874.217 | V62: 24402.338 | W62: 0 | X62: 0 | Y62: 62001.106 | Z62: 349897.86 | AA62: 101521.15 | AB62: 18174.667 | AC62: 1840.32 | AD62: 14620.203 | AE62: 0 | AF62: 13600 | AG62: 0 | AH62: 0 | AI62: 7290.287 | AJ62: 12772.066 | AK62: 103049.12 | AL62: =+AL64+AL72 -> 756870.48 | AM62: =+AM64+AM72 -> 6602391.2 | AP62: =F62 -> 5754966.4 | AQ62: =K62 -> 14772.05 | AR62: =R62 -> 75782.26 | AS62: =AL62 -> 756870.48 | AU62: =+AU64+AU72 -> 6602391.2
A64: Inbound | D64: 2282616.9 | E64: 954130.63 | F64: =SUM(F65:F70) -> 3236747.5 | G64: 0 | H64: 474.76 | I64: 2288.34 | J64: 3492.74 | K64: =SUM(K65:K70) -> 6255.84 | L64: 25982 | M64: 1480.41 | N64: 37.7 | O64: 2.65 | P64: 293 | Q64: 7256 | R64: =SUM(R65:R70) -> 35051.76 | S64: 11178.657 | T64: 29648.498 | U64: 6429.461 | V64: 13530.338 | W64: 0 | X64: 0 | Y64: 62001.106 | Z64: 40787.682 | AA64: 101521.15 | AB64: 18174.667 | AC64: 840.32 | AD64: 1819.29 | AE64: 0 | AF64: 3300 | AG64: 0 | AH64: 0 | AI64: 6790.287 | AJ64: 6383.069 | AK64: 79277.582 | AL64: =SUM(AL65:AL70) -> 381682.1 | AM64: =SUM(AM65:AM70) -> 3659737.2 | AP64: =F64 -> 3236747.5 | AQ64: =K64 -> 6255.84 | AR64: =R64 -> 35051.76 | AS64: =AL64 -> 381682.1 | AU64: =SUM(AU65:AU70) -> 3659737.2
A65: Breakbulk | D65: 247537.88 | E65: 268123.63 | F65: =SUM(D65:E65) -> 515661.5 | G65: 0 | H65: 474.76 | I65: 2288.34 | J65: 3492.74 | K65: =SUM(G65:J65) -> 6255.84 | L65: 25982 | M65: 1480.41 | N65: 37.7 | O65: 2.65 | P65: 293 | Q65: 806 | R65: =SUM(L65:Q65) -> 28601.76 | S65: 0 | T65: 0 | U65: 0 | V65: 3540.338 | W65: 0 | X65: 0 | Y65: 199.51 | Z65: 24920.21 | AA65: 0 | AB65: 0 | AC65: 840.32 | AD65: 0 | AE65: 0 | AF65: 0 | AG65: 0 | AH65: 0 | AI65: 0 | AJ65: 6383.069 | AK65: 14237.62 | AL65: =SUM(S65:AK65) -> 50121.067 | AM65: =F65+K65+R65+AL65 -> 600640.17 | AP65: =F65 -> 515661.5 | AQ65: =K65 -> 6255.84 | AR65: =R65 -> 28601.76 | AS65: =AL65 -> 50121.067 | AU65: =SUM(AP65:AT65) -> 600640.17
A66: Liquid Bulk | D66: 116393.41 | E66: 0 | F66: =SUM(D66:E66) -> 116393.41 | G66: 0 | H66: 0 | I66: 0 | J66: 0 | K66: =SUM(G66:J66) -> 0 | L66: 0 | M66: 0 | N66: 0 | O66: 0 | P66: 0 | Q66: 1250 | R66: =SUM(L66:Q66) -> 1250 | S66: 0 | T66: 356.7 | U66: 2399.594 | V66: 0 | W66: 0 | X66: 0 | Y66: 0 | Z66: 0 | AA66: 0 | AB66: 18174.667 | AC66: 0 | AD66: 1819.29 | AE66: 0 | AF66: 0 | AG66: 0 | AH66: 0 | AI66: 5711.957 | AJ66: 0 | AK66: 3406.578 | AL66: =SUM(S66:AK66) -> 31868.786 | AM66: =F66+K66+R66+AL66 -> 149512.2 | AP66: =F66 -> 116393.41 | AQ66: =K66 -> 0 | AR66: =R66 -> 1250 | AS66: =AL66 -> 31868.786 | AU66: =SUM(AP66:AT66) -> 149512.2
A67: Dry Bulk | D67: 3294.45 | E67: 0 | F67: =SUM(D67:E67) -> 3294.45 | G67: 0 | H67: 0 | I67: 0 | J67: 0 | K67: =SUM(G67:J67) -> 0 | L67: 0 | M67: 0 | N67: 0 | O67: 0 | P67: 0 | Q67: 5200 | R67: =SUM(L67:Q67) -> 5200 | S67: 11178.657 | T67: 29291.798 | U67: 4029.867 | V67: 0 | W67: 0 | X67: 0 | Y67: 61801.596 | Z67: 15867.472 | AA67: 101521.15 | AB67: 0 | AC67: 0 | AD67: 0 | AE67: 0 | AF67: 3300 | AG67: 0 | AH67: 0 | AI67: 1078.33 | AJ67: 0 | AK67: 61633.384 | AL67: =SUM(S67:AK67) -> 289702.25 | AM67: =F67+K67+R67+AL67 -> 298196.7 | AP67: =F67 -> 3294.45 | AQ67: =K67 -> 0 | AR67: =R67 -> 5200 | AS67: =AL67 -> 289702.25 | AU67: =SUM(AP67:AT67) -> 298196.7
A68: Containerized | D68: 1915391.1 | E68: 686007 | F68: =SUM(D68:E68) -> 2601398.1 | G68: 0 | H68: 0 | I68: 0 | J68: 0 | K68: =SUM(G68:J68) -> 0 | L68: 0 | M68: 0 | N68: 0 | O68: 0 | P68: 0 | Q68: 0 | R68: =SUM(L68:Q68) -> 0 | S68: 0 | T68: 0 | U68: 0 | V68: 9990 | W68: 0 | X68: 0 | Y68: 0 | Z68: 0 | AA68: 0 | AB68: 0 | AC68: 0 | AD68: 0 | AE68: 0 | AF68: 0 | AG68: 0 | AH68: 0 | AI68: 0 | AJ68: 0 | AK68: 0 | AL68: =SUM(S68:AK68) -> 9990 | AM68: =F68+K68+R68+AL68 -> 2611388.1 | AP68: =F68 -> 2601398.1 | AQ68: =K68 -> 0 | AR68: =R68 -> 0 | AS68: =AL68 -> 9990 | AU68: =SUM(AP68:AT68) -> 2611388.1
A69: Transit Cargo | D69: 0 | E69: 0 | F69: =SUM(D69:E69) -> 0 | G69: 0 | H69: 0 | I69: 0 | J69: 0 | K69: =SUM(G69:J69) -> 0 | L69: 0 | M69: 0 | N69: 0 | O69: 0 | P69: 0 | Q69: 0 | R69: =SUM(L69:Q69) -> 0 | S69: 0 | T69: 0 | U69: 0 | V69: 0 | W69: 0 | X69: 0 | Y69: 0 | Z69: 0 | AA69: 0 | AB69: 0 | AC69: 0 | AD69: 0 | AE69: 0 | AF69: 0 | AG69: 0 | AH69: 0 | AI69: 0 | AJ69: 0 | AK69: 0 | AL69: =SUM(S69:AK69) -> 0 | AM69: =F69+K69+R69+AL69 -> 0 | AP69: =F69 -> 0 | AQ69: =K69 -> 0 | AR69: =R69 -> 0 | AS69: =AL69 -> 0 | AU69: =SUM(AP69:AT69) -> 0
A70: Transhipment | D70: 0 | E70: 0 | F70: =SUM(D70:E70) -> 0 | G70: 0 | H70: 0 | I70: 0 | J70: 0 | K70: =SUM(G70:J70) -> 0 | L70: 0 | M70: 0 | N70: 0 | O70: 0 | P70: 0 | Q70: 0 | R70: =SUM(L70:Q70) -> 0 | S70: 0 | T70: 0 | U70: 0 | V70: 0 | W70: 0 | X70: 0 | Y70: 0 | Z70: 0 | AA70: 0 | AB70: 0 | AC70: 0 | AD70: 0 | AE70: 0 | AF70: 0 | AG70: 0 | AH70: 0 | AI70: 0 | AJ70: 0 | AK70: 0 | AL70: =SUM(S70:AK70) -> 0 | AM70: =F70+K70+R70+AL70 -> 0 | AP70: =F70 -> 0 | AQ70: =K70 -> 0 | AR70: =R70 -> 0 | AS70: =AL70 -> 0 | AU70: =SUM(AP70:AT70) -> 0
A72: Outbound | D72: 1657469.8 | E72: 860749.18 | F72: =SUM(F73:F78) -> 2518218.9 | G72: 0 | H72: 2365 | I72: 755.16 | J72: 5396.05 | K72: =SUM(K73:K78) -> 8516.21 | L72: 0 | M72: 254.41 | N72: 18 | O72: 12900 | P72: 3375.14 | Q72: 24182.95 | R72: =SUM(R73:R78) -> 40730.5 | S72: 0 | T72: 0 | U72: 444.756 | V72: 10872 | W72: 0 | X72: 0 | Y72: 0 | Z72: 309110.18 | AA72: 0 | AB72: 0 | AC72: 1000 | AD72: 12800.913 | AE72: 0 | AF72: 10300 | AG72: 0 | AH72: 0 | AI72: 500 | AJ72: 6388.997 | AK72: 23771.535 | AL72: =SUM(AL73:AL78) -> 375188.38 | AM72: =SUM(AM73:AM78) -> 2942654 | AP72: =F72 -> 2518218.9 | AQ72: =K72 -> 8516.21 | AR72: =R72 -> 40730.5 | AS72: =AL72 -> 375188.38 | AU72: =SUM(AU73:AU78) -> 2942654
A73: Breakbulk | D73: 74024.21 | E73: 280483.18 | F73: =SUM(D73:E73) -> 354507.39 | G73: 0 | H73: 2365 | I73: 755.16 | J73: 5396.05 | K73: =SUM(G73:J73) -> 8516.21 | L73: 0 | M73: 254.41 | N73: 18 | O73: 9900 | P73: 0 | Q73: 2177.31 | R73: =SUM(L73:Q73) -> 12349.72 | S73: 0 | T73: 0 | U73: 0 | V73: 0 | W73: 0 | X73: 0 | Y73: 0 | Z73: 309110.18 | AA73: 0 | AB73: 0 | AC73: 0 | AD73: 0 | AE73: 0 | AF73: 1200 | AG73: 0 | AH73: 0 | AI73: 0 | AJ73: 6388.997 | AK73: 0 | AL73: =SUM(S73:AK73) -> 316699.18 | AM73: =F73+K73+R73+AL73 -> 692072.5 | AP73: =F73 -> 354507.39 | AQ73: =K73 -> 8516.21 | AR73: =R73 -> 12349.72 | AS73: =AL73 -> 316699.18 | AU73: =SUM(AP73:AT73) -> 692072.5
A74: Liquid Bulk | D74: 526756.54 | E74: 0 | F74: =SUM(D74:E74) -> 526756.54 | G74: 0 | H74: 0 | I74: 0 | J74: 0 | K74: =SUM(G74:J74) -> 0 | L74: 0 | M74: 0 | N74: 0 | O74: 0 | P74: 0 | Q74: 7920 | R74: =SUM(L74:Q74) -> 7920 | S74: 0 | T74: 0 | U74: 444.756 | V74: 0 | W74: 0 | X74: 0 | Y74: 0 | Z74: 0 | AA74: 0 | AB74: 0 | AC74: 0 | AD74: 12800.913 | AE74: 0 | AF74: 0 | AG74: 0 | AH74: 0 | AI74: 500 | AJ74: 0 | AK74: 7300.096 | AL74: =SUM(S74:AK74) -> 21045.765 | AM74: =F74+K74+R74+AL74 -> 555722.31 | AP74: =F74 -> 526756.54 | AQ74: =K74 -> 0 | AR74: =R74 -> 7920 | AS74: =AL74 -> 21045.765 | AU74: =SUM(AP74:AT74) -> 555722.31
A75: Dry Bulk | D75: 10250 | E75: 0 | F75: =SUM(D75:E75) -> 10250 | G75: 0 | H75: 0 | I75: 0 | J75: 0 | K75: =SUM(G75:J75) -> 0 | L75: 0 | M75: 0 | N75: 0 | O75: 3000 | P75: 3375.14 | Q75: 14085.64 | R75: =SUM(L75:Q75) -> 20460.78 | S75: 0 | T75: 0 | U75: 0 | V75: 0 | W75: 0 | X75: 0 | Y75: 0 | Z75: 0 | AA75: 0 | AB75: 0 | AC75: 1000 | AD75: 0 | AE75: 0 | AF75: 9100 | AG75: 0 | AH75: 0 | AI75: 0 | AJ75: 0 | AK75: 16471.439 | AL75: =SUM(S75:AK75) -> 26571.439 | AM75: =F75+K75+R75+AL75 -> 57282.219 | AP75: =F75 -> 10250 | AQ75: =K75 -> 0 | AR75: =R75 -> 20460.78 | AS75: =AL75 -> 26571.439 | AU75: =SUM(AP75:AT75) -> 57282.219
A76: Containerized Cargo | D76: 1046439 | E76: 580266 | F76: =SUM(D76:E76) -> 1626705 | G76: 0 | H76: 0 | I76: 0 | J76: 0 | K76: =SUM(G76:J76) -> 0 | L76: 0 | M76: 0 | N76: 0 | O76: 0 | P76: 0 | Q76: 0 | R76: =SUM(L76:Q76) -> 0 | S76: 0 | T76: 0 | U76: 0 | V76: 10872 | W76: 0 | X76: 0 | Y76: 0 | Z76: 0 | AA76: 0 | AB76: 0 | AC76: 0 | AD76: 0 | AE76: 0 | AF76: 0 | AG76: 0 | AH76: 0 | AI76: 0 | AJ76: 0 | AK76: 0 | AL76: =SUM(S76:AK76) -> 10872 | AM76: =F76+K76+R76+AL76 -> 1637577 | AP76: =F76 -> 1626705 | AQ76: =K76 -> 0 | AR76: =R76 -> 0 | AS76: =AL76 -> 10872 | AU76: =SUM(AP76:AT76) -> 1637577
A77: Transit Cargo | D77: 0 | E77: 0 | F77: =SUM(D77:E77) -> 0 | G77: 0 | H77: 0 | I77: 0 | J77: 0 | K77: =SUM(G77:J77) -> 0 | L77: 0 | M77: 0 | N77: 0 | O77: 0 | P77: 0 | Q77: 0 | R77: =SUM(L77:Q77) -> 0 | S77: 0 | T77: 0 | U77: 0 | V77: 0 | W77: 0 | X77: 0 | Y77: 0 | Z77: 0 | AA77: 0 | AB77: 0 | AC77: 0 | AD77: 0 | AE77: 0 | AF77: 0 | AG77: 0 | AH77: 0 | AI77: 0 | AJ77: 0 | AK77: 0 | AL77: =SUM(S77:AK77) -> 0 | AM77: =F77+K77+R77+AL77 -> 0 | AP77: =F77 -> 0 | AQ77: =K77 -> 0 | AR77: =R77 -> 0 | AS77: =AL77 -> 0 | AU77: =SUM(AP77:AT77) -> 0
A78: Transhipment | D78: 0 | E78: 0 | F78: =SUM(D78:E78) -> 0 | G78: 0 | H78: 0 | I78: 0 | J78: 0 | K78: =SUM(G78:J78) -> 0 | L78: 0 | M78: 0 | N78: 0 | O78: 0 | P78: 0 | Q78: 0 | R78: =SUM(L78:Q78) -> 0 | S78: 0 | T78: 0 | U78: 0 | V78: 0 | W78: 0 | X78: 0 | Y78: 0 | Z78: 0 | AA78: 0 | AB78: 0 | AC78: 0 | AD78: 0 | AE78: 0 | AF78: 0 | AG78: 0 | AH78: 0 | AI78: 0 | AJ78: 0 | AK78: 0 | AL78: =SUM(S78:AK78) -> 0 | AM78: =F78+K78+R78+AL78 -> 0 | AP78: =F78 -> 0 | AQ78: =K78 -> 0 | AR78: =R78 -> 0 | AS78: =AL78 -> 0 | AU78: =SUM(AP78:AT78) -> 0
A80: b. Foreign | D80: 1473674.4 | E80: 0 | F80: =+F82+F90 -> 1473674.4 | G80: 0 | H80: 0 | I80: 0 | J80: 0 | K80: =+K82+K90 -> 0 | L80: 0 | M80: 0 | N80: 0 | O80: 0 | P80: 0 | Q80: 0 | R80: =+R82+R90 -> 0 | S80: 61062.334 | T80: 56989.355 | U80: 161058.94 | V80: 0 | W80: 21475.468 | X80: 37833.798 | Y80: 0 | Z80: 235216.27 | AA80: 300253 | AB80: 200903.61 | AC80: 0 | AD80: 7499.761 | AE80: 0 | AF80: 0 | AG80: 10205.522 | AH80: 16141.501 | AI80: 29256.407 | AJ80: 0 | AK80: 139492.34 | AL80: =+AL82+AL90 -> 1277388.3 | AM80: =+AM82+AM90 -> 2751062.7 | AP80: =F80 -> 1473674.4 | AQ80: =K80 -> 0 | AR80: =R80 -> 0 | AS80: =AL80 -> 1277388.3 | AU80: =+AU82+AU90 -> 2751062.7
A82: Import | D82: 1466439.6 | E82: 0 | F82: =SUM(F83:F88) -> 1466439.6 | G82: 0 | H82: 0 | I82: 0 | J82: 0 | K82: =SUM(K83:K88) -> 0 | L82: 0 | M82: 0 | N82: 0 | O82: 0 | P82: 0 | Q82: 0 | R82: =SUM(R83:R88) -> 0 | S82: 61062.334 | T82: 56989.355 | U82: 161058.94 | V82: 0 | W82: 21475.468 | X82: 37833.798 | Y82: 0 | Z82: 234216.27 | AA82: 300253 | AB82: 152623.47 | AC82: 0 | AD82: 7499.761 | AE82: 0 | AF82: 0 | AG82: 10205.522 | AH82: 16141.501 | AI82: 29256.407 | AJ82: 0 | AK82: 24593.339 | AL82: =SUM(AL83:AL88) -> 1113209.2 | AM82: =SUM(AM83:AM88) -> 2579648.8 | AP82: =F82 -> 1466439.6 | AQ82: =K82 -> 0 | AR82: =R82 -> 0 | AS82: =AL82 -> 1113209.2 | AU82: =SUM(AU83:AU88) -> 2579648.8
A83: Breakbulk | D83: 648162.88 | E83: 0 | F83: =SUM(D83:E83) -> 648162.88 | G83: 0 | H83: 0 | I83: 0 | J83: 0 | K83: =SUM(G83:J83) -> 0 | L83: 0 | M83: 0 | N83: 0 | O83: 0 | P83: 0 | Q83: 0 | R83: =SUM(L83:Q83) -> 0 | S83: 0 | T83: 0 | U83: 0 | V83: 0 | W83: 21475.468 | X83: 0 | Y83: 0 | Z83: 39820.91 | AA83: 0 | AB83: 0 | AC83: 0 | AD83: 0 | AE83: 0 | AF83: 0 | AG83: 0 | AH83: 0 | AI83: 0 | AJ83: 0 | AK83: 0 | AL83: =SUM(S83:AK83) -> 61296.378 | AM83: =F83+K83+R83+AL83 -> 709459.26 | AP83: =F83 -> 648162.88 | AQ83: =K83 -> 0 | AR83: =R83 -> 0 | AS83: =AL83 -> 61296.378 | AU83: =SUM(AP83:AT83) -> 709459.26
A84: Liquid Bulk | D84: 419266.83 | E84: 0 | F84: =SUM(D84:E84) -> 419266.83 | G84: 0 | H84: 0 | I84: 0 | J84: 0 | K84: =SUM(G84:J84) -> 0 | L84: 0 | M84: 0 | N84: 0 | O84: 0 | P84: 0 | Q84: 0 | R84: =SUM(L84:Q84) -> 0 | S84: 0 | T84: 56989.355 | U84: 56595.32 | V84: 0 | W84: 0 | X84: 37833.798 | Y84: 0 | Z84: 31100.64 | AA84: 0 | AB84: 152623.47 | AC84: 0 | AD84: 7499.761 | AE84: 0 | AF84: 0 | AG84: 10205.522 | AH84: 16141.501 | AI84: 29256.407 | AJ84: 0 | AK84: 24593.339 | AL84: =SUM(S84:AK84) -> 422839.11 | AM84: =F84+K84+R84+AL84 -> 842105.94 | AP84: =F84 -> 419266.83 | AQ84: =K84 -> 0 | AR84: =R84 -> 0 | AS84: =AL84 -> 422839.11 | AU84: =SUM(AP84:AT84) -> 842105.94
A85: Dry Bulk | D85: 391197.88 | E85: 0 | F85: =SUM(D85:E85) -> 391197.88 | G85: 0 | H85: 0 | I85: 0 | J85: 0 | K85: =SUM(G85:J85) -> 0 | L85: 0 | M85: 0 | N85: 0 | O85: 0 | P85: 0 | Q85: 0 | R85: =SUM(L85:Q85) -> 0 | S85: 61062.334 | T85: 0 | U85: 104463.62 | V85: 0 | W85: 0 | X85: 0 | Y85: 0 | Z85: 163294.72 | AA85: 300253 | AB85: 0 | AC85: 0 | AD85: 0 | AE85: 0 | AF85: 0 | AG85: 0 | AH85: 0 | AI85: 0 | AJ85: 0 | AK85: 0 | AL85: =SUM(S85:AK85) -> 629073.68 | AM85: =F85+K85+R85+AL85 -> 1020271.6 | AP85: =F85 -> 391197.88 | AQ85: =K85 -> 0 | AR85: =R85 -> 0 | AS85: =AL85 -> 629073.68 | AU85: =SUM(AP85:AT85) -> 1020271.6
A86: Containerized Cargo | D86: 7812 | E86: 0 | F86: =SUM(D86:E86) -> 7812 | G86: 0 | H86: 0 | I86: 0 | J86: 0 | K86: =SUM(G86:J86) -> 0 | L86: 0 | M86: 0 | N86: 0 | O86: 0 | P86: 0 | Q86: 0 | R86: =SUM(L86:Q86) -> 0 | S86: 0 | T86: 0 | U86: 0 | V86: 0 | W86: 0 | X86: 0 | Y86: 0 | Z86: 0 | AA86: 0 | AB86: 0 | AC86: 0 | AD86: 0 | AE86: 0 | AF86: 0 | AG86: 0 | AH86: 0 | AI86: 0 | AJ86: 0 | AK86: 0 | AL86: =SUM(S86:AK86) -> 0 | AM86: =F86+K86+R86+AL86 -> 7812 | AP86: =F86 -> 7812 | AQ86: =K86 -> 0 | AR86: =R86 -> 0 | AS86: =AL86 -> 0 | AU86: =SUM(AP86:AT86) -> 7812
A87: Transit Cargo | D87: 0 | E87: 0 | F87: =SUM(D87:E87) -> 0 | G87: 0 | H87: 0 | I87: 0 | J87: 0 | K87: =SUM(G87:J87) -> 0 | L87: 0 | M87: 0 | N87: 0 | O87: 0 | P87: 0 | Q87: 0 | R87: =SUM(L87:Q87) -> 0 | S87: 0 | T87: 0 | U87: 0 | V87: 0 | W87: 0 | X87: 0 | Y87: 0 | Z87: 0 | AA87: 0 | AB87: 0 | AC87: 0 | AD87: 0 | AE87: 0 | AF87: 0 | AG87: 0 | AH87: 0 | AI87: 0 | AJ87: 0 | AK87: 0 | AL87: =SUM(S87:AK87) -> 0 | AM87: =F87+K87+R87+AL87 -> 0 | AP87: =F87 -> 0 | AQ87: =K87 -> 0 | AR87: =R87 -> 0 | AS87: =AL87 -> 0 | AU87: =SUM(AP87:AT87) -> 0
A88: Transhipment | D88: 0 | E88: 0 | F88: =SUM(D88:E88) -> 0 | G88: 0 | H88: 0 | I88: 0 | J88: 0 | K88: =SUM(G88:J88) -> 0 | L88: 0 | M88: 0 | N88: 0 | O88: 0 | P88: 0 | Q88: 0 | R88: =SUM(L88:Q88) -> 0 | S88: 0 | T88: 0 | U88: 0 | V88: 0 | W88: 0 | X88: 0 | Y88: 0 | Z88: 0 | AA88: 0 | AB88: 0 | AC88: 0 | AD88: 0 | AE88: 0 | AF88: 0 | AG88: 0 | AH88: 0 | AI88: 0 | AJ88: 0 | AK88: 0 | AL88: =SUM(S88:AK88) -> 0 | AM88: =F88+K88+R88+AL88 -> 0 | AP88: =F88 -> 0 | AQ88: =K88 -> 0 | AR88: =R88 -> 0 | AS88: =AL88 -> 0 | AU88: =SUM(AP88:AT88) -> 0
A90: Export | D90: 7234.8 | E90: 0 | F90: =SUM(F91:F96) -> 7234.8 | G90: 0 | H90: 0 | I90: 0 | J90: 0 | K90: =SUM(K91:K96) -> 0 | L90: 0 | M90: 0 | N90: 0 | O90: 0 | P90: 0 | Q90: 0 | R90: =SUM(R91:R96) -> 0 | S90: 0 | T90: 0 | U90: 0 | V90: 0 | W90: 0 | X90: 0 | Y90: 0 | Z90: 1000 | AA90: 0 | AB90: 48280.137 | AC90: 0 | AD90: 0 | AE90: 0 | AF90: 0 | AG90: 0 | AH90: 0 | AI90: 0 | AJ90: 0 | AK90: 114899 | AL90: =SUM(AL91:AL96) -> 164179.14 | AM90: =SUM(AM91:AM96) -> 171413.94 | AP90: =F90 -> 7234.8 | AQ90: =K90 -> 0 | AR90: =R90 -> 0 | AS90: =AL90 -> 164179.14 | AU90: =SUM(AU91:AU96) -> 171413.94
A91: Breakbulk | D91: 4354.8 | E91: 0 | F91: =SUM(D91:E91) -> 4354.8 | G91: 0 | H91: 0 | I91: 0 | J91: 0 | K91: =SUM(G91:J91) -> 0 | L91: 0 | M91: 0 | N91: 0 | O91: 0 | P91: 0 | Q91: 0 | R91: =SUM(L91:Q91) -> 0 | S91: 0 | T91: 0 | U91: 0 | V91: 0 | W91: 0 | X91: 0 | Y91: 0 | Z91: 1000 | AA91: 0 | AB91: 0 | AC91: 0 | AD91: 0 | AE91: 0 | AF91: 0 | AG91: 0 | AH91: 0 | AI91: 0 | AJ91: 0 | AK91: 1938 | AL91: =SUM(S91:AK91) -> 2938 | AM91: =F91+K91+R91+AL91 -> 7292.8 | AP91: =F91 -> 4354.8 | AQ91: =K91 -> 0 | AR91: =R91 -> 0 | AS91: =AL91 -> 2938 | AU91: =SUM(AP91:AT91) -> 7292.8
A92: Liquid Bulk | D92: 0 | E92: 0 | F92: =SUM(D92:E92) -> 0 | G92: 0 | H92: 0 | I92: 0 | J92: 0 | K92: =SUM(G92:J92) -> 0 | L92: 0 | M92: 0 | N92: 0 | O92: 0 | P92: 0 | Q92: 0 | R92: =SUM(L92:Q92) -> 0 | S92: 0 | T92: 0 | U92: 0 | V92: 0 | W92: 0 | X92: 0 | Y92: 0 | Z92: 0 | AA92: 0 | AB92: 48280.137 | AC92: 0 | AD92: 0 | AE92: 0 | AF92: 0 | AG92: 0 | AH92: 0 | AI92: 0 | AJ92: 0 | AK92: 98261 | AL92: =SUM(S92:AK92) -> 146541.14 | AM92: =F92+K92+R92+AL92 -> 146541.14 | AP92: =F92 -> 0 | AQ92: =K92 -> 0 | AR92: =R92 -> 0 | AS92: =AL92 -> 146541.14 | AU92: =SUM(AP92:AT92) -> 146541.14
A93: Dry Bulk | D93: 0 | E93: 0 | F93: =SUM(D93:E93) -> 0 | G93: 0 | H93: 0 | I93: 0 | J93: 0 | K93: =SUM(G93:J93) -> 0 | L93: 0 | M93: 0 | N93: 0 | O93: 0 | P93: 0 | Q93: 0 | R93: =SUM(L93:Q93) -> 0 | S93: 0 | T93: 0 | U93: 0 | V93: 0 | W93: 0 | X93: 0 | Y93: 0 | Z93: 0 | AA93: 0 | AB93: 0 | AC93: 0 | AD93: 0 | AE93: 0 | AF93: 0 | AG93: 0 | AH93: 0 | AI93: 0 | AJ93: 0 | AK93: 14700 | AL93: =SUM(S93:AK93) -> 14700 | AM93: =F93+K93+R93+AL93 -> 14700 | AP93: =F93 -> 0 | AQ93: =K93 -> 0 | AR93: =R93 -> 0 | AS93: =AL93 -> 14700 | AU93: =SUM(AP93:AT93) -> 14700
A94: Containerized Cargo | D94: 2880 | E94: 0 | F94: =SUM(D94:E94) -> 2880 | G94: 0 | H94: 0 | I94: 0 | J94: 0 | K94: =SUM(G94:J94) -> 0 | L94: 0 | M94: 0 | N94: 0 | O94: 0 | P94: 0 | Q94: 0 | R94: =SUM(L94:Q94) -> 0 | S94: 0 | T94: 0 | U94: 0 | V94: 0 | W94: 0 | X94: 0 | Y94: 0 | Z94: 0 | AA94: 0 | AB94: 0 | AC94: 0 | AD94: 0 | AE94: 0 | AF94: 0 | AG94: 0 | AH94: 0 | AI94: 0 | AJ94: 0 | AK94: 0 | AL94: =SUM(S94:AK94) -> 0 | AM94: =F94+K94+R94+AL94 -> 2880 | AP94: =F94 -> 2880 | AQ94: =K94 -> 0 | AR94: =R94 -> 0 | AS94: =AL94 -> 0 | AU94: =SUM(AP94:AT94) -> 2880
A95: Transit Cargo | D95: 0 | E95: 0 | F95: =SUM(D95:E95) -> 0 | G95: 0 | H95: 0 | I95: 0 | J95: 0 | K95: =SUM(G95:J95) -> 0 | L95: 0 | M95: 0 | N95: 0 | O95: 0 | P95: 0 | Q95: 0 | R95: =SUM(L95:Q95) -> 0 | S95: 0 | T95: 0 | U95: 0 | V95: 0 | W95: 0 | X95: 0 | Y95: 0 | Z95: 0 | AA95: 0 | AB95: 0 | AC95: 0 | AD95: 0 | AE95: 0 | AF95: 0 | AG95: 0 | AH95: 0 | AI95: 0 | AJ95: 0 | AK95: 0 | AL95: =SUM(S95:AK95) -> 0 | AM95: =F95+K95+R95+AL95 -> 0 | AP95: =F95 -> 0 | AQ95: =K95 -> 0 | AR95: =R95 -> 0 | AS95: =AL95 -> 0 | AU95: =SUM(AP95:AT95) -> 0
A96: Transhipment | D96: 0 | E96: 0 | F96: =SUM(D96:E96) -> 0 | G96: 0 | H96: 0 | I96: 0 | J96: 0 | K96: =SUM(G96:J96) -> 0 | L96: 0 | M96: 0 | N96: 0 | O96: 0 | P96: 0 | Q96: 0 | R96: =SUM(L96:Q96) -> 0 | S96: 0 | T96: 0 | U96: 0 | V96: 0 | W96: 0 | X96: 0 | Y96: 0 | Z96: 0 | AA96: 0 | AB96: 0 | AC96: 0 | AD96: 0 | AE96: 0 | AF96: 0 | AG96: 0 | AH96: 0 | AI96: 0 | AJ96: 0 | AK96: 0 | AL96: =SUM(S96:AK96) -> 0 | AM96: =F96+K96+R96+AL96 -> 0 | AP96: =F96 -> 0 | AQ96: =K96 -> 0 | AR96: =R96 -> 0 | AS96: =AL96 -> 0 | AU96: =SUM(AP96:AT96) -> 0
A98: 2. Total Passengers | D98: 0 | E98: 978176 | F98: =+F99+F104 -> 978176 | G98: 0 | H98: 825419 | I98: 792803 | J98: 0 | K98: =+K99+K104 -> 1618222 | L98: 0 | M98: 72466 | N98: 18200 | O98: 0 | P98: 0 | Q98: 0 | R98: =+R99+R104 -> 90666 | S98: 0 | T98: 0 | U98: 0 | V98: 0 | W98: 0 | X98: 0 | Y98: 0 | Z98: 0 | AA98: 0 | AB98: 0 | AC98: 0 | AD98: 0 | AE98: 0 | AF98: 0 | AG98: 0 | AH98: 0 | AI98: 0 | AJ98: 0 | AK98: 0 | AL98: =+AL99+AL104 -> 0 | AM98: =+AM99+AM104 -> 2687064 | AP98: =F98 -> 978176 | AQ98: =K98 -> 1618222 | AR98: =R98 -> 90666 | AS98: =AL98 -> 0 | AU98: =+AU99+AU104 -> 2687064
A99: Domestic | B99: Disembarked | D99: 0 | E99: 498775 | F99: =SUM(F100:F102) -> 498775 | G99: 0 | H99: 440290 | I99: 376756 | J99: 0 | K99: =SUM(K100:K102) -> 817046 | L99: 0 | M99: 34466 | N99: 8791 | O99: 0 | P99: 0 | Q99: 0 | R99: =SUM(R100:R102) -> 43257 | S99: 0 | T99: 0 | U99: 0 | V99: 0 | W99: 0 | X99: 0 | Y99: 0 | Z99: 0 | AA99: 0 | AB99: 0 | AC99: 0 | AD99: 0 | AE99: 0 | AF99: 0 | AG99: 0 | AH99: 0 | AI99: 0 | AJ99: 0 | AK99: 0 | AL99: =SUM(AL100:AL102) -> 0 | AM99: =SUM(AM100:AM102) -> 1359078 | AP99: =F99 -> 498775 | AQ99: =K99 -> 817046 | AR99: =R99 -> 43257 | AS99: =AL99 -> 0 | AU99: =SUM(AU100:AU102) -> 1359078
A100: a. Domestic | D100: 0 | E100: 498775 | F100: =SUM(D100:E100) -> 498775 | G100: 0 | H100: 440290 | I100: 376756 | J100: 0 | K100: =SUM(G100:J100) -> 817046 | L100: 0 | M100: 34466 | N100: 8791 | O100: 0 | P100: 0 | Q100: 0 | R100: =SUM(L100:Q100) -> 43257 | S100: 0 | T100: 0 | U100: 0 | V100: 0 | W100: 0 | X100: 0 | Y100: 0 | Z100: 0 | AA100: 0 | AB100: 0 | AC100: 0 | AD100: 0 | AE100: 0 | AF100: 0 | AG100: 0 | AH100: 0 | AI100: 0 | AJ100: 0 | AK100: 0 | AL100: =SUM(S100:AK100) -> 0 | AM100: =F100+K100+R100+AL100 -> 1359078 | AP100: =F100 -> 498775 | AQ100: =K100 -> 817046 | AR100: =R100 -> 43257 | AS100: =AL100 -> 0 | AU100: =SUM(AP100:AT100) -> 1359078
A101: b. Foreign | D101: 0 | E101: 0 | F101: =SUM(D101:E101) -> 0 | G101: 0 | H101: 0 | I101: 0 | J101: 0 | K101: =SUM(G101:J101) -> 0 | L101: 0 | M101: 0 | N101: 0 | O101: 0 | P101: 0 | Q101: 0 | R101: =SUM(L101:Q101) -> 0 | S101: 0 | T101: 0 | U101: 0 | V101: 0 | W101: 0 | X101: 0 | Y101: 0 | Z101: 0 | AA101: 0 | AB101: 0 | AC101: 0 | AD101: 0 | AE101: 0 | AF101: 0 | AG101: 0 | AH101: 0 | AI101: 0 | AJ101: 0 | AK101: 0 | AL101: =SUM(S101:AK101) -> 0 | AM101: =F101+K101+R101+AL101 -> 0 | AP101: =F101 -> 0 | AQ101: =K101 -> 0 | AR101: =R101 -> 0 | AS101: =AL101 -> 0 | AU101: =SUM(AP101:AT101) -> 0
A102: c. Cruise Passengers | D102: 0 | E102: 0 | F102: =SUM(D102:E102) -> 0 | G102: 0 | H102: 0 | I102: 0 | J102: 0 | K102: =SUM(G102:J102) -> 0 | L102: 0 | M102: 0 | N102: 0 | O102: 0 | P102: 0 | Q102: 0 | R102: =SUM(L102:Q102) -> 0 | S102: 0 | T102: 0 | U102: 0 | V102: 0 | W102: 0 | X102: 0 | Y102: 0 | Z102: 0 | AA102: 0 | AB102: 0 | AC102: 0 | AD102: 0 | AE102: 0 | AF102: 0 | AG102: 0 | AH102: 0 | AI102: 0 | AJ102: 0 | AK102: 0 | AL102: =SUM(S102:AK102) -> 0 | AM102: =F102+K102+R102+AL102 -> 0 | AP102: =F102 -> 0 | AQ102: =K102 -> 0 | AR102: =R102 -> 0 | AS102: =AL102 -> 0 | AU102: =SUM(AP102:AT102) -> 0
A104: Foreign | B104: Embarked | D104: 0 | E104: 479401 | F104: =SUM(F105:F107) -> 479401 | G104: 0 | H104: 385129 | I104: 416047 | J104: 0 | K104: =SUM(K105:K107) -> 801176 | L104: 0 | M104: 38000 | N104: 9409 | O104: 0 | P104: 0 | Q104: 0 | R104: =SUM(R105:R107) -> 47409 | S104: 0 | T104: 0 | U104: 0 | V104: 0 | W104: 0 | X104: 0 | Y104: 0 | Z104: 0 | AA104: 0 | AB104: 0 | AC104: 0 | AD104: 0 | AE104: 0 | AF104: 0 | AG104: 0 | AH104: 0 | AI104: 0 | AJ104: 0 | AK104: 0 | AL104: =SUM(AL105:AL107) -> 0 | AM104: =SUM(AM105:AM107) -> 1327986 | AP104: =F104 -> 479401 | AQ104: =K104 -> 801176 | AR104: =R104 -> 47409 | AS104: =AL104 -> 0 | AU104: =SUM(AU105:AU107) -> 1327986
A105: a. Domestic | D105: 0 | E105: 479401 | F105: =SUM(D105:E105) -> 479401 | G105: 0 | H105: 385129 | I105: 416047 | J105: 0 | K105: =SUM(G105:J105) -> 801176 | L105: 0 | M105: 38000 | N105: 9409 | O105: 0 | P105: 0 | Q105: 0 | R105: =SUM(L105:Q105) -> 47409 | S105: 0 | T105: 0 | U105: 0 | V105: 0 | W105: 0 | X105: 0 | Y105: 0 | Z105: 0 | AA105: 0 | AB105: 0 | AC105: 0 | AD105: 0 | AE105: 0 | AF105: 0 | AG105: 0 | AH105: 0 | AI105: 0 | AJ105: 0 | AK105: 0 | AL105: =SUM(S105:AK105) -> 0 | AM105: =F105+K105+R105+AL105 -> 1327986 | AP105: =F105 -> 479401 | AQ105: =K105 -> 801176 | AR105: =R105 -> 47409 | AS105: =AL105 -> 0 | AU105: =SUM(AP105:AT105) -> 1327986
A106: b. Foreign | D106: 0 | E106: 0 | F106: =SUM(D106:E106) -> 0 | G106: 0 | H106: 0 | I106: 0 | J106: 0 | K106: =SUM(G106:J106) -> 0 | L106: 0 | M106: 0 | N106: 0 | O106: 0 | P106: 0 | Q106: 0 | R106: =SUM(L106:Q106) -> 0 | S106: 0 | T106: 0 | U106: 0 | V106: 0 | W106: 0 | X106: 0 | Y106: 0 | Z106: 0 | AA106: 0 | AB106: 0 | AC106: 0 | AD106: 0 | AE106: 0 | AF106: 0 | AG106: 0 | AH106: 0 | AI106: 0 | AJ106: 0 | AK106: 0 | AL106: =SUM(S106:AK106) -> 0 | AM106: =F106+K106+R106+AL106 -> 0 | AP106: =F106 -> 0 | AQ106: =K106 -> 0 | AR106: =R106 -> 0 | AS106: =AL106 -> 0 | AU106: =SUM(AP106:AT106) -> 0
A107: c. Cruise Passengers | D107: 0 | E107: 0 | F107: =SUM(D107:E107) -> 0 | G107: 0 | H107: 0 | I107: 0 | J107: 0 | K107: =SUM(G107:J107) -> 0 | L107: 0 | M107: 0 | N107: 0 | O107: 0 | P107: 0 | Q107: 0 | R107: =SUM(L107:Q107) -> 0 | S107: 0 | T107: 0 | U107: 0 | V107: 0 | W107: 0 | X107: 0 | Y107: 0 | Z107: 0 | AA107: 0 | AB107: 0 | AC107: 0 | AD107: 0 | AE107: 0 | AF107: 0 | AG107: 0 | AH107: 0 | AI107: 0 | AJ107: 0 | AK107: 0 | AL107: =SUM(S107:AK107) -> 0 | AM107: =F107+K107+R107+AL107 -> 0 | AP107: =F107 -> 0 | AQ107: =K107 -> 0 | AR107: =R107 -> 0 | AS107: =AL107 -> 0 | AU107: =SUM(AP107:AT107) -> 0

Sheet MOC-ancho
A1: SHIPPING, CARGO & PASSENGER STATISTICS
A2: ='MOC-SUMMARY'!$A$2 -> PMO : Misamis Oriental/Cagayan de Oro
A3: AT ANCHORAGE ONLY
A4: 2025
A6: PARTICULARS | D6: BP | E6: BP | F6: BP | G6: TP | H6: TP | I6: TP | J6: GP | K6: GP | L6: GP | M6: PP | N6: PP | O6: PP | P6: PP | Q6: PP | R6: PP | S6: PP | T6: PP | U6: PP | V6: GRAND TOTAL
D7: Cagayan de Oro | F7: TOTAL | G7: Benoni | I7: TOTAL | J7: Balbagon | K7: PPA Jasaan Port | L7: TOTAL | M7: CDO Oil | N7: CAGLI | O7: Felcor | P7: GMC | Q7: Holcim | R7: Petro de Oro | S7: PICMW | T7: Wilmar | U7: TOTAL | Y7: BP | Z7: TP | AA7: GP | AB7: PP | AD7: GRAND TOTAL
A8: A. SHIPPING
A10: 1. Number of vessels | D10: 7 | F10: =F11+F12 -> 7 | G10: 1 | I10: =I11+I12 -> 1 | J10: 2 | K10: 4 | L10: =L11+L12 -> 6 | M10: 2 | N10: 1 | O10: 12 | P10: 1 | Q10: 4 | R10: 40 | S10: 1 | T10: 1 | U10: =U11+U12 -> 62 | V10: =+V11+V12 -> 76 | Y10: =F10 -> 7 | Z10: =I10 -> 1 | AA10: =L10 -> 6 | AB10: =U10 -> 62 | AD10: =+AD11+AD12 -> 76
A11: Domestic | D11: 6 | F11: =SUM(D11:E11) -> 6 | G11: 0 | I11: =SUM(G11:H11) -> 0 | J11: 2 | K11: 4 | L11: =SUM(J11:K11) -> 6 | M11: 1 | N11: 1 | O11: 2 | P11: 1 | Q11: 4 | R11: 24 | S11: 1 | T11: 1 | U11: =SUM(M11:T11) -> 35 | V11: =F11+I11+L11+U11 -> 47 | Y11: =F11 -> 6 | Z11: =I11 -> 0 | AA11: =L11 -> 6 | AB11: =U11 -> 35 | AD11: =SUM(Y11:AC11) -> 47
A12: Foreign | D12: 1 | F12: =SUM(D12:E12) -> 1 | G12: 1 | I12: =SUM(G12:H12) -> 1 | J12: 0 | K12: 0 | L12: =SUM(J12:K12) -> 0 | M12: 1 | N12: 0 | O12: 10 | P12: 0 | Q12: 0 | R12: 16 | S12: 0 | T12: 0 | U12: =SUM(M12:T12) -> 27 | V12: =F12+I12+L12+U12 -> 29 | Y12: =F12 -> 1 | Z12: =I12 -> 1 | AA12: =L12 -> 0 | AB12: =U12 -> 27 | AD12: =SUM(Y12:AC12) -> 29
A14: 2. Gross Tonnage | D14: 28569.13 | F14: =F15+F16 -> 28569.13 | G14: 5602 | I14: =I15+I16 -> 5602 | J14: 4196 | K14: 2558.29 | L14: =L15+L16 -> 6754.29 | M14: 9201 | N14: 195 | O14: 154835.66 | P14: 598.84 | Q14: 2139.47 | R14: 497157 | S14: 191 | T14: 395.33 | U14: =U15+U16 -> 664713.3 | V14: =+V15+V16 -> 705638.72 | Y14: =F14 -> 28569.13 | Z14: =I14 -> 5602 | AA14: =L14 -> 6754.29 | AB14: =U14 -> 664713.3 | AD14: =+AD15+AD16 -> 705638.72
A15: Domestic | D15: 5075.13 | F15: =SUM(D15:E15) -> 5075.13 | G15: 0 | I15: =SUM(G15:H15) -> 0 | J15: 4196 | K15: 2558.29 | L15: =SUM(J15:K15) -> 6754.29 | M15: 985 | N15: 195 | O15: 989.66 | P15: 598.84 | Q15: 2139.47 | R15: 51083 | S15: 191 | T15: 395.33 | U15: =SUM(M15:T15) -> 56577.3 | V15: =F15+I15+L15+U15 -> 68406.72 | Y15: =F15 -> 5075.13 | Z15: =I15 -> 0 | AA15: =L15 -> 6754.29 | AB15: =U15 -> 56577.3 | AD15: =SUM(Y15:AC15) -> 68406.72
A16: Foreign | D16: 23494 | F16: =SUM(D16:E16) -> 23494 | G16: 5602 | I16: =SUM(G16:H16) -> 5602 | J16: 0 | K16: 0 | L16: =SUM(J16:K16) -> 0 | M16: 8216 | N16: 0 | O16: 153846 | P16: 0 | Q16: 0 | R16: 446074 | S16: 0 | T16: 0 | U16: =SUM(M16:T16) -> 608136 | V16: =F16+I16+L16+U16 -> 637232 | Y16: =F16 -> 23494 | Z16: =I16 -> 5602 | AA16: =L16 -> 0 | AB16: =U16 -> 608136 | AD16: =SUM(Y16:AC16) -> 637232
A18: 3. Net Tonnage | D18: 13901.09 | F18: =F19+F20 -> 13901.09 | G18: 1681 | I18: =I19+I20 -> 1681 | J18: 1260 | K18: 2300.21 | L18: =L19+L20 -> 3560.21 | M18: 5590 | N18: 59 | O18: 66807.94 | P18: 361.62 | Q18: 942.08 | R18: 219447 | S18: 129.88 | T18: 118.6 | U18: =U19+U20 -> 293456.12 | V18: =+V19+V20 -> 312598.42 | Y18: =F18 -> 13901.09 | Z18: =I18 -> 1681 | AA18: =L18 -> 3560.21 | AB18: =U18 -> 293456.12 | AD18: =+AD19+AD20 -> 312598.42
A19: Domestic | D19: 2741.09 | F19: =SUM(D19:E19) -> 2741.09 | G19: 0 | I19: =SUM(G19:H19) -> 0 | J19: 1260 | K19: 2300.21 | L19: =SUM(J19:K19) -> 3560.21 | M19: 295 | N19: 59 | O19: 547.94 | P19: 361.62 | Q19: 942.08 | R19: 23505 | S19: 129.88 | T19: 118.6 | U19: =SUM(M19:T19) -> 25959.12 | V19: =F19+I19+L19+U19 -> 32260.42 | Y19: =F19 -> 2741.09 | Z19: =I19 -> 0 | AA19: =L19 -> 3560.21 | AB19: =U19 -> 25959.12 | AD19: =SUM(Y19:AC19) -> 32260.42
A20: Foreign | D20: 11160 | F20: =SUM(D20:E20) -> 11160 | G20: 1681 | I20: =SUM(G20:H20) -> 1681 | J20: 0 | K20: 0 | L20: =SUM(J20:K20) -> 0 | M20: 5295 | N20: 0 | O20: 66260 | P20: 0 | Q20: 0 | R20: 195942 | S20: 0 | T20: 0 | U20: =SUM(M20:T20) -> 267497 | V20: =F20+I20+L20+U20 -> 280338 | Y20: =F20 -> 11160 | Z20: =I20 -> 1681 | AA20: =L20 -> 0 | AB20: =U20 -> 267497 | AD20: =SUM(Y20:AC20) -> 280338
A22: 4. Deadweight Tonnage | D22: 39218.9 | F22: =F23+F24 -> 39218.9 | G22: 1274 | I22: =I23+I24 -> 1274 | J22: 1870.88 | K22: 7029.8505 | L22: =L23+L24 -> 8900.7305 | M22: 14917.25 | N22: 321.75 | O22: 229458.3 | P22: 988.086 | Q22: 3575.12 | R22: 790514.45 | S22: 300 | T22: 610 | U22: =U23+U24 -> 1040685 | V22: =+V23+V24 -> 1090078.6 | Y22: =F22 -> 39218.9 | Z22: =I22 -> 1274 | AA22: =L22 -> 8900.7305 | AB22: =U22 -> 1040685 | AD22: =+AD23+AD24 -> 1090078.6
A23: Domestic | D23: 9851.4 | F23: =SUM(D23:E23) -> 9851.4 | G23: 0 | I23: =SUM(G23:H23) -> 0 | J23: 1870.88 | K23: 7029.8505 | L23: =SUM(J23:K23) -> 8900.7305 | M23: 1625.25 | N23: 321.75 | O23: 2063 | P23: 988.086 | Q23: 3575.12 | R23: 77439.93 | S23: 300 | T23: 610 | U23: =SUM(M23:T23) -> 86923.136 | V23: =F23+I23+L23+U23 -> 105675.27 | Y23: =F23 -> 9851.4 | Z23: =I23 -> 0 | AA23: =L23 -> 8900.7305 | AB23: =U23 -> 86923.136 | AD23: =SUM(Y23:AC23) -> 105675.27
A24: Foreign | D24: 29367.5 | F24: =SUM(D24:E24) -> 29367.5 | G24: 1274 | I24: =SUM(G24:H24) -> 1274 | J24: 0 | K24: 0 | L24: =SUM(J24:K24) -> 0 | M24: 13292 | N24: 0 | O24: 227395.3 | P24: 0 | Q24: 0 | R24: 713074.52 | S24: 0 | T24: 0 | U24: =SUM(M24:T24) -> 953761.82 | V24: =F24+I24+L24+U24 -> 984403.32 | Y24: =F24 -> 29367.5 | Z24: =I24 -> 1274 | AA24: =L24 -> 0 | AB24: =U24 -> 953761.82 | AD24: =SUM(Y24:AC24) -> 984403.32
A26: 5. Length of Vessel (m.) | D26: 575.21 | F26: =F27+F28 -> 575.21 | G26: 93.7 | I26: =I27+I28 -> 93.7 | J26: 157.2 | K26: 225.68 | L26: =L27+L28 -> 382.88 | M26: 206.4 | N26: 27.56 | O26: 1633.02 | P26: 72.77 | Q26: 259.52 | R26: 4879.71 | S26: 37.5 | T26: 50.2 | U26: =U27+U28 -> 7166.68 | V26: =+V27+V28 -> 8218.47 | Y26: =F26 -> 575.21 | Z26: =I26 -> 93.7 | AA26: =L26 -> 382.88 | AB26: =U26 -> 7166.68 | AD26: =+AD27+AD28 -> 8218.47
A27: Domestic | D27: 395.21 | F27: =SUM(D27:E27) -> 395.21 | G27: 0 | I27: =SUM(G27:H27) -> 0 | J27: 157.2 | K27: 225.68 | L27: =SUM(J27:K27) -> 382.88 | M27: 70 | N27: 27.56 | O27: 116.05 | P27: 72.77 | Q27: 259.52 | R27: 2077.62 | S27: 37.5 | T27: 50.2 | U27: =SUM(M27:T27) -> 2711.22 | V27: =F27+I27+L27+U27 -> 3489.31 | Y27: =F27 -> 395.21 | Z27: =I27 -> 0 | AA27: =L27 -> 382.88 | AB27: =U27 -> 2711.22 | AD27: =SUM(Y27:AC27) -> 3489.31
A28: Foreign | D28: 180 | F28: =SUM(D28:E28) -> 180 | G28: 93.7 | I28: =SUM(G28:H28) -> 93.7 | J28: 0 | K28: 0 | L28: =SUM(J28:K28) -> 0 | M28: 136.4 | N28: 0 | O28: 1516.97 | P28: 0 | Q28: 0 | R28: 2802.09 | S28: 0 | T28: 0 | U28: =SUM(M28:T28) -> 4455.46 | V28: =F28+I28+L28+U28 -> 4729.16 | Y28: =F28 -> 180 | Z28: =I28 -> 93.7 | AA28: =L28 -> 0 | AB28: =U28 -> 4455.46 | AD28: =SUM(Y28:AC28) -> 4729.16
A30: 6. Beam of Vessel (m.) | D30: 104.11 | F30: =F31+F32 -> 104.11 | G30: 17.2 | I30: =I31+I32 -> 17.2 | J30: 24 | K30: 45.01 | L30: =L31+L32 -> 69.01 | M30: 32.5 | N30: 8.8 | O30: 274.79 | P30: 11.6 | Q30: 48.7 | R30: 845.62 | S30: 9.5 | T30: 9 | U30: =U31+U32 -> 1240.51 | V30: =+V31+V32 -> 1430.83 | Y30: =F30 -> 104.11 | Z30: =I30 -> 17.2 | AA30: =L30 -> 69.01 | AB30: =U30 -> 1240.51 | AD30: =+AD31+AD32 -> 1430.83
A31: Domestic | D31: 74.11 | F31: =SUM(D31:E31) -> 74.11 | G31: 0 | I31: =SUM(G31:H31) -> 0 | J31: 24 | K31: 45.01 | L31: =SUM(J31:K31) -> 69.01 | M31: 12.3 | N31: 8.8 | O31: 20.87 | P31: 11.6 | Q31: 48.7 | R31: 342.98 | S31: 9.5 | T31: 9 | U31: =SUM(M31:T31) -> 463.75 | V31: =F31+I31+L31+U31 -> 606.87 | Y31: =F31 -> 74.11 | Z31: =I31 -> 0 | AA31: =L31 -> 69.01 | AB31: =U31 -> 463.75 | AD31: =SUM(Y31:AC31) -> 606.87
A32: Foreign | D32: 30 | F32: =SUM(D32:E32) -> 30 | G32: 17.2 | I32: =SUM(G32:H32) -> 17.2 | J32: 0 | K32: 0 | L32: =SUM(J32:K32) -> 0 | M32: 20.2 | N32: 0 | O32: 253.92 | P32: 0 | Q32: 0 | R32: 502.64 | S32: 0 | T32: 0 | U32: =SUM(M32:T32) -> 776.76 | V32: =F32+I32+L32+U32 -> 823.96 | Y32: =F32 -> 30 | Z32: =I32 -> 17.2 | AA32: =L32 -> 0 | AB32: =U32 -> 776.76 | AD32: =SUM(Y32:AC32) -> 823.96
A34: 7. Draft of Vessel (m.) | D34: 26.39 | F34: =F35+F36 -> 26.39 | G34: 4.4 | I34: =I35+I36 -> 4.4 | J34: 11.3 | K34: 5.05 | L34: =L35+L36 -> 16.35 | M34: 10.65 | N34: 2.5 | O34: 64.0825 | P34: 5.125 | Q34: 12.465 | R34: 206.275 | S34: 2.3 | T34: 3.25 | U34: =U35+U36 -> 306.6475 | V34: =+V35+V36 -> 353.7875 | Y34: =F34 -> 26.39 | Z34: =I34 -> 4.4 | AA34: =L34 -> 16.35 | AB34: =U34 -> 306.6475 | AD34: =+AD35+AD36 -> 353.7875
A35: Domestic | D35: 18.775 | F35: =SUM(D35:E35) -> 18.775 | G35: 0 | I35: =SUM(G35:H35) -> 0 | J35: 11.3 | K35: 5.05 | L35: =SUM(J35:K35) -> 16.35 | M35: 3.55 | N35: 2.5 | O35: 6.825 | P35: 5.125 | Q35: 12.465 | R35: 87.225 | S35: 2.3 | T35: 3.25 | U35: =SUM(M35:T35) -> 123.24 | V35: =F35+I35+L35+U35 -> 158.365 | Y35: =F35 -> 18.775 | Z35: =I35 -> 0 | AA35: =L35 -> 16.35 | AB35: =U35 -> 123.24 | AD35: =SUM(Y35:AC35) -> 158.365
A36: Foreign | D36: 7.615 | F36: =SUM(D36:E36) -> 7.615 | G36: 4.4 | I36: =SUM(G36:H36) -> 4.4 | J36: 0 | K36: 0 | L36: =SUM(J36:K36) -> 0 | M36: 7.1 | N36: 0 | O36: 57.2575 | P36: 0 | Q36: 0 | R36: 119.05 | S36: 0 | T36: 0 | U36: =SUM(M36:T36) -> 183.4075 | V36: =F36+I36+L36+U36 -> 195.4225 | Y36: =F36 -> 7.615 | Z36: =I36 -> 4.4 | AA36: =L36 -> 0 | AB36: =U36 -> 183.4075 | AD36: =SUM(Y36:AC36) -> 195.4225
A38: 8. Down/Idle Time (hrs.) | D38: 0 | F38: =F39+F40 -> 0 | G38: 0 | I38: =I39+I40 -> 0 | J38: 0 | K38: 0 | L38: =L39+L40 -> 0 | M38: 0 | N38: 0 | O38: 0 | P38: 0 | Q38: 0 | R38: 0 | S38: 0 | T38: 0 | U38: =U39+U40 -> 0 | V38: =+V39+V40 -> 0 | Y38: =F38 -> 0 | Z38: =I38 -> 0 | AA38: =L38 -> 0 | AB38: =U38 -> 0 | AD38: =+AD39+AD40 -> 0
A39: Domestic | D39: 0 | F39: =SUM(D39:E39) -> 0 | G39: 0 | I39: =SUM(G39:H39) -> 0 | J39: 0 | K39: 0 | L39: =SUM(J39:K39) -> 0 | M39: 0 | N39: 0 | O39: 0 | P39: 0 | Q39: 0 | R39: 0 | S39: 0 | T39: 0 | U39: =SUM(M39:T39) -> 0 | V39: =F39+I39+L39+U39 -> 0 | Y39: =F39 -> 0 | Z39: =I39 -> 0 | AA39: =L39 -> 0 | AB39: =U39 -> 0 | AD39: =SUM(Y39:AC39) -> 0
A40: Foreign | D40: 0 | F40: =SUM(D40:E40) -> 0 | G40: 0 | I40: =SUM(G40:H40) -> 0 | J40: 0 | K40: 0 | L40: =SUM(J40:K40) -> 0 | M40: 0 | N40: 0 | O40: 0 | P40: 0 | Q40: 0 | R40: 0 | S40: 0 | T40: 0 | U40: =SUM(M40:T40) -> 0 | V40: =F40+I40+L40+U40 -> 0 | Y40: =F40 -> 0 | Z40: =I40 -> 0 | AA40: =L40 -> 0 | AB40: =U40 -> 0 | AD40: =SUM(Y40:AC40) -> 0
Y41: =F41 -> 0 | Z41: =I41 -> 0 | AA41: =L41 -> 0 | AB41: =U41 -> 0
A42: 9. Waiting Time (hrs.) | D42: 0 | F42: =F43+F44 -> 0 | G42: 0 | I42: =I43+I44 -> 0 | J42: 0 | K42: 0 | L42: =L43+L44 -> 0 | M42: 0 | N42: 0 | O42: 0 | P42: 0 | Q42: 0 | R42: 0 | S42: 0 | T42: 0 | U42: =U43+U44 -> 0 | V42: =+V43+V44 -> 0 | Y42: =F42 -> 0 | Z42: =I42 -> 0 | AA42: =L42 -> 0 | AB42: =U42 -> 0 | AD42: =+AD43+AD44 -> 0
A43: Domestic | D43: 0 | F43: =SUM(D43:E43) -> 0 | G43: 0 | I43: =SUM(G43:H43) -> 0 | J43: 0 | K43: 0 | L43: =SUM(J43:K43) -> 0 | M43: 0 | N43: 0 | O43: 0 | P43: 0 | Q43: 0 | R43: 0 | S43: 0 | T43: 0 | U43: =SUM(M43:T43) -> 0 | V43: =F43+I43+L43+U43 -> 0 | Y43: =F43 -> 0 | Z43: =I43 -> 0 | AA43: =L43 -> 0 | AB43: =U43 -> 0 | AD43: =SUM(Y43:AC43) -> 0
A44: Foreign | D44: 0 | F44: =SUM(D44:E44) -> 0 | G44: 0 | I44: =SUM(G44:H44) -> 0 | J44: 0 | K44: 0 | L44: =SUM(J44:K44) -> 0 | M44: 0 | N44: 0 | O44: 0 | P44: 0 | Q44: 0 | R44: 0 | S44: 0 | T44: 0 | U44: =SUM(M44:T44) -> 0 | V44: =F44+I44+L44+U44 -> 0 | Y44: =F44 -> 0 | Z44: =I44 -> 0 | AA44: =L44 -> 0 | AB44: =U44 -> 0 | AD44: =SUM(Y44:AC44) -> 0
A46: 10. Service Time (hrs.) | D46: 519.13333 | F46: =F47+F48 -> 519.13333 | G46: 10.466667 | I46: =I47+I48 -> 10.466667 | J46: 121.35 | K46: 733.95 | L46: =L47+L48 -> 855.3 | M46: 340.98333 | N46: 140 | O46: 4457.6667 | P46: 935.33333 | Q46: 591.56667 | R46: 1849.15 | S46: 96.466667 | T46: 23 | U46: =U47+U48 -> 8434.1667 | V46: =+V47+V48 -> 9819.0667 | Y46: =F46 -> 519.13333 | Z46: =I46 -> 10.466667 | AA46: =L46 -> 855.3 | AB46: =U46 -> 8434.1667 | AD46: =+AD47+AD48 -> 9819.0667
A47: Domestic | D47: 423.23333 | F47: =SUM(D47:E47) -> 423.23333 | G47: 0 | I47: =SUM(G47:H47) -> 0 | J47: 121.35 | K47: 733.95 | L47: =SUM(J47:K47) -> 855.3 | M47: 82.333333 | N47: 140 | O47: 4053 | P47: 935.33333 | Q47: 591.56667 | R47: 1417.6333 | S47: 96.466667 | T47: 23 | U47: =SUM(M47:T47) -> 7339.3333 | V47: =F47+I47+L47+U47 -> 8617.8667 | Y47: =F47 -> 423.23333 | Z47: =I47 -> 0 | AA47: =L47 -> 855.3 | AB47: =U47 -> 7339.3333 | AD47: =SUM(Y47:AC47) -> 8617.8667
A48: Foreign | D48: 95.9 | F48: =SUM(D48:E48) -> 95.9 | G48: 10.466667 | I48: =SUM(G48:H48) -> 10.466667 | J48: 0 | K48: 0 | L48: =SUM(J48:K48) -> 0 | M48: 258.65 | N48: 0 | O48: 404.66667 | P48: 0 | Q48: 0 | R48: 431.51667 | S48: 0 | T48: 0 | U48: =SUM(M48:T48) -> 1094.8333 | V48: =F48+I48+L48+U48 -> 1201.2 | Y48: =F48 -> 95.9 | Z48: =I48 -> 10.466667 | AA48: =L48 -> 0 | AB48: =U48 -> 1094.8333 | AD48: =SUM(Y48:AC48) -> 1201.2
A50: 11. Net Service Time (hrs.) | D50: 519.13333 | F50: =F51+F52 -> 519.13333 | G50: 10.466667 | I50: =I51+I52 -> 10.466667 | J50: 121.35 | K50: 733.95 | L50: =L51+L52 -> 855.3 | M50: 340.98333 | N50: 140 | O50: 4457.6667 | P50: 935.33333 | Q50: 591.56667 | R50: 1849.15 | S50: 96.466667 | T50: 23 | U50: =U51+U52 -> 8434.1667 | V50: =+V51+V52 -> 9819.0667 | Y50: =F50 -> 519.13333 | Z50: =I50 -> 10.466667 | AA50: =L50 -> 855.3 | AB50: =U50 -> 8434.1667 | AD50: =+AD51+AD52 -> 9819.0667
A51: Domestic | D51: 423.23333 | F51: =SUM(D51:E51) -> 423.23333 | G51: 0 | I51: =SUM(G51:H51) -> 0 | J51: 121.35 | K51: 733.95 | L51: =SUM(J51:K51) -> 855.3 | M51: 82.333333 | N51: 140 | O51: 4053 | P51: 935.33333 | Q51: 591.56667 | R51: 1417.6333 | S51: 96.466667 | T51: 23 | U51: =SUM(M51:T51) -> 7339.3333 | V51: =F51+I51+L51+U51 -> 8617.8667 | Y51: =F51 -> 423.23333 | Z51: =I51 -> 0 | AA51: =L51 -> 855.3 | AB51: =U51 -> 7339.3333 | AD51: =SUM(Y51:AC51) -> 8617.8667
A52: Foreign | D52: 95.9 | F52: =SUM(D52:E52) -> 95.9 | G52: 10.466667 | I52: =SUM(G52:H52) -> 10.466667 | J52: 0 | K52: 0 | L52: =SUM(J52:K52) -> 0 | M52: 258.65 | N52: 0 | O52: 404.66667 | P52: 0 | Q52: 0 | R52: 431.51667 | S52: 0 | T52: 0 | U52: =SUM(M52:T52) -> 1094.8333 | V52: =F52+I52+L52+U52 -> 1201.2 | Y52: =F52 -> 95.9 | Z52: =I52 -> 10.466667 | AA52: =L52 -> 0 | AB52: =U52 -> 1094.8333 | AD52: =SUM(Y52:AC52) -> 1201.2
A54: 12. Total Dwell Time in Port (hrs.) | D54: 519.13333 | F54: =F55+F56 -> 519.13333 | G54: 10.466667 | I54: =I55+I56 -> 10.466667 | J54: 121.35 | K54: 733.95 | L54: =L55+L56 -> 855.3 | M54: 340.98333 | N54: 140 | O54: 4457.6667 | P54: 935.33333 | Q54: 591.56667 | R54: 1849.15 | S54: 96.466667 | T54: 23 | U54: =U55+U56 -> 8434.1667 | V54: =+V55+V56 -> 9819.0667 | Y54: =F54 -> 519.13333 | Z54: =I54 -> 10.466667 | AA54: =L54 -> 855.3 | AB54: =U54 -> 8434.1667 | AD54: =+AD55+AD56 -> 9819.0667
A55: Domestic | D55: 423.23333 | F55: =SUM(D55:E55) -> 423.23333 | G55: 0 | I55: =SUM(G55:H55) -> 0 | J55: 121.35 | K55: 733.95 | L55: =SUM(J55:K55) -> 855.3 | M55: 82.333333 | N55: 140 | O55: 4053 | P55: 935.33333 | Q55: 591.56667 | R55: 1417.6333 | S55: 96.466667 | T55: 23 | U55: =SUM(M55:T55) -> 7339.3333 | V55: =F55+I55+L55+U55 -> 8617.8667 | Y55: =F55 -> 423.23333 | Z55: =I55 -> 0 | AA55: =L55 -> 855.3 | AB55: =U55 -> 7339.3333 | AD55: =SUM(Y55:AC55) -> 8617.8667
A56: Foreign | D56: 95.9 | F56: =SUM(D56:E56) -> 95.9 | G56: 10.466667 | I56: =SUM(G56:H56) -> 10.466667 | J56: 0 | K56: 0 | L56: =SUM(J56:K56) -> 0 | M56: 258.65 | N56: 0 | O56: 404.66667 | P56: 0 | Q56: 0 | R56: 431.51667 | S56: 0 | T56: 0 | U56: =SUM(M56:T56) -> 1094.8333 | V56: =F56+I56+L56+U56 -> 1201.2 | Y56: =F56 -> 95.9 | Z56: =I56 -> 10.466667 | AA56: =L56 -> 0 | AB56: =U56 -> 1094.8333 | AD56: =SUM(Y56:AC56) -> 1201.2
A58: B . CARGO AND PASSENGER
A60: 1. Total Cargo Throughput (m.t.) | D60: 0 | F60: =+F62+F80 -> 0 | G60: 0 | I60: =+I62+I80 -> 0 | J60: 0 | K60: 680 | L60: =+L62+L80 -> 680 | M60: 1870.153 | N60: 0 | O60: 55654.269 | P60: 3793.4 | Q60: 0 | R60: 125688.02 | S60: 0 | T60: 0 | U60: =+U62+U80 -> 187005.85 | V60: =+V62+V80 -> 187685.85 | Y60: =F60 -> 0 | Z60: =I60 -> 0 | AA60: =L60 -> 680 | AB60: =U60 -> 187005.85 | AD60: =+AD62+AD80 -> 187685.85
A62: a. Domestic | D62: 0 | F62: =+F64+F72 -> 0 | G62: 0 | I62: =+I64+I72 -> 0 | J62: 0 | K62: 680 | L62: =+L64+L72 -> 680 | M62: 1870.153 | N62: 0 | O62: 2463.96 | P62: 3793.4 | Q62: 0 | R62: 40559.931 | S62: 0 | T62: 0 | U62: =+U64+U72 -> 48687.444 | V62: =+V64+V72 -> 49367.444 | Y62: =F62 -> 0 | Z62: =I62 -> 0 | AA62: =L62 -> 680 | AB62: =U62 -> 48687.444 | AD62: =+AD64+AD72 -> 49367.444
A64: Inbound | D64: 0 | F64: =SUM(F65:F70) -> 0 | G64: 0 | I64: =SUM(I65:I70) -> 0 | J64: 0 | K64: 680 | L64: =SUM(L65:L70) -> 680 | M64: 0 | N64: 0 | O64: 2413.96 | P64: 3793.4 | Q64: 0 | R64: 35361.236 | S64: 0 | T64: 0 | U64: =SUM(U65:U70) -> 41568.596 | V64: =SUM(V65:V70) -> 42248.596 | Y64: =F64 -> 0 | Z64: =I64 -> 0 | AA64: =L64 -> 680 | AB64: =U64 -> 41568.596 | AD64: =SUM(AD65:AD70) -> 42248.596
A65: Breakbulk | D65: 0 | F65: =SUM(D65:E65) -> 0 | G65: 0 | I65: =SUM(G65:H65) -> 0 | J65: 0 | K65: 0 | L65: =SUM(J65:K65) -> 0 | M65: 0 | N65: 0 | O65: 0 | P65: 0 | Q65: 0 | R65: 0 | S65: 0 | T65: 0 | U65: =SUM(M65:T65) -> 0 | V65: =F65+I65+L65+U65 -> 0 | Y65: =F65 -> 0 | Z65: =I65 -> 0 | AA65: =L65 -> 0 | AB65: =U65 -> 0 | AD65: =SUM(Y65:AC65) -> 0
A66: Liquid Bulk | D66: 0 | F66: =SUM(D66:E66) -> 0 | G66: 0 | I66: =SUM(G66:H66) -> 0 | J66: 0 | K66: 680 | L66: =SUM(J66:K66) -> 680 | M66: 0 | N66: 0 | O66: 2413.96 | P66: 0 | Q66: 0 | R66: 35361.236 | S66: 0 | T66: 0 | U66: =SUM(M66:T66) -> 37775.196 | V66: =F66+I66+L66+U66 -> 38455.196 | Y66: =F66 -> 0 | Z66: =I66 -> 0 | AA66: =L66 -> 680 | AB66: =U66 -> 37775.196 | AD66: =SUM(Y66:AC66) -> 38455.196
A67: Dry Bulk | D67: 0 | F67: =SUM(D67:E67) -> 0 | G67: 0 | I67: =SUM(G67:H67) -> 0 | J67: 0 | K67: 0 | L67: =SUM(J67:K67) -> 0 | M67: 0 | N67: 0 | O67: 0 | P67: 3793.4 | Q67: 0 | R67: 0 | S67: 0 | T67: 0 | U67: =SUM(M67:T67) -> 3793.4 | V67: =F67+I67+L67+U67 -> 3793.4 | Y67: =F67 -> 0 | Z67: =I67 -> 0 | AA67: =L67 -> 0 | AB67: =U67 -> 3793.4 | AD67: =SUM(Y67:AC67) -> 3793.4
A68: Containerized | D68: 0 | F68: =SUM(D68:E68) -> 0 | G68: 0 | I68: =SUM(G68:H68) -> 0 | J68: 0 | K68: 0 | L68: =SUM(J68:K68) -> 0 | M68: 0 | N68: 0 | O68: 0 | P68: 0 | Q68: 0 | R68: 0 | S68: 0 | T68: 0 | U68: =SUM(M68:T68) -> 0 | V68: =F68+I68+L68+U68 -> 0 | Y68: =F68 -> 0 | Z68: =I68 -> 0 | AA68: =L68 -> 0 | AB68: =U68 -> 0 | AD68: =SUM(Y68:AC68) -> 0
A69: Transit Cargo | D69: 0 | F69: =SUM(D69:E69) -> 0 | G69: 0 | I69: =SUM(G69:H69) -> 0 | J69: 0 | K69: 0 | L69: =SUM(J69:K69) -> 0 | M69: 0 | N69: 0 | O69: 0 | P69: 0 | Q69: 0 | R69: 0 | S69: 0 | T69: 0 | U69: =SUM(M69:T69) -> 0 | V69: =F69+I69+L69+U69 -> 0 | Y69: =F69 -> 0 | Z69: =I69 -> 0 | AA69: =L69 -> 0 | AB69: =U69 -> 0 | AD69: =SUM(Y69:AC69) -> 0
A70: Transhipment | D70: 0 | F70: =SUM(D70:E70) -> 0 | G70: 0 | I70: =SUM(G70:H70) -> 0 | J70: 0 | K70: 0 | L70: =SUM(J70:K70) -> 0 | M70: 0 | N70: 0 | O70: 0 | P70: 0 | Q70: 0 | R70: 0 | S70: 0 | T70: 0 | U70: =SUM(M70:T70) -> 0 | V70: =F70+I70+L70+U70 -> 0 | Y70: =F70 -> 0 | Z70: =I70 -> 0 | AA70: =L70 -> 0 | AB70: =U70 -> 0 | AD70: =SUM(Y70:AC70) -> 0
A72: Outbound | D72: 0 | F72: =SUM(F73:F78) -> 0 | G72: 0 | I72: =SUM(I73:I78) -> 0 | J72: 0 | K72: 0 | L72: =SUM(L73:L78) -> 0 | M72: 1870.153 | N72: 0 | O72: 50 | P72: 0 | Q72: 0 | R72: 5198.695 | S72: 0 | T72: 0 | U72: =SUM(U73:U78) -> 7118.848 | V72: =SUM(V73:V78) -> 7118.848 | Y72: =F72 -> 0 | Z72: =I72 -> 0 | AA72: =L72 -> 0 | AB72: =U72 -> 7118.848 | AD72: =SUM(AD73:AD78) -> 7118.848
A73: Breakbulk | D73: 0 | F73: =SUM(D73:E73) -> 0 | G73: 0 | I73: =SUM(G73:H73) -> 0 | J73: 0 | K73: 0 | L73: =SUM(J73:K73) -> 0 | M73: 0 | N73: 0 | O73: 50 | P73: 0 | Q73: 0 | R73: 0 | S73: 0 | T73: 0 | U73: =SUM(M73:T73) -> 50 | V73: =F73+I73+L73+U73 -> 50 | Y73: =F73 -> 0 | Z73: =I73 -> 0 | AA73: =L73 -> 0 | AB73: =U73 -> 50 | AD73: =SUM(Y73:AC73) -> 50
A74: Liquid Bulk | D74: 0 | F74: =SUM(D74:E74) -> 0 | G74: 0 | I74: =SUM(G74:H74) -> 0 | J74: 0 | K74: 0 | L74: =SUM(J74:K74) -> 0 | M74: 1870.153 | N74: 0 | O74: 0 | P74: 0 | Q74: 0 | R74: 5198.695 | S74: 0 | T74: 0 | U74: =SUM(M74:T74) -> 7068.848 | V74: =F74+I74+L74+U74 -> 7068.848 | Y74: =F74 -> 0 | Z74: =I74 -> 0 | AA74: =L74 -> 0 | AB74: =U74 -> 7068.848 | AD74: =SUM(Y74:AC74) -> 7068.848
A75: Dry Bulk | D75: 0 | F75: =SUM(D75:E75) -> 0 | G75: 0 | I75: =SUM(G75:H75) -> 0 | J75: 0 | K75: 0 | L75: =SUM(J75:K75) -> 0 | M75: 0 | N75: 0 | O75: 0 | P75: 0 | Q75: 0 | R75: 0 | S75: 0 | T75: 0 | U75: =SUM(M75:T75) -> 0 | V75: =F75+I75+L75+U75 -> 0 | Y75: =F75 -> 0 | Z75: =I75 -> 0 | AA75: =L75 -> 0 | AB75: =U75 -> 0 | AD75: =SUM(Y75:AC75) -> 0
A76: Containerized Cargo | D76: 0 | F76: =SUM(D76:E76) -> 0 | G76: 0 | I76: =SUM(G76:H76) -> 0 | J76: 0 | K76: 0 | L76: =SUM(J76:K76) -> 0 | M76: 0 | N76: 0 | O76: 0 | P76: 0 | Q76: 0 | R76: 0 | S76: 0 | T76: 0 | U76: =SUM(M76:T76) -> 0 | V76: =F76+I76+L76+U76 -> 0 | Y76: =F76 -> 0 | Z76: =I76 -> 0 | AA76: =L76 -> 0 | AB76: =U76 -> 0 | AD76: =SUM(Y76:AC76) -> 0
A77: Transit Cargo | D77: 0 | F77: =SUM(D77:E77) -> 0 | G77: 0 | I77: =SUM(G77:H77) -> 0 | J77: 0 | K77: 0 | L77: =SUM(J77:K77) -> 0 | M77: 0 | N77: 0 | O77: 0 | P77: 0 | Q77: 0 | R77: 0 | S77: 0 | T77: 0 | U77: =SUM(M77:T77) -> 0 | V77: =F77+I77+L77+U77 -> 0 | Y77: =F77 -> 0 | Z77: =I77 -> 0 | AA77: =L77 -> 0 | AB77: =U77 -> 0 | AD77: =SUM(Y77:AC77) -> 0
A78: Transhipment | D78: 0 | F78: =SUM(D78:E78) -> 0 | G78: 0 | I78: =SUM(G78:H78) -> 0 | J78: 0 | K78: 0 | L78: =SUM(J78:K78) -> 0 | M78: 0 | N78: 0 | O78: 0 | P78: 0 | Q78: 0 | R78: 0 | S78: 0 | T78: 0 | U78: =SUM(M78:T78) -> 0 | V78: =F78+I78+L78+U78 -> 0 | Y78: =F78 -> 0 | Z78: =I78 -> 0 | AA78: =L78 -> 0 | AB78: =U78 -> 0 | AD78: =SUM(Y78:AC78) -> 0
A80: b. Foreign | D80: 0 | F80: =+F82+F90 -> 0 | G80: 0 | I80: =+I82+I90 -> 0 | J80: 0 | K80: 0 | L80: =+L82+L90 -> 0 | M80: 0 | N80: 0 | O80: 53190.309 | P80: 0 | Q80: 0 | R80: 85128.094 | S80: 0 | T80: 0 | U80: =+U82+U90 -> 138318.4 | V80: =+V82+V90 -> 138318.4 | Y80: =F80 -> 0 | Z80: =I80 -> 0 | AA80: =L80 -> 0 | AB80: =U80 -> 138318.4 | AD80: =+AD82+AD90 -> 138318.4
A82: Import | D82: 0 | F82: =SUM(F83:F88) -> 0 | G82: 0 | I82: =SUM(I83:I88) -> 0 | J82: 0 | K82: 0 | L82: =SUM(L83:L88) -> 0 | M82: 0 | N82: 0 | O82: 53190.309 | P82: 0 | Q82: 0 | R82: 85128.094 | S82: 0 | T82: 0 | U82: =SUM(U83:U88) -> 138318.4 | V82: =SUM(V83:V88) -> 138318.4 | Y82: =F82 -> 0 | Z82: =I82 -> 0 | AA82: =L82 -> 0 | AB82: =U82 -> 138318.4 | AD82: =SUM(AD83:AD88) -> 138318.4
A83: Breakbulk | D83: 0 | F83: =SUM(D83:E83) -> 0 | G83: 0 | I83: =SUM(G83:H83) -> 0 | J83: 0 | K83: 0 | L83: =SUM(J83:K83) -> 0 | M83: 0 | N83: 0 | O83: 0 | P83: 0 | Q83: 0 | R83: 0 | S83: 0 | T83: 0 | U83: =SUM(M83:T83) -> 0 | V83: =F83+I83+L83+U83 -> 0 | Y83: =F83 -> 0 | Z83: =I83 -> 0 | AA83: =L83 -> 0 | AB83: =U83 -> 0 | AD83: =SUM(Y83:AC83) -> 0
A84: Liquid Bulk | D84: 0 | F84: =SUM(D84:E84) -> 0 | G84: 0 | I84: =SUM(G84:H84) -> 0 | J84: 0 | K84: 0 | L84: =SUM(J84:K84) -> 0 | M84: 0 | N84: 0 | O84: 53190.309 | P84: 0 | Q84: 0 | R84: 85128.094 | S84: 0 | T84: 0 | U84: =SUM(M84:T84) -> 138318.4 | V84: =F84+I84+L84+U84 -> 138318.4 | Y84: =F84 -> 0 | Z84: =I84 -> 0 | AA84: =L84 -> 0 | AB84: =U84 -> 138318.4 | AD84: =SUM(Y84:AC84) -> 138318.4
A85: Dry Bulk | D85: 0 | F85: =SUM(D85:E85) -> 0 | G85: 0 | I85: =SUM(G85:H85) -> 0 | J85: 0 | K85: 0 | L85: =SUM(J85:K85) -> 0 | M85: 0 | N85: 0 | O85: 0 | P85: 0 | Q85: 0 | R85: 0 | S85: 0 | T85: 0 | U85: =SUM(M85:T85) -> 0 | V85: =F85+I85+L85+U85 -> 0 | Y85: =F85 -> 0 | Z85: =I85 -> 0 | AA85: =L85 -> 0 | AB85: =U85 -> 0 | AD85: =SUM(Y85:AC85) -> 0
A86: Containerized Cargo | D86: 0 | F86: =SUM(D86:E86) -> 0 | G86: 0 | I86: =SUM(G86:H86) -> 0 | J86: 0 | K86: 0 | L86: =SUM(J86:K86) -> 0 | M86: 0 | N86: 0 | O86: 0 | P86: 0 | Q86: 0 | R86: 0 | S86: 0 | T86: 0 | U86: =SUM(M86:T86) -> 0 | V86: =F86+I86+L86+U86 -> 0 | Y86: =F86 -> 0 | Z86: =I86 -> 0 | AA86: =L86 -> 0 | AB86: =U86 -> 0 | AD86: =SUM(Y86:AC86) -> 0
A87: Transit Cargo | D87: 0 | F87: =SUM(D87:E87) -> 0 | G87: 0 | I87: =SUM(G87:H87) -> 0 | J87: 0 | K87: 0 | L87: =SUM(J87:K87) -> 0 | M87: 0 | N87: 0 | O87: 0 | P87: 0 | Q87: 0 | R87: 0 | S87: 0 | T87: 0 | U87: =SUM(M87:T87) -> 0 | V87: =F87+I87+L87+U87 -> 0 | Y87: =F87 -> 0 | Z87: =I87 -> 0 | AA87: =L87 -> 0 | AB87: =U87 -> 0 | AD87: =SUM(Y87:AC87) -> 0
A88: Transhipment | D88: 0 | F88: =SUM(D88:E88) -> 0 | G88: 0 | I88: =SUM(G88:H88) -> 0 | J88: 0 | K88: 0 | L88: =SUM(J88:K88) -> 0 | M88: 0 | N88: 0 | O88: 0 | P88: 0 | Q88: 0 | R88: 0 | S88: 0 | T88: 0 | U88: =SUM(M88:T88) -> 0 | V88: =F88+I88+L88+U88 -> 0 | Y88: =F88 -> 0 | Z88: =I88 -> 0 | AA88: =L88 -> 0 | AB88: =U88 -> 0 | AD88: =SUM(Y88:AC88) -> 0
A90: Export | D90: 0 | F90: =SUM(F91:F96) -> 0 | G90: 0 | I90: =SUM(I91:I96) -> 0 | J90: 0 | K90: 0 | L90: =SUM(L91:L96) -> 0 | M90: 0 | N90: 0 | O90: 0 | P90: 0 | Q90: 0 | R90: 0 | S90: 0 | T90: 0 | U90: =SUM(U91:U96) -> 0 | V90: =SUM(V91:V96) -> 0 | Y90: =F90 -> 0 | Z90: =I90 -> 0 | AA90: =L90 -> 0 | AB90: =U90 -> 0 | AD90: =SUM(AD91:AD96) -> 0
A91: Breakbulk | D91: 0 | F91: =SUM(D91:E91) -> 0 | G91: 0 | I91: =SUM(G91:H91) -> 0 | J91: 0 | K91: 0 | L91: =SUM(J91:K91) -> 0 | M91: 0 | N91: 0 | O91: 0 | P91: 0 | Q91: 0 | R91: 0 | S91: 0 | T91: 0 | U91: =SUM(M91:T91) -> 0 | V91: =F91+I91+L91+U91 -> 0 | Y91: =F91 -> 0 | Z91: =I91 -> 0 | AA91: =L91 -> 0 | AB91: =U91 -> 0 | AD91: =SUM(Y91:AC91) -> 0
A92: Liquid Bulk | D92: 0 | F92: =SUM(D92:E92) -> 0 | G92: 0 | I92: =SUM(G92:H92) -> 0 | J92: 0 | K92: 0 | L92: =SUM(J92:K92) -> 0 | M92: 0 | N92: 0 | O92: 0 | P92: 0 | Q92: 0 | R92: 0 | S92: 0 | T92: 0 | U92: =SUM(M92:T92) -> 0 | V92: =F92+I92+L92+U92 -> 0 | Y92: =F92 -> 0 | Z92: =I92 -> 0 | AA92: =L92 -> 0 | AB92: =U92 -> 0 | AD92: =SUM(Y92:AC92) -> 0
A93: Dry Bulk | D93: 0 | F93: =SUM(D93:E93) -> 0 | G93: 0 | I93: =SUM(G93:H93) -> 0 | J93: 0 | K93: 0 | L93: =SUM(J93:K93) -> 0 | M93: 0 | N93: 0 | O93: 0 | P93: 0 | Q93: 0 | R93: 0 | S93: 0 | T93: 0 | U93: =SUM(M93:T93) -> 0 | V93: =F93+I93+L93+U93 -> 0 | Y93: =F93 -> 0 | Z93: =I93 -> 0 | AA93: =L93 -> 0 | AB93: =U93 -> 0 | AD93: =SUM(Y93:AC93) -> 0
A94: Containerized Cargo | D94: 0 | F94: =SUM(D94:E94) -> 0 | G94: 0 | I94: =SUM(G94:H94) -> 0 | J94: 0 | K94: 0 | L94: =SUM(J94:K94) -> 0 | M94: 0 | N94: 0 | O94: 0 | P94: 0 | Q94: 0 | R94: 0 | S94: 0 | T94: 0 | U94: =SUM(M94:T94) -> 0 | V94: =F94+I94+L94+U94 -> 0 | Y94: =F94 -> 0 | Z94: =I94 -> 0 | AA94: =L94 -> 0 | AB94: =U94 -> 0 | AD94: =SUM(Y94:AC94) -> 0
A95: Transit Cargo | D95: 0 | F95: =SUM(D95:E95) -> 0 | G95: 0 | I95: =SUM(G95:H95) -> 0 | J95: 0 | K95: 0 | L95: =SUM(J95:K95) -> 0 | M95: 0 | N95: 0 | O95: 0 | P95: 0 | Q95: 0 | R95: 0 | S95: 0 | T95: 0 | U95: =SUM(M95:T95) -> 0 | V95: =F95+I95+L95+U95 -> 0 | Y95: =F95 -> 0 | Z95: =I95 -> 0 | AA95: =L95 -> 0 | AB95: =U95 -> 0 | AD95: =SUM(Y95:AC95) -> 0
A96: Transhipment | D96: 0 | F96: =SUM(D96:E96) -> 0 | G96: 0 | I96: =SUM(G96:H96) -> 0 | J96: 0 | K96: 0 | L96: =SUM(J96:K96) -> 0 | M96: 0 | N96: 0 | O96: 0 | P96: 0 | Q96: 0 | R96: 0 | S96: 0 | T96: 0 | U96: =SUM(M96:T96) -> 0 | V96: =F96+I96+L96+U96 -> 0 | Y96: =F96 -> 0 | Z96: =I96 -> 0 | AA96: =L96 -> 0 | AB96: =U96 -> 0 | AD96: =SUM(Y96:AC96) -> 0
A98: 2. Total Passengers | D98: 0 | F98: =+F99+F104 -> 0 | G98: 180 | I98: =+I99+I104 -> 180 | J98: 0 | K98: 0 | L98: =+L99+L104 -> 0 | M98: 0 | N98: 0 | O98: 0 | P98: 0 | Q98: 0 | R98: 0 | S98: 0 | T98: 0 | U98: =+U99+U104 -> 0 | V98: =+V99+V104 -> 180 | Y98: =F98 -> 0 | Z98: =I98 -> 180 | AA98: =L98 -> 0 | AB98: =U98 -> 0 | AD98: =+AD99+AD104 -> 180
A99: Domestic | B99: Disembarked | D99: 0 | F99: =SUM(F100:F102) -> 0 | G99: 90 | I99: =SUM(I100:I102) -> 90 | J99: 0 | K99: 0 | L99: =SUM(L100:L102) -> 0 | M99: 0 | N99: 0 | O99: 0 | P99: 0 | Q99: 0 | R99: 0 | S99: 0 | T99: 0 | U99: =SUM(U100:U102) -> 0 | V99: =SUM(V100:V102) -> 90 | Y99: =F99 -> 0 | Z99: =I99 -> 90 | AA99: =L99 -> 0 | AB99: =U99 -> 0 | AD99: =SUM(AD100:AD102) -> 90
A100: a. Domestic | D100: 0 | F100: =SUM(D100:E100) -> 0 | G100: 0 | I100: =SUM(G100:H100) -> 0 | J100: 0 | K100: 0 | L100: =SUM(J100:K100) -> 0 | M100: 0 | N100: 0 | O100: 0 | P100: 0 | Q100: 0 | R100: 0 | S100: 0 | T100: 0 | U100: =SUM(M100:T100) -> 0 | V100: =F100+I100+L100+U100 -> 0 | Y100: =F100 -> 0 | Z100: =I100 -> 0 | AA100: =L100 -> 0 | AB100: =U100 -> 0 | AD100: =SUM(Y100:AC100) -> 0
A101: b. Foreign | D101: 0 | F101: =SUM(D101:E101) -> 0 | G101: 0 | I101: =SUM(G101:H101) -> 0 | J101: 0 | K101: 0 | L101: =SUM(J101:K101) -> 0 | M101: 0 | N101: 0 | O101: 0 | P101: 0 | Q101: 0 | R101: 0 | S101: 0 | T101: 0 | U101: =SUM(M101:T101) -> 0 | V101: =F101+I101+L101+U101 -> 0 | Y101: =F101 -> 0 | Z101: =I101 -> 0 | AA101: =L101 -> 0 | AB101: =U101 -> 0 | AD101: =SUM(Y101:AC101) -> 0
A102: c. Cruise Passengers | D102: 0 | F102: =SUM(D102:E102) -> 0 | G102: 90 | I102: =SUM(G102:H102) -> 90 | J102: 0 | K102: 0 | L102: =SUM(J102:K102) -> 0 | M102: 0 | N102: 0 | O102: 0 | P102: 0 | Q102: 0 | R102: 0 | S102: 0 | T102: 0 | U102: =SUM(M102:T102) -> 0 | V102: =F102+I102+L102+U102 -> 90 | Y102: =F102 -> 0 | Z102: =I102 -> 90 | AA102: =L102 -> 0 | AB102: =U102 -> 0 | AD102: =SUM(Y102:AC102) -> 90
A104: Foreign | B104: Embarked | D104: 0 | F104: =SUM(F105:F107) -> 0 | G104: 90 | I104: =SUM(I105:I107) -> 90 | J104: 0 | K104: 0 | L104: =SUM(L105:L107) -> 0 | M104: 0 | N104: 0 | O104: 0 | P104: 0 | Q104: 0 | R104: 0 | S104: 0 | T104: 0 | U104: =SUM(U105:U107) -> 0 | V104: =SUM(V105:V107) -> 90 | Y104: =F104 -> 0 | Z104: =I104 -> 90 | AA104: =L104 -> 0 | AB104: =U104 -> 0 | AD104: =SUM(AD105:AD107) -> 90
A105: a. Domestic | D105: 0 | F105: =SUM(D105:E105) -> 0 | G105: 0 | I105: =SUM(G105:H105) -> 0 | J105: 0 | K105: 0 | L105: =SUM(J105:K105) -> 0 | M105: 0 | N105: 0 | O105: 0 | P105: 0 | Q105: 0 | R105: 0 | S105: 0 | T105: 0 | U105: =SUM(M105:T105) -> 0 | V105: =F105+I105+L105+U105 -> 0 | Y105: =F105 -> 0 | Z105: =I105 -> 0 | AA105: =L105 -> 0 | AB105: =U105 -> 0 | AD105: =SUM(Y105:AC105) -> 0
A106: b. Foreign | D106: 0 | F106: =SUM(D106:E106) -> 0 | G106: 0 | I106: =SUM(G106:H106) -> 0 | J106: 0 | K106: 0 | L106: =SUM(J106:K106) -> 0 | M106: 0 | N106: 0 | O106: 0 | P106: 0 | Q106: 0 | R106: 0 | S106: 0 | T106: 0 | U106: =SUM(M106:T106) -> 0 | V106: =F106+I106+L106+U106 -> 0 | Y106: =F106 -> 0 | Z106: =I106 -> 0 | AA106: =L106 -> 0 | AB106: =U106 -> 0 | AD106: =SUM(Y106:AC106) -> 0
A107: c. Cruise Passengers | D107: 0 | F107: =SUM(D107:E107) -> 0 | G107: 90 | I107: =SUM(G107:H107) -> 90 | J107: 0 | K107: 0 | L107: =SUM(J107:K107) -> 0 | M107: 0 | N107: 0 | O107: 0 | P107: 0 | Q107: 0 | R107: 0 | S107: 0 | T107: 0 | U107: =SUM(M107:T107) -> 0 | V107: =F107+I107+L107+U107 -> 90 | Y107: =F107 -> 0 | Z107: =I107 -> 90 | AA107: =L107 -> 0 | AB107: =U107 -> 0 | AD107: =SUM(Y107:AC107) -> 90
