Workbook

Sheet MOC-SUMMARY
A1: SUMMARY SHIPPING, CARGO & PASSENGER STATISTICS
A2: PMO : Misamis Oriental/Cagayan de Oro
A3: AT BERTH AND ANCHORAGE
A4: 2025
A6: PARTICULARS | D6: A T B E R T H | H6: AT ANCHORAGE | L6: TOTAL
D7: Base Port | E7: Terminal Ports | F7: Government Ports | G7: Private Ports | H7: Base Port | I7: Terminal Ports | J7: Government Ports | K7: Private Ports
A8: A. SHIPPING
A10: 1. Number of vessels | D10: ='MOC-berth'!AP10 -> 2650 | E10: ='MOC-berth'!AQ10 -> 12135 | F10: ='MOC-berth'!AR10 -> 1365 | G10: ='MOC-berth'!AS10 -> 829 | H10: ='MOC-ancho'!Y10 -> 7 | I10: ='MOC-ancho'!Z10 -> 1 | J10: ='MOC-ancho'!AA10 -> 6 | K10: ='MOC-ancho'!AB10 -> 62 | L10: =+L11+L12 -> 17055
A11: Domestic | D11: ='MOC-berth'!AP11 -> 2521 | E11: ='MOC-berth'!AQ11 -> 12135 | F11: ='MOC-berth'!AR11 -> 1363 | G11: ='MOC-berth'!AS11 -> 616 | H11: ='MOC-ancho'!Y11 -> 6 | I11: ='MOC-ancho'!Z11 -> 0 | J11: ='MOC-ancho'!AA11 -> 6 | K11: ='MOC-ancho'!AB11 -> 35 | L11: =SUM(D11:K11) -> 16682
A12: Foreign | D12: ='MOC-berth'!AP12 -> 129 | E12: ='MOC-berth'!AQ12 -> 0 | F12: ='MOC-berth'!AR12 -> 2 | G12: ='MOC-berth'!AS12 -> 213 | H12: ='MOC-ancho'!Y12 -> 1 | I12: ='MOC-ancho'!Z12 -> 1 | J12: ='MOC-ancho'!AA12 -> 0 | K12: ='MOC-ancho'!AB12 -> 27 | L12: =SUM(D12:K12) -> 373
A14: 2. Gross Tonnage | D14: ='MOC-berth'!AP14 -> 16109307 | E14: ='MOC-berth'!AQ14 -> 4856601.3 | F14: ='MOC-berth'!AR14 -> 831393.26 | G14: ='MOC-berth'!AS14 -> 2712056 | H14: ='MOC-ancho'!Y14 -> 28569.13 | I14: ='MOC-ancho'!Z14 -> 5602 | J14: ='MOC-ancho'!AA14 -> 6754.29 | K14: ='MOC-ancho'!AB14 -> 664713.3 | L14: =+L15+L16 -> 25214996
A15: Domestic | D15: ='MOC-berth'!AP15 -> 14611305 | E15: ='MOC-berth'!AQ15 -> 4856601.3 | F15: ='MOC-berth'!AR15 -> 831181.26 | G15: ='MOC-berth'!AS15 -> 589038.01 | H15: ='MOC-ancho'!Y15 -> 5075.13 | I15: ='MOC-ancho'!Z15 -> 0 | J15: ='MOC-ancho'!AA15 -> 6754.29 | K15: ='MOC-ancho'!AB15 -> 56577.3 | L15: =SUM(D15:K15) -> 20956532
A16: Foreign | D16: ='MOC-berth'!AP16 -> 1498002.6 | E16: ='MOC-berth'!AQ16 -> 0 | F16: ='MOC-berth'!AR16 -> 212 | G16: ='MOC-berth'!AS16 -> 2123018 | H16: ='MOC-ancho'!Y16 -> 23494 | I16: ='MOC-ancho'!Z16 -> 5602 | J16: ='MOC-ancho'!AA16 -> 0 | K16: ='MOC-ancho'!AB16 -> 608136 | L16: =SUM(D16:K16) -> 4258464.6
A18: 3. Net Tonnage | D18: ='MOC-berth'!AP18 -> 7473372 | E18: ='MOC-berth'!AQ18 -> 2048407.8 | F18: ='MOC-berth'!AR18 -> 305540.49 | G18: ='MOC-berth'!AS18 -> 1371032 | H18: ='MOC-ancho'!Y18 -> 13901.09 | I18: ='MOC-ancho'!Z18 -> 1681 | J18: ='MOC-ancho'!AA18 -> 3560.21 | K18: ='MOC-ancho'!AB18 -> 293456.12 | L18: =+L19+L20 -> 11510951
A19: Domestic | D19: ='MOC-berth'!AP19 -> 6706659.1 | E19: ='MOC-berth'!AQ19 -> 2048407.8 | F19: ='MOC-berth'!AR19 -> 305453.49 | G19: ='MOC-berth'!AS19 -> 313699.02 | H19: ='MOC-ancho'!Y19 -> 2741.09 | I19: ='MOC-ancho'!Z19 -> 0 | J19: ='MOC-ancho'!AA19 -> 3560.21 | K19: ='MOC-ancho'!AB19 -> 25959.12 | L19: =SUM(D19:K19) -> 9406479.9
A20: Foreign | D20: ='MOC-berth'!AP20 -> 766712.84 | E20: ='MOC-berth'!AQ20 -> 0 | F20: ='MOC-berth'!AR20 -> 87 | G20: ='MOC-berth'!AS20 -> 1057333 | H20: ='MOC-ancho'!Y20 -> 11160 | I20: ='MOC-ancho'!Z20 -> 1681 | J20: ='MOC-ancho'!AA20 -> 0 | K20: ='MOC-ancho'!AB20 -> 267497 | L20: =SUM(D20:K20) -> 2104470.8
A22: 4. Deadweight Tonnage | D22: ='MOC-berth'!AP22 -> 12277498 | E22: ='MOC-berth'!AQ22 -> 6942335.8 | F22: ='MOC-berth'!AR22 -> 1377299.7 | G22: ='MOC-berth'!AS22 -> 4301612.6 | H22: ='MOC-ancho'!Y22 -> 39218.9 | I22: ='MOC-ancho'!Z22 -> 1274 | J22: ='MOC-ancho'!AA22 -> 8900.7305 | K22: ='MOC-ancho'!AB22 -> 1040685 | L22: =+L23+L24 -> 25988824
A23: Domestic | D23: ='MOC-berth'!AP23 -> 9899795.4 | E23: ='MOC-berth'!AQ23 -> 6942335.8 | F23: ='MOC-berth'!AR23 -> 1376949.9 | G23: ='MOC-berth'!AS23 -> 985217.66 | H23: ='MOC-ancho'!Y23 -> 9851.4 | I23: ='MOC-ancho'!Z23 -> 0 | J23: ='MOC-ancho'!AA23 -> 8900.7305 | K23: ='MOC-ancho'!AB23 -> 86923.136 | L23: =SUM(D23:K23) -> 19309974
A24: Foreign | D24: ='MOC-berth'!AP24 -> 2377702.2 | E24: ='MOC-berth'!AQ24 -> 0 | F24: ='MOC-berth'!AR24 -> 349.8 | G24: ='MOC-berth'!AS24 -> 3316395 | H24: ='MOC-ancho'!Y24 -> 29367.5 | I24: ='MOC-ancho'!Z24 -> 1274 | J24: ='MOC-ancho'!AA24 -> 0 | K24: ='MOC-ancho'!AB24 -> 953761.82 | L24: =SUM(D24:K24) -> 6678850.3
A26: 5. Length of Vessel (m.) | D26: ='MOC-berth'!AP26 -> 269357.01 | E26: ='MOC-berth'!AQ26 -> 448270.91 | F26: ='MOC-berth'!AR26 -> 65316.48 | G26: ='MOC-berth'!AS26 -> 67798.8 | H26: ='MOC-ancho'!Y26 -> 575.21 | I26: ='MOC-ancho'!Z26 -> 93.7 | J26: ='MOC-ancho'!AA26 -> 382.88 | K26: ='MOC-ancho'!AB26 -> 7166.68 | L26: =+L27+L28 -> 858961.67
A27: Domestic | D27: ='MOC-berth'!AP27 -> 253174.36 | E27: ='MOC-berth'!AQ27 -> 448270.91 | F27: ='MOC-berth'!AR27 -> 65256.18 | G27: ='MOC-berth'!AS27 -> 40995.33 | H27: ='MOC-ancho'!Y27 -> 395.21 | I27: ='MOC-ancho'!Z27 -> 0 | J27: ='MOC-ancho'!AA27 -> 382.88 | K27: ='MOC-ancho'!AB27 -> 2711.22 | L27: =SUM(D27:K27) -> 811186.09
A28: Foreign | D28: ='MOC-berth'!AP28 -> 16182.65 | E28: ='MOC-berth'!AQ28 -> 0 | F28: ='MOC-berth'!AR28 -> 60.3 | G28: ='MOC-berth'!AS28 -> 26803.47 | H28: ='MOC-ancho'!Y28 -> 180 | I28: ='MOC-ancho'!Z28 -> 93.7 | J28: ='MOC-ancho'!AA28 -> 0 | K28: ='MOC-ancho'!AB28 -> 4455.46 | L28: =SUM(D28:K28) -> 47775.58
A30: 6. Beam of Vessel (m.) | D30: ='MOC-berth'!AP30 -> 45851.17 | E30: ='MOC-berth'!AQ30 -> 124675.23 | F30: ='MOC-berth'!AR30 -> 16131.07 | G30: ='MOC-berth'!AS30 -> 12052.16 | H30: ='MOC-ancho'!Y30 -> 104.11 | I30: ='MOC-ancho'!Z30 -> 17.2 | J30: ='MOC-ancho'!AA30 -> 69.01 | K30: ='MOC-ancho'!AB30 -> 1240.51 | L30: =+L31+L32 -> 200140.46
A31: Domestic | D31: ='MOC-berth'!AP31 -> 43147.95 | E31: ='MOC-berth'!AQ31 -> 124675.23 | F31: ='MOC-berth'!AR31 -> 16118.75 | G31: ='MOC-berth'!AS31 -> 7571.18 | H31: ='MOC-ancho'!Y31 -> 74.11 | I31: ='MOC-ancho'!Z31 -> 0 | J31: ='MOC-ancho'!AA31 -> 69.01 | K31: ='MOC-ancho'!AB31 -> 463.75 | L31: =SUM(D31:K31) -> 192119.98
A32: Foreign | D32: ='MOC-berth'!AP32 -> 2703.22 | E32: ='MOC-berth'!AQ32 -> 0 | F32: ='MOC-berth'!AR32 -> 12.32 | G32: ='MOC-berth'!AS32 -> 4480.98 | H32: ='MOC-ancho'!Y32 -> 30 | I32: ='MOC-ancho'!Z32 -> 17.2 | J32: ='MOC-ancho'!AA32 -> 0 | K32: ='MOC-ancho'!AB32 -> 776.76 | L32: =SUM(D32:K32) -> 8020.48
A34: 7. Draft of Vessel (m.) | D34: ='MOC-berth'!AP34 -> 12099.722 | E34: ='MOC-berth'!AQ34 -> 28454.205 | F34: ='MOC-berth'!AR34 -> 3851.645 | G34: ='MOC-berth'!AS34 -> 3171.0375 | H34: ='MOC-ancho'!Y34 -> 26.39 | I34: ='MOC-ancho'!Z34 -> 4.4 | J34: ='MOC-ancho'!AA34 -> 16.35 | K34: ='MOC-ancho'!AB34 -> 306.6475 | L34: =+L35+L36 -> 47930.398
A35: Domestic | D35: ='MOC-berth'!AP35 -> 11336.587 | E35: ='MOC-berth'!AQ35 -> 28454.205 | F35: ='MOC-berth'!AR35 -> 3848.135 | G35: ='MOC-berth'!AS35 -> 1892.405 | H35: ='MOC-ancho'!Y35 -> 18.775 | I35: ='MOC-ancho'!Z35 -> 0 | J35: ='MOC-ancho'!AA35 -> 16.35 | K35: ='MOC-ancho'!AB35 -> 123.24 | L35: =SUM(D35:K35) -> 45689.698
A36: Foreign | D36: ='MOC-berth'!AP36 -> 763.135 | E36: ='MOC-berth'!AQ36 -> 0 | F36: ='MOC-berth'!AR36 -> 3.51 | G36: ='MOC-berth'!AS36 -> 1278.6325 | H36: ='MOC-ancho'!Y36 -> 7.615 | I36: ='MOC-ancho'!Z36 -> 4.4 | J36: ='MOC-ancho'!AA36 -> 0 | K36: ='MOC-ancho'!AB36 -> 183.4075 | L36: =SUM(D36:K36) -> 2240.7
A38: 8. Down/Idle Time (hrs.) | D38: ='MOC-berth'!AP38 -> 27121.745 | E38: ='MOC-berth'!AQ38 -> 80735.056 | F38: ='MOC-berth'!AR38 -> 5610.2833 | G38: ='MOC-berth'!AS38 -> 0 | H38: ='MOC-ancho'!Y38 -> 0 | I38: ='MOC-ancho'!Z38 -> 0 | J38: ='MOC-ancho'!AA38 -> 0 | K38: ='MOC-ancho'!AB38 -> 0 | L38: =+L39+L40 -> 113467.08
A39: Domestic | D39: ='MOC-berth'!AP39 -> 18116.445 | E39: ='MOC-berth'!AQ39 -> 80735.056 | F39: ='MOC-berth'!AR39 -> 5610.2833 | G39: ='MOC-berth'!AS39 -> 0 | H39: ='MOC-ancho'!Y39 -> 0 | I39: ='MOC-ancho'!Z39 -> 0 | J39: ='MOC-ancho'!AA39 -> 0 | K39: ='MOC-ancho'!AB39 -> 0 | L39: =SUM(D39:K39) -> 104461.78
A40: Foreign | D40: ='MOC-berth'!AP40 -> 9005.3 | E40: ='MOC-berth'!AQ40 -> 0 | F40: ='MOC-berth'!AR40 -> 0 | G40: ='MOC-berth'!AS40 -> 0 | H40: ='MOC-ancho'!Y40 -> 0 | I40: ='MOC-ancho'!Z40 -> 0 | J40: ='MOC-ancho'!AA40 -> 0 | K40: ='MOC-ancho'!AB40 -> 0 | L40: =SUM(D40:K40) -> 9005.3
A42: 9. Waiting Time (hrs.) | D42: ='MOC-berth'!AP42 -> 23874.867 | E42: ='MOC-berth'!AQ42 -> 236.33333 | F42: ='MOC-berth'!AR42 -> 3413.6 | G42: ='MOC-berth'!AS42 -> 28024.45 | H42: ='MOC-ancho'!Y42 -> 0 | I42: ='MOC-ancho'!Z42 -> 0 | J42: ='MOC-ancho'!AA42 -> 0 | K42: ='MOC-ancho'!AB42 -> 0 | L42: =+L43+L44 -> 55549.25
A43: Domestic | D43: ='MOC-berth'!AP43 -> 18633.883 | E43: ='MOC-berth'!AQ43 -> 236.33333 | F43: ='MOC-berth'!AR43 -> 3413.6 | G43: ='MOC-berth'!AS43 -> 27305.1 | H43: ='MOC-ancho'!Y43 -> 0 | I43: ='MOC-ancho'!Z43 -> 0 | J43: ='MOC-ancho'!AA43 -> 0 | K43: ='MOC-ancho'!AB43 -> 0 | L43: =SUM(D43:K43) -> 49588.917
A44: Foreign | D44: ='MOC-berth'!AP44 -> 5240.9833 | E44: ='MOC-berth'!AQ44 -> 0 | F44: ='MOC-berth'!AR44 -> 0 | G44: ='MOC-berth'!AS44 -> 719.35 | H44: ='MOC-ancho'!Y44 -> 0 | I44: ='MOC-ancho'!Z44 -> 0 | J44: ='MOC-ancho'!AA44 -> 0 | K44: ='MOC-ancho'!AB44 -> 0 | L44: =SUM(D44:K44) -> 5960.3333
A46: 10. Service Time (hrs.) | D46: ='MOC-berth'!AP46 -> 90907.217 | E46: ='MOC-berth'!AQ46 -> 106851.88 | F46: ='MOC-berth'!AR46 -> 19525.583 | G46: ='MOC-berth'!AS46 -> 122464.03 | H46: ='MOC-ancho'!Y46 -> 519.13333 | I46: ='MOC-ancho'!Z46 -> 10.466667 | J46: ='MOC-ancho'!AA46 -> 855.3 | K46: ='MOC-ancho'!AB46 -> 8434.1667 | L46: =+L47+L48 -> 349567.78
A47: Domestic | D47: ='MOC-berth'!AP47 -> 66057.85 | E47: ='MOC-berth'!AQ47 -> 106851.88 | F47: ='MOC-berth'!AR47 -> 19484.25 | G47: ='MOC-berth'!AS47 -> 106637.3 | H47: ='MOC-ancho'!Y47 -> 423.23333 | I47: ='MOC-ancho'!Z47 -> 0 | J47: ='MOC-ancho'!AA47 -> 855.3 | K47: ='MOC-ancho'!AB47 -> 7339.3333 | L47: =SUM(D47:K47) -> 307649.15
A48: Foreign | D48: ='MOC-berth'!AP48 -> 24849.367 | E48: ='MOC-berth'!AQ48 -> 0 | F48: ='MOC-berth'!AR48 -> 41.333333 | G48: ='MOC-berth'!AS48 -> 15826.733 | H48: ='MOC-ancho'!Y48 -> 95.9 | I48: ='MOC-ancho'!Z48 -> 10.466667 | J48: ='MOC-ancho'!AA48 -> 0 | K48: ='MOC-ancho'!AB48 -> 1094.8333 | L48: =SUM(D48:K48) -> 41918.633
A50: 11. Net Service Time (hrs.) | D50: ='MOC-berth'!AP50 -> 63785.472 | E50: ='MOC-berth'!AQ50 -> 26116.827 | F50: ='MOC-berth'!AR50 -> 13915.3 | G50: ='MOC-berth'!AS50 -> 122464.03 | H50: ='MOC-ancho'!Y50 -> 519.13333 | I50: ='MOC-ancho'!Z50 -> 10.466667 | J50: ='MOC-ancho'!AA50 -> 855.3 | K50: ='MOC-ancho'!AB50 -> 8434.1667 | L50: =+L51+L52 -> 236100.7
A51: Domestic | D51: ='MOC-berth'!AP51 -> 47941.405 | E51: ='MOC-berth'!AQ51 -> 26116.827 | F51: ='MOC-berth'!AR51 -> 13873.967 | G51: ='MOC-berth'!AS51 -> 106637.3 | H51: ='MOC-ancho'!Y51 -> 423.23333 | I51: ='MOC-ancho'!Z51 -> 0 | J51: ='MOC-ancho'!AA51 -> 855.3 | K51: ='MOC-ancho'!AB51 -> 7339.3333 | L51: =SUM(D51:K51) -> 203187.37
A52: Foreign | D52: ='MOC-berth'!AP52 -> 15844.067 | E52: ='MOC-berth'!AQ52 -> 0 | F52: ='MOC-berth'!AR52 -> 41.333333 | G52: ='MOC-berth'!AS52 -> 15826.733 | H52: ='MOC-ancho'!Y52 -> 95.9 | I52: ='MOC-ancho'!Z52 -> 10.466667 | J52: ='MOC-ancho'!AA52 -> 0 | K52: ='MOC-ancho'!AB52 -> 1094.8333 | L52: =SUM(D52:K52) -> 32913.333
...

Sheet MOC-berth
A1: SHIPPING, CARGO & PASSENGER STATISTICS
A2: ='MOC-SUMMARY'!$A$2 -> PMO : Misamis Oriental/Cagayan de Oro
A3: AT BERTH ONLY
A4: 2025
A6: PARTICULARS | D6: BP | E6: BP | F6: BP | G6: TP | H6: TP | I6: TP | J6: TP | K6: TP | L6: GP | M6: GP | N6: GP | O6: GP | P6: GP | Q6: GP | R6: GP | S6: PP | T6: PP | U6: PP | V6: PP | W6: PP | X6: PP | Y6: PP | Z6: PP | AA6: PP | AB6: PP | AC6: PP | AD6: PP | AE6: PP | AF6: PP | AG6: PP | AH6: PP | AI6: PP | AJ6: PP | AK6: PP | AL6: PP | AM6: GRAND TOTAL
D7: Cagayan de Oro | E7: Cagayan de Oro Ro-Ro | F7: TOTAL | G7: Balingoan | H7: Balingoan Ro-Ro | I7: Benoni Ro-Ro | J7: Opol | K7: TOTAL | L7: Balbagon | M7: Balbagon Ro-Ro | N7: Guinsiliban Ro-Ro | O7: LGU Opol | P7: Maanas Wharf | Q7: PPA Jasaan Port | R7: TOTAL | S7: AMADI | T7: CCPC | U7: CDO Oil | V7: CAGLI | W7: Del Monte | X7: Felcor | Y7: GMC | Z7: Holcim | AA7: Minergy | AB7: PKI | AC7: MLS | AD7: Phil Coco | AE7: PICMW | AF7: PMI | AG7: Pryce - Balingasag | AH7: Pryce - Calangahan | AI7: Resins | AJ7: SMC | AK7: Wilmar | AL7: TOTAL | AP7: BP | AQ7: TP | AR7: GP | AS7: PP | AU7: GRAND TOTAL
A8: A. SHIPPING
A10: 1. Number of vessels | D10: 1227 | E10: 1423 | F10: =F11+F12 -> 2650 | G10: 3 | H10: 6501 | I10: 5614 | J10: 17 | K10: =K11+K12 -> 12135 | L10: 19 | M10: 660 | N10: 627 | O10: 11 | P10: 3 | Q10: 45 | R10: =R11+R12 -> 1365 | S10: 14 | T10: 31 | U10: 34 | V10: 84 | W10: 11 | X10: 3 | Y10: 34 | Z10: 254 | AA10: 18 | AB10: 76 | AC10: 2 | AD10: 19 | AE10: 12 | AF10: 18 | AG10: 5 | AH10: 7 | AI10: 18 | AJ10: 6 | AK10: 183 | AL10: =AL11+AL12 -> 829 | AM10: =+AM11+AM12 -> 16979 | AP10: =F10 -> 2650 | AQ10: =K10 -> 12135 | AR10: =R10 -> 1365 | AS10: =AL10 -> 829 | AU10: =+AU11+AU12 -> 16979
A11: Domestic | D11: 1098 | E11: 1423 | F11: =SUM(D11:E11) -> 2521 | G11: 3 | H11: 6501 | I11: 5614 | J11: 17 | K11: =SUM(G11:J11) -> 12135 | L11: 19 | M11: 660 | N11: 627 | O11: 11 | P11: 3 | Q11: 43 | R11: =SUM(L11:Q11) -> 1363 | S11: 6 | T11: 15 | U11: 5 | V11: 84 | W11: 0 | X11: 0 | Y11: 34 | Z11: 241 | AA11: 9 | AB11: 11 | AC11: 2 | AD11: 16 | AE11: 12 | AF11: 18 | AG11: 0 | AH11: 0 | AI11: 11 | AJ11: 6 | AK11: 146 | AL11: =SUM(S11:AK11) -> 616 | AM11: =F11+K11+R11+AL11 -> 16635 | AP11: =F11 -> 2521 | AQ11: =K11 -> 12135 | AR11: =R11 -> 1363 | AS11: =AL11 -> 616 | AU11: =SUM(AP11:AT11) -> 16635
A12: Foreign | D12: 129 | E12: 0 | F12: =SUM(D12:E12) -> 129 | G12: 0 | H12: 0 | I12: 0 | J12: 0 | K12: =SUM(G12:J12) -> 0 | L12: 0 | M12: 0 | N12: 0 | O12: 0 | P12: 0 | Q12: 2 | R12: =SUM(L12:Q12) -> 2 | S12: 8 | T12: 16 | U12: 29 | V12: 0 | W12: 11 | X12: 3 | Y12: 0 | Z12: 13 | AA12: 9 | AB12: 65 | AC12: 0 | AD12: 3 | AE12: 0 | AF12: 0 | AG12: 5 | AH12: 7 | AI12: 7 | AJ12: 0 | AK12: 37 | AL12: =SUM(S12:AK12) -> 213 | AM12: =F12+K12+R12+AL12 -> 344 | AP12: =F12 -> 129 | AQ12: =K12 -> 0 | AR12: =R12 -> 2 | AS12: =AL12 -> 213 | AU12: =SUM(AP12:AT12) -> 344
A14: 2. Gross Tonnage | D14: 6199612.3 | E14: 9909694.9 | F14: =F15+F16 -> 16109307 | G14: 1163.24 | H14: 2744964.4 | I14: 2101974.5 | J14: 8499.11 | K14: =K15+K16 -> 4856601.3 | L14: 8641.38 | M14: 184635.65 | N14: 571445 | O14: 23806.5 | P14: 2486 | Q14: 40378.73 | R14: =R15+R16 -> 831393.26 | S14: 73469.9 | T14: 118577.92 | U14: 303616 | V14: 195852.25 | W14: 86053 | X14: 64653 | Y14: 26841.65 | Z14: 362941.42 | AA14: 253437 | AB14: 588501.44 | AC14: 4639 | AD14: 14897.84 | AE14: 6543.93 | AF14: 22838.82 | AG14: 31633 | AH14: 42437 | AI14: 48554 | AJ14: 4653.54 | AK14: 461915.3 | AL14: =AL15+AL16 -> 2712056 | AM14: =+AM15+AM16 -> 24509358 | AP14: =F14 -> 16109307 | AQ14: =K14 -> 4856601.3 | AR14: =R14 -> 831393.26 | AS14: =AL14 -> 2712056 | AU14: =+AU15+AU16 -> 24509358
A15: Domestic | D15: 4701609.7 | E15: 9909694.9 | F15: =SUM(D15:E15) -> 14611305 | G15: 1163.24 | H15: 2744964.4 | I15: 2101974.5 | J15: 8499.11 | K15: =SUM(G15:J15) -> 4856601.3 | L15: 8641.38 | M15: 184635.65 | N15: 571445 | O15: 23806.5 | P15: 2486 | Q15: 40166.73 | R15: =SUM(L15:Q15) -> 831181.26 | S15: 3789.9 | T15: 11809.92 | U15: 3659 | V15: 195852.25 | W15: 0 | X15: 0 | Y15: 26841.65 | Z15: 124546.42 | AA15: 58949 | AB15: 26441.44 | AC15: 4639 | AD15: 9207.84 | AE15: 6543.93 | AF15: 22838.82 | AG15: 0 | AH15: 0 | AI15: 6368 | AJ15: 4653.54 | AK15: 82897.3 | AL15: =SUM(S15:AK15) -> 589038.01 | AM15: =F15+K15+R15+AL15 -> 20888125 | AP15: =F15 -> 14611305 | AQ15: =K15 -> 4856601.3 | AR15: =R15 -> 831181.26 | AS15: =AL15 -> 589038.01 | AU15: =SUM(AP15:AT15) -> 20888125
A16: Foreign | D16: 1498002.6 | E16: 0 | F16: =SUM(D16:E16) -> 1498002.6 | G16: 0 | H16: 0 | I16: 0 | J16: 0 | K16: =SUM(G16:J16) -> 0 | L16: 0 | M16: 0 | N16: 0 | O16: 0 | P16: 0 | Q16: 212 | R16: =SUM(L16:Q16) -> 212 | S16: 69680 | T16: 106768 | U16: 299957 | V16: 0 | W16: 86053 | X16: 64653 | Y16: 0 | Z16: 238395 | AA16: 194488 | AB16: 562060 | AC16: 0 | AD16: 5690 | AE16: 0 | AF16: 0 | AG16: 31633 | AH16: 42437 | AI16: 42186 | AJ16: 0 | AK16: 379018 | AL16: =SUM(S16:AK16) -> 2123018 | AM16: =F16+K16+R16+AL16 -> 3621232.6 | AP16: =F16 -> 1498002.6 | AQ16: =K16 -> 0 | AR16: =R16 -> 212 | AS16: =AL16 -> 2123018 | AU16: =SUM(AP16:AT16) -> 3621232.6
A18: 3. Net Tonnage | D18: 3194579 | E18: 4278793 | F18: =F19+F20 -> 7473372 | G18: 709.97 | H18: 1109035.3 | I18: 933483.74 | J18: 5178.82 | K18: =K19+K20 -> 2048407.8 | L18: 5218.15 | M18: 75760.64 | N18: 184788.9 | O18: 13448.94 | P18: 1733 | Q18: 24590.86 | R18: =R19+R20 -> 305540.49 | S18: 43104.08 | T18: 58651.78 | U18: 170525 | V18: 76334.52 | W18: 31009 | X18: 26772 | Y18: 15446.89 | Z18: 207317.42 | AA18: 143378 | AB18: 279639.51 | AC18: 2597 | AD18: 8475.75 | AE18: 2711.31 | AF18: 13267.92 | AG18: 10452 | AH18: 14538 | AI18: 24765 | AJ18: 4429.89 | AK18: 237616.95 | AL18: =AL19+AL20 -> 1371032 | AM18: =+AM19+AM20 -> 11198352 | AP18: =F18 -> 7473372 | AQ18: =K18 -> 2048407.8 | AR18: =R18 -> 305540.49 | AS18: =AL18 -> 1371032 | AU18: =+AU19+AU20 -> 11198352
A19: Domestic | D19: 2427866.2 | E19: 4278793 | F19: =SUM(D19:E19) -> 6706659.1 | G19: 709.97 | H19: 1109035.3 | I19: 933483.74 | J19: 5178.82 | K19: =SUM(G19:J19) -> 2048407.8 | L19: 5218.15 | M19: 75760.64 | N19: 184788.9 | O19: 13448.94 | P19: 1733 | Q19: 24503.86 | R19: =SUM(L19:Q19) -> 305453.49 | S19: 2590.08 | T19: 7239.78 | U19: 2066 | V19: 76334.52 | W19: 0 | X19: 0 | Y19: 15446.89 | Z19: 76006.42 | AA19: 36660 | AB19: 12985.51 | AC19: 2597 | AD19: 6317.75 | AE19: 2711.31 | AF19: 13267.92 | AG19: 0 | AH19: 0 | AI19: 4118 | AJ19: 4429.89 | AK19: 50927.95 | AL19: =SUM(S19:AK19) -> 313699.02 | AM19: =F19+K19+R19+AL19 -> 9374219.4 | AP19: =F19 -> 6706659.1 | AQ19: =K19 -> 2048407.8 | AR19: =R19 -> 305453.49 | AS19: =AL19 -> 313699.02 | AU19: =SUM(AP19:AT19) -> 9374219.4
A20: Foreign | D20: 766712.84 | E20: 0 | F20: =SUM(D20:E20) -> 766712.84 | G20: 0 | H20: 0 | I20: 0 | J20: 0 | K20: =SUM(G20:J20) -> 0 | L20: 0 | M20: 0 | N20: 0 | O20: 0 | P20: 0 | Q20: 87 | R20: =SUM(L20:Q20) -> 87 | S20: 40514 | T20: 51412 | U20: 168459 | V20: 0 | W20: 31009 | X20: 26772 | Y20: 0 | Z20: 131311 | AA20: 106718 | AB20: 266654 | AC20: 0 | AD20: 2158 | AE20: 0 | AF20: 0 | AG20: 10452 | AH20: 14538 | AI20: 20647 | AJ20: 0 | AK20: 186689 | AL20: =SUM(S20:AK20) -> 1057333 | AM20: =F20+K20+R20+AL20 -> 1824132.8 | AP20: =F20 -> 766712.84 | AQ20: =K20 -> 0 | AR20: =R20 -> 87 | AS20: =AL20 -> 1057333 | AU20: =SUM(AP20:AT20) -> 1824132.8
A22: 4. Deadweight Tonnage | D22: 8307289.2 | E22: 3970208.4 | F22: =F23+F24 -> 12277498 | G22: 2058 | H22: 3547409.1 | I22: 3379809.7 | J22: 13058.961 | K22: =K23+K24 -> 6942335.8 | L22: 21386.13 | M22: 302049.57 | N22: 942884.25 | O22: 42428.53 | P22: 5334.4 | Q22: 63216.793 | R22: =R23+R24 -> 1377299.7 | S22: 125713.81 | T22: 190948.14 | U22: 512220.73 | V22: 217677.35 | W22: 100889 | X22: 99892 | Y22: 65535.84 | Z22: 659514.39 | AA22: 400133.2 | AB22: 919643.84 | AC22: 7654.35 | AD22: 23211.42 | AE22: 11261.34 | AF22: 37474.613 | AG22: 33432 | AH22: 46121.52 | AI22: 73283.83 | AJ22: 6490 | AK22: 770515.25 | AL22: =AL23+AL24 -> 4301612.6 | AM22: =+AM23+AM24 -> 24898746 | AP22: =F22 -> 12277498 | AQ22: =K22 -> 6942335.8 | AR22: =R22 -> 1377299.7 | AS22: =AL22 -> 4301612.6 | AU22: =+AU23+AU24 -> 24898746
A23: Domestic | D23: 5929587 | E23: 3970208.4 | F23: =SUM(D23:E23) -> 9899795.4 | G23: 2058 | H23: 3547409.1 | I23: 3379809.7 | J23: 13058.961 | K23: =SUM(G23:J23) -> 6942335.8 | L23: 21386.13 | M23: 302049.57 | N23: 942884.25 | O23: 42428.53 | P23: 5334.4 | Q23: 62866.993 | R23: =SUM(L23:Q23) -> 1376949.9 | S23: 10785.152 | T23: 22502.738 | U23: 4918.25 | V23: 217677.35 | W23: 0 | X23: 0 | Y23: 65535.84 | Z23: 276028.09 | AA23: 97552 | AB23: 41334.6 | AC23: 7654.35 | AD23: 13509.8 | AE23: 11261.34 | AF23: 37474.613 | AG23: 0 | AH23: 0 | AI23: 6863.35 | AJ23: 6490 | AK23: 165630.19 | AL23: =SUM(S23:AK23) -> 985217.66 | AM23: =F23+K23+R23+AL23 -> 19204299 | AP23: =F23 -> 9899795.4 | AQ23: =K23 -> 6942335.8 | AR23: =R23 -> 1376949.9 | AS23: =AL23 -> 985217.66 | AU23: =SUM(AP23:AT23) -> 19204299
A24: Foreign | D24: 2377702.2 | E24: 0 | F24: =SUM(D24:E24) -> 2377702.2 | G24: 0 | H24: 0 | I24: 0 | J24: 0 | K24: =SUM(G24:J24) -> 0 | L24: 0 | M24: 0 | N24: 0 | O24: 0 | P24: 0 | Q24: 349.8 | R24: =SUM(L24:Q24) -> 349.8 | S24: 114928.66 | T24: 168445.4 | U24: 507302.48 | V24: 0 | W24: 100889 | X24: 99892 | Y24: 0 | Z24: 383486.3 | AA24: 302581.2 | AB24: 878309.24 | AC24: 0 | AD24: 9701.62 | AE24: 0 | AF24: 0 | AG24: 33432 | AH24: 46121.52 | AI24: 66420.48 | AJ24: 0 | AK24: 604885.06 | AL24: =SUM(S24:AK24) -> 3316395 | AM24: =F24+K24+R24+AL24 -> 5694447 | AP24: =F24 -> 2377702.2 | AQ24: =K24 -> 0 | AR24: =R24 -> 349.8 | AS24: =AL24 -> 3316395 | AU24: =SUM(AP24:AT24) -> 5694447
A26: 5. Length of Vessel (m.) | D26: 121130.45 | E26: 148226.56 | F26: =F27+F28 -> 269357.01 | G26: 158.31 | H26: 246674.84 | I26: 200553.43 | J26: 884.33 | K26: =K27+K28 -> 448270.91 | L26: 1078.52 | M26: 24649.42 | N26: 35657.9 | O26: 947.01 | P26: 244.22 | Q26: 2739.41 | R26: =R27+R28 -> 65316.48 | S26: 1334.48 | T26: 2916.76 | U26: 3817.34 | V26: 7538.51 | W26: 1155.66 | X26: 447.54 | Y26: 2404 | Z26: 16659.05 | AA26: 2572.01 | AB26: 9075.86 | AC26: 182.58 | AD26: 1191.83 | AE26: 603.8 | AF26: 1379.19 | AG26: 560.1 | AH26: 797.65 | AI26: 1418.1 | AJ26: 296.21 | AK26: 13448.13 | AL26: =AL27+AL28 -> 67798.8 | AM26: =+AM27+AM28 -> 850743.2 | AP26: =F26 -> 269357.01 | AQ26: =K26 -> 448270.91 | AR26: =R26 -> 65316.48 | AS26: =AL26 -> 67798.8 | AU26: =+AU27+AU28 -> 850743.2
A27: Domestic | D27: 104947.8 | E27: 148226.56 | F27: =SUM(D27:E27) -> 253174.36 | G27: 158.31 | H27: 246674.84 | I27: 200553.43 | J27: 884.33 | K27: =SUM(G27:J27) -> 448270.91 | L27: 1078.52 | M27: 24649.42 | N27: 35657.9 | O27: 947.01 | P27: 244.22 | Q27: 2679.11 | R27: =SUM(L27:Q27) -> 65256.18 | S27: 417.25 | T27: 1031.37 | U27: 314.51 | V27: 7538.51 | W27: 0 | X27: 0 | Y27: 2404 | Z27: 14564.74 | AA27: 1018.35 | AB27: 984.4 | AC27: 182.58 | AD27: 949.23 | AE27: 603.8 | AF27: 1379.19 | AG27: 0 | AH27: 0 | AI27: 655.2 | AJ27: 296.21 | AK27: 8655.99 | AL27: =SUM(S27:AK27) -> 40995.33 | AM27: =F27+K27+R27+AL27 -> 807696.78 | AP27: =F27 -> 253174.36 | AQ27: =K27 -> 448270.91 | AR27: =R27 -> 65256.18 | AS27: =AL27 -> 40995.33 | AU27: =SUM(AP27:AT27) -> 807696.78
A28: Foreign | D28: 16182.65 | E28: 0 | F28: =SUM(D28:E28) -> 16182.65 | G28: 0 | H28: 0 | I28: 0 | J28: 0 | K28: =SUM(G28:J28) -> 0 | L28: 0 | M28: 0 | N28: 0 | O28: 0 | P28: 0 | Q28: 60.3 | R28: =SUM(L28:Q28) -> 60.3 | S28: 917.23 | T28: 1885.39 | U28: 3502.83 | V28: 0 | W28: 1155.66 | X28: 447.54 | Y28: 0 | Z28: 2094.31 | AA28: 1553.66 | AB28: 8091.46 | AC28: 0 | AD28: 242.6 | AE28: 0 | AF28: 0 | AG28: 560.1 | AH28: 797.65 | AI28: 762.9 | AJ28: 0 | AK28: 4792.14 | AL28: =SUM(S28:AK28) -> 26803.47 | AM28: =F28+K28+R28+AL28 -> 43046.42 | AP28: =F28 -> 16182.65 | AQ28: =K28 -> 0 | AR28: =R28 -> 60.3 | AS28: =AL28 -> 26803.47 | AU28: =SUM(AP28:AT28) -> 43046.42
A30: 6. Beam of Vessel (m.) | D30: 20759.67 | E30: 25091.5 | F30: =F31+F32 -> 45851.17 | G30: 24.8 | H30: 67903.35 | I30: 56566.59 | J30: 180.49 | K30: =K31+K32 -> 124675.23 | L30: 197.52 | M30: 6310.68 | N30: 8778.6 | O30: 201.57 | P30: 56.98 | Q30: 585.72 | R30: =R31+R32 -> 16131.07 | S30: 222.65 | T30: 498.26 | U30: 654.29 | V30: 1508.28 | W30: 219.2 | X30: 81.8 | Y30: 397.5 | Z30: 2955.14 | AA30: 474.13 | AB30: 1508.91 | AC30: 35.38 | AD30: 200.55 | AE30: 138.2 | AF30: 282.13 | AG30: 95 | AH30: 131.2 | AI30: 236.5 | AJ30: 82.85 | AK30: 2330.19 | AL30: =AL31+AL32 -> 12052.16 | AM30: =+AM31+AM32 -> 198709.63 | AP30: =F30 -> 45851.17 | AQ30: =K30 -> 124675.23 | AR30: =R30 -> 16131.07 | AS30: =AL30 -> 12052.16 | AU30: =+AU31+AU32 -> 198709.63
A31: Domestic | D31: 18056.45 | E31: 25091.5 | F31: =SUM(D31:E31) -> 43147.95 | G31: 24.8 | H31: 67903.35 | I31: 56566.59 | J31: 180.49 | K31: =SUM(G31:J31) -> 124675.23 | L31: 197.52 | M31: 6310.68 | N31: 8778.6 | O31: 201.57 | P31: 56.98 | Q31: 573.4 | R31: =SUM(L31:Q31) -> 16118.75 | S31: 70.2 | T31: 191.1 | U31: 62.32 | V31: 1508.28 | W31: 0 | X31: 0 | Y31: 397.5 | Z31: 2610.14 | AA31: 214.73 | AB31: 168.3 | AC31: 35.38 | AD31: 160.55 | AE31: 138.2 | AF31: 282.13 | AG31: 0 | AH31: 0 | AI31: 109.4 | AJ31: 82.85 | AK31: 1540.1 | AL31: =SUM(S31:AK31) -> 7571.18 | AM31: =F31+K31+R31+AL31 -> 191513.11 | AP31: =F31 -> 43147.95 | AQ31: =K31 -> 124675.23 | AR31: =R31 -> 16118.75 | AS31: =AL31 -> 7571.18 | AU31: =SUM(AP31:AT31) -> 191513.11
A32: Foreign | D32: 2703.22 | E32: 0 | F32: =SUM(D32:E32) -> 2703.22 | G32: 0 | H32: 0 | I32: 0 | J32: 0 | K32: =SUM(G32:J32) -> 0 | L32: 0 | M32: 0 | N32: 0 | O32: 0 | P32: 0 | Q32: 12.32 | R32: =SUM(L32:Q32) -> 12.32 | S32: 152.45 | T32: 307.16 | U32: 591.97 | V32: 0 | W32: 219.2 | X32: 81.8 | Y32: 0 | Z32: 345 | AA32: 259.4 | AB32: 1340.61 | AC32: 0 | AD32: 40 | AE32: 0 | AF32: 0 | AG32: 95 | AH32: 131.2 | AI32: 127.1 | AJ32: 0 | AK32: 790.09 | AL32: =SUM(S32:AK32) -> 4480.98 | AM32: =F32+K32+R32+AL32 -> 7196.52 | AP32: =F32 -> 2703.22 | AQ32: =K32 -> 0 | AR32: =R32 -> 12.32 | AS32: =AL32 -> 4480.98 | AU32: =SUM(AP32:AT32) -> 7196.52
A34: 7. Draft of Vessel (m.) | D34: 6013.755 | E34: 6085.9675 | F34: =F35+F36 -> 12099.722 | G34: 6 | H34: 15079.305 | I34: 13335.2 | J34: 33.7 | K34: =K35+K36 -> 28454.205 | L34: 63.6 | M34: 1458.42 | N34: 2193.6 | O34: 32.7 | P34: 7.03 | Q34: 96.295 | R34: =R35+R36 -> 3851.645 | S34: 72.175 | T34: 146.825 | U34: 181.1325 | V34: 222.3775 | W34: 53.3175 | X34: 20.0025 | Y34: 128.8975 | Z34: 878.82 | AA34: 114.265 | AB34: 424.8525 | AC34: 4.4425 | AD34: 51.2 | AE34: 29.95 | AF34: 36.45 | AG34: 26.2325 | AH34: 37.085 | AI34: 65.125 | AJ34: 12.805 | AK34: 665.0825 | AL34: =AL35+AL36 -> 3171.0375 | AM34: =+AM35+AM36 -> 47576.61 | AP34: =F34 -> 12099.722 | AQ34: =K34 -> 28454.205 | AR34: =R34 -> 3851.645 | AS34: =AL34 -> 3171.0375 | AU34: =+AU35+AU36 -> 47576.61
A35: Domestic | D35: 5250.62 | E35: 6085.9675 | F35: =SUM(D35:E35) -> 11336.587 | G35: 6 | H35: 15079.305 | I35: 13335.2 | J35: 33.7 | K35: =SUM(G35:J35) -> 28454.205 | L35: 63.6 | M35: 1458.42 | N35: 2193.6 | O35: 32.7 | P35: 7.03 | Q35: 92.785 | R35: =SUM(L35:Q35) -> 3848.135 | S35: 25.275 | T35: 59.475 | U35: 13.87 | V35: 222.3775 | W35: 0 | X35: 0 | Y35: 128.8975 | Z35: 787.37 | AA35: 45.6575 | AB35: 36.475 | AC35: 4.4425 | AD35: 38.325 | AE35: 29.95 | AF35: 36.45 | AG35: 0 | AH35: 0 | AI35: 27.475 | AJ35: 12.805 | AK35: 423.56 | AL35: =SUM(S35:AK35) -> 1892.405 | AM35: =F35+K35+R35+AL35 -> 45531.333 | AP35: =F35 -> 11336.587 | AQ35: =K35 -> 28454.205 | AR35: =R35 -> 3848.135 | AS35: =AL35 -> 1892.405 | AU35: =SUM(AP35:AT35) -> 45531.333
A36: Foreign | D36: 763.135 | E36: 0 | F36: =SUM(D36:E36) -> 763.135 | G36: 0 | H36: 0 | I36: 0 | J36: 0 | K36: =SUM(G36:J36) -> 0 | L36: 0 | M36: 0 | N36: 0 | O36: 0 | P36: 0 | Q36: 3.51 | R36: =SUM(L36:Q36) -> 3.51 | S36: 46.9 | T36: 87.35 | U36: 167.2625 | V36: 0 | W36: 53.3175 | X36: 20.0025 | Y36: 0 | Z36: 91.45 | AA36: 68.6075 | AB36: 388.3775 | AC36: 0 | AD36: 12.875 | AE36: 0 | AF36: 0 | AG36: 26.2325 | AH36: 37.085 | AI36: 37.65 | AJ36: 0 | AK36: 241.5225 | AL36: =SUM(S36:AK36) -> 1278.6325 | AM36: =F36+K36+R36+AL36 -> 2045.2775 | AP36: =F36 -> 763.135 | AQ36: =K36 -> 0 | AR36: =R36 -> 3.51 | AS36: =AL36 -> 1278.6325 | AU36: =SUM(AP36:AT36) -> 2045.2775
A38: 8. Down/Idle Time (hrs.) | D38: 21283.187 | E38: 5838.5583 | F38: =F39+F40 -> 27121.745 | G38: 45 | H38: 22832.156 | I38: 57857.9 | J38: 0 | K38: =K39+K40 -> 80735.056 | L38: 822.48333 | M38: 2151.1167 | N38: 2636.6833 | O38: 0 | P38: 0 | Q38: 0 | R38: =R39+R40 -> 5610.2833 | S38: 0 | T38: 0 | U38: 0 | V38: 0 | W38: 0 | X38: 0 | Y38: 0 | Z38: 0 | AA38: 0 | AB38: 0 | AC38: 0 | AD38: 0 | AE38: 0 | AF38: 0 | AG38: 0 | AH38: 0 | AI38: 0 | AJ38: 0 | AK38: 0 | AL38: =AL39+AL40 -> 0 | AM38: =+AM39+AM40 -> 113467.08 | AP38: =F38 -> 27121.745 | AQ38: =K38 -> 80735.056 | AR38: =R38 -> 5610.2833 | AS38: =AL38 -> 0 | AU38: =+AU39+AU40 -> 113467.08
A39: Domestic | D39: 12277.887 | E39: 5838.5583 | F39: =SUM(D39:E39) -> 18116.445 | G39: 45 | H39: 22832.156 | I39: 57857.9 | J39: 0 | K39: =SUM(G39:J39) -> 80735.056 | L39: 822.48333 | M39: 2151.1167 | N39: 2636.6833 | O39: 0 | P39: 0 | Q39: 0 | R39: =SUM(L39:Q39) -> 5610.2833 | S39: 0 | T39: 0 | U39: 0 | V39: 0 | W39: 0 | X39: 0 | Y39: 0 | Z39: 0 | AA39: 0 | AB39: 0 | AC39: 0 | AD39: 0 | AE39: 0 | AF39: 0 | AG39: 0 | AH39: 0 | AI39: 0 | AJ39: 0 | AK39: 0 | AL39: =SUM(S39:AK39) -> 0 | AM39: =F39+K39+R39+AL39 -> 104461.78 | AP39: =F39 -> 18116.445 | AQ39: =K39 -> 80735.056 | AR39: =R39 -> 5610.2833 | AS39: =AL39 -> 0 | AU39: =SUM(AP39:AT39) -> 104461.78
A40: Foreign | D40: 9005.3 | E40: 0 | F40: =SUM(D40:E40) -> 9005.3 | G40: 0 | H40: 0 | I40: 0 | J40: 0 | K40: =SUM(G40:J40) -> 0 | L40: 0 | M40: 0 | N40: 0 | O40: 0 | P40: 0 | Q40: 0 | R40: =SUM(L40:Q40) -> 0 | S40: 0 | T40: 0 | U40: 0 | V40: 0 | W40: 0 | X40: 0 | Y40: 0 | Z40: 0 | AA40: 0 | AB40: 0 | AC40: 0 | AD40: 0 | AE40: 0 | AF40: 0 | AG40: 0 | AH40: 0 | AI40: 0 | AJ40: 0 | AK40: 0 | AL40: =SUM(S40:AK40) -> 0 | AM40: =F40+K40+R40+AL40 -> 9005.3 | AP40: =F40 -> 9005.3 | AQ40: =K40 -> 0 | AR40: =R40 -> 0 | AS40: =AL40 -> 0 | AU40: =SUM(AP40:AT40) -> 9005.3
AP41: =F41 -> 0 | AQ41: =K41 -> 0 | AR41: =R41 -> 0 | AS41: =AL41 -> 0
A42: 9. Waiting Time (hrs.) | D42: 23408.15 | E42: 466.71667 | F42: =F43+F44 -> 23874.867 | G42: 15 | H42: 0 | I42: 0 | J42: 221.33333 | K42: =K43+K44 -> 236.33333 | L42: 517.66667 | M42: 43.15 | N42: 0 | O42: 0 | P42: 0 | Q42: 2852.7833 | R42: =R43+R44 -> 3413.6 | S42: 515.78333 | T42: 1298.05 | U42: 655.45 | V42: 10.666667 | W42: 0 | X42: 0 | Y42: 1003.1667 | Z42: 5874.1333 | AA42: 59.483333 | AB42: 11 | AC42: 0 | AD42: 106.08333 | AE42: 14773.3 | AF42: 75.583333 | AG42: 0 | AH42: 0 | AI42: 45.166667 | AJ42: 0 | AK42: 3596.5833 | AL42: =AL43+AL44 -> 28024.45 | AM42: =+AM43+AM44 -> 55549.25 | AP42: =F42 -> 23874.867 | AQ42: =K42 -> 236.33333 | AR42: =R42 -> 3413.6 | AS42: =AL42 -> 28024.45 | AU42: =+AU43+AU44 -> 55549.25
A43: Domestic | D43: 18167.167 | E43: 466.71667 | F43: =SUM(D43:E43) -> 18633.883 | G43: 15 | H43: 0 | I43: 0 | J43: 221.33333 | K43: =SUM(G43:J43) -> 236.33333 | L43: 517.66667 | M43: 43.15 | N43: 0 | O43: 0 | P43: 0 | Q43: 2852.7833 | R43: =SUM(L43:Q43) -> 3413.6 | S43: 440.38333 | T43: 1298.05 | U43: 33.5 | V43: 10.666667 | W43: 0 | X43: 0 | Y43: 1003.1667 | Z43: 5852.1333 | AA43: 59.483333 | AB43: 11 | AC43: 0 | AD43: 106.08333 | AE43: 14773.3 | AF43: 75.583333 | AG43: 0 | AH43: 0 | AI43: 45.166667 | AJ43: 0 | AK43: 3596.5833 | AL43: =SUM(S43:AK43) -> 27305.1 | AM43: =F43+K43+R43+AL43 -> 49588.917 | AP43: =F43 -> 18633.883 | AQ43: =K43 -> 236.33333 | AR43: =R43 -> 3413.6 | AS43: =AL43 -> 27305.1 | AU43: =SUM(AP43:AT43) -> 49588.917
A44: Foreign | D44: 5240.9833 | E44: 0 | F44: =SUM(D44:E44) -> 5240.9833 | G44: 0 | H44: 0 | I44: 0 | J44: 0 | K44: =SUM(G44:J44) -> 0 | L44: 0 | M44: 0 | N44: 0 | O44: 0 | P44: 0 | Q44: 0 | R44: =SUM(L44:Q44) -> 0 | S44: 75.4 | T44: 0 | U44: 621.95 | V44: 0 | W44: 0 | X44: 0 | Y44: 0 | Z44: 22 | AA44: 0 | AB44: 0 | AC44: 0 | AD44: 0 | AE44: 0 | AF44: 0 | AG44: 0 | AH44: 0 | AI44: 0 | AJ44: 0 | AK44: 0 | AL44: =SUM(S44:AK44) -> 719.35 | AM44: =F44+K44+R44+AL44 -> 5960.3333 | AP44: =F44 -> 5240.9833 | AQ44: =K44 -> 0 | AR44: =R44 -> 0 | AS44: =AL44 -> 719.35 | AU44: =SUM(AP44:AT44) -> 5960.3333
A46: 10. Service Time (hrs.) | D46: 70347 | E46: 20560.217 | F46: =F47+F48 -> 90907.217 | G46: 56.066667 | H46: 25726.85 | I46: 75161.733 | J46: 5907.2333 | K46: =K47+K48 -> 106851.88 | L46: 2247.1167 | M46: 6152.9 | N46: 3649.9833 | O46: 539.75 | P46: 206.91667 | Q46: 6728.9167 | R46: =R47+R48 -> 19525.583 | S46: 3189.4333 | T46: 2533.1 | U46: 5129.6 | V46: 1822.5833 | W46: 408.85 | X46: 129.5 | Y46: 6867.0833 | Z46: 45631.8 | AA46: 1722.7167 | AB46: 2225.35 | AC46: 274.81667 | AD46: 1079.6167 | AE46: 34104.333 | AF46: 1455.95 | AG46: 358.83333 | AH46: 260.9 | AI46: 3989.9667 | AJ46: 404.5 | AK46: 10875.1 | AL46: =AL47+AL48 -> 122464.03 | AM46: =+AM47+AM48 -> 339748.72 | AP46: =F46 -> 90907.217 | AQ46: =K46 -> 106851.88 | AR46: =R46 -> 19525.583 | AS46: =AL46 -> 122464.03 | AU46: =+AU47+AU48 -> 339748.72
A47: Domestic | D47: 45497.633 | E47: 20560.217 | F47: =SUM(D47:E47) -> 66057.85 | G47: 56.066667 | H47: 25726.85 | I47: 75161.733 | J47: 5907.2333 | K47: =SUM(G47:J47) -> 106851.88 | L47: 2247.1167 | M47: 6152.9 | N47: 3649.9833 | O47: 539.75 | P47: 206.91667 | Q47: 6687.5833 | R47: =SUM(L47:Q47) -> 19484.25 | S47: 1081.9667 | T47: 1905.3333 | U47: 876.33333 | V47: 1822.5833 | W47: 0 | X47: 0 | Y47: 6867.0833 | Z47: 43929.933 | AA47: 737.18333 | AB47: 297.98333 | AC47: 274.81667 | AD47: 1014.8167 | AE47: 34104.333 | AF47: 1455.95 | AG47: 0 | AH47: 0 | AI47: 3798.8333 | AJ47: 404.5 | AK47: 8065.65 | AL47: =SUM(S47:AK47) -> 106637.3 | AM47: =F47+K47+R47+AL47 -> 299031.28 | AP47: =F47 -> 66057.85 | AQ47: =K47 -> 106851.88 | AR47: =R47 -> 19484.25 | AS47: =AL47 -> 106637.3 | AU47: =SUM(AP47:AT47) -> 299031.28
A48: Foreign | D48: 24849.367 | E48: 0 | F48: =SUM(D48:E48) -> 24849.367 | G48: 0 | H48: 0 | I48: 0 | J48: 0 | K48: =SUM(G48:J48) -> 0 | L48: 0 | M48: 0 | N48: 0 | O48: 0 | P48: 0 | Q48: 41.333333 | R48: =SUM(L48:Q48) -> 41.333333 | S48: 2107.4667 | T48: 627.76667 | U48: 4253.2667 | V48: 0 | W48: 408.85 | X48: 129.5 | Y48: 0 | Z48: 1701.8667 | AA48: 985.53333 | AB48: 1927.3667 | AC48: 0 | AD48: 64.8 | AE48: 0 | AF48: 0 | AG48: 358.83333 | AH48: 260.9 | AI48: 191.13333 | AJ48: 0 | AK48: 2809.45 | AL48: =SUM(S48:AK48) -> 15826.733 | AM48: =F48+K48+R48+AL48 -> 40717.433 | AP48: =F48 -> 24849.367 | AQ48: =K48 -> 0 | AR48: =R48 -> 41.333333 | AS48: =AL48 -> 15826.733 | AU48: =SUM(AP48:AT48) -> 40717.433
A50: 11. Net Service Time (hrs.) | D50: 49063.813 | E50: 14721.658 | F50: =F51+F52 -> 63785.472 | G50: 11.066667 | H50: 2894.6937 | I50: 17303.833 | J50: 5907.2333 | K50: =K51+K52 -> 26116.827 | L50: 1424.6333 | M50: 4001.7833 | N50: 1013.3 | O50: 539.75 | P50: 206.91667 | Q50: 6728.9167 | R50: =R51+R52 -> 13915.3 | S50: 3189.4333 | T50: 2533.1 | U50: 5129.6 | V50: 1822.5833 | W50: 408.85 | X50: 129.5 | Y50: 6867.0833 | Z50: 45631.8 | AA50: 1722.7167 | AB50: 2225.35 | AC50: 274.81667 | AD50: 1079.6167 | AE50: 34104.333 | AF50: 1455.95 | AG50: 358.83333 | AH50: 260.9 | AI50: 3989.9667 | AJ50: 404.5 | AK50: 10875.1 | AL50: =AL51+AL52 -> 122464.03 | AM50: =+AM51+AM52 -> 226281.63 | AP50: =F50 -> 63785.472 | AQ50: =K50 -> 26116.827 | AR50: =R50 -> 13915.3 | AS50: =AL50 -> 122464.03 | AU50: =+AU51+AU52 -> 226281.63
A51: Domestic | D51: 33219.747 | E51: 14721.658 | F51: =SUM(D51:E51) -> 47941.405 | G51: 11.066667 | H51: 2894.6937 | I51: 17303.833 | J51: 5907.2333 | K51: =SUM(G51:J51) -> 26116.827 | L51: 1424.6333 | M51: 4001.7833 | N51: 1013.3 | O51: 539.75 | P51: 206.91667 | Q51: 6687.5833 | R51: =SUM(L51:Q51) -> 13873.967 | S51: 1081.9667 | T51: 1905.3333 | U51: 876.33333 | V51: 1822.5833 | W51: 0 | X51: 0 | Y51: 6867.0833 | Z51: 43929.933 | AA51: 737.18333 | AB51: 297.98333 | AC51: 274.81667 | AD51: 1014.8167 | AE51: 34104.333 | AF51: 1455.95 | AG51: 0 | AH51: 0 | AI51: 3798.8333 | AJ51: 404.5 | AK51: 8065.65 | AL51: =SUM(S51:AK51) -> 106637.3 | AM51: =F51+K51+R51+AL51 -> 194569.5 | AP51: =F51 -> 47941.405 | AQ51: =K51 -> 26116.827 | AR51: =R51 -> 13873.967 | AS51: =AL51 -> 106637.3 | AU51: =SUM(AP51:AT51) -> 194569.5
...

Sheet MOC-ancho
A1: SHIPPING, CARGO & PASSENGER STATISTICS
A2: ='MOC-SUMMARY'!$A$2 -> PMO : Misamis Oriental/Cagayan de Oro
A3: AT ANCHORAGE ONLY
A4: 2025
A6: PARTICULARS | D6: BP | E6: BP | F6: BP | G6: TP | H6: TP | I6: TP | J6: GP | K6: GP | L6: GP | M6: PP | N6: PP | O6: PP | P6: PP | Q6: PP | R6: PP | S6: PP | T6: PP | U6: PP | V6: GRAND TOTAL
D7: Cagayan de Oro | F7: TOTAL | G7: Benoni | I7: TOTAL | J7: Balbagon | K7: PPA Jasaan Port | L7: TOTAL | M7: CDO Oil | N7: CAGLI | O7: Felcor | P7: GMC | Q7: Holcim | R7: Petro de Oro | S7: PICMW | T7: Wilmar | U7: TOTAL | Y7: BP | Z7: TP | AA7: GP | AB7: PP | AD7: GRAND TOTAL
A8: A. SHIPPING
A10: 1. Number of vessels | D10: 7 | F10: =F11+F12 -> 7 | G10: 1 | I10: =I11+I12 -> 1 | J10: 2 | K10: 4 | L10: =L11+L12 -> 6 | M10: 2 | N10: 1 | O10: 12 | P10: 1 | Q10: 4 | R10: 40 | S10: 1 | T10: 1 | U10: =U11+U12 -> 62 | V10: =+V11+V12 -> 76 | Y10: =F10 -> 7 | Z10: =I10 -> 1 | AA10: =L10 -> 6 | AB10: =U10 -> 62 | AD10: =+AD11+AD12 -> 76
A11: Domestic | D11: 6 | F11: =SUM(D11:E11) -> 6 | G11: 0 | I11: =SUM(G11:H11) -> 0 | J11: 2 | K11: 4 | L11: =SUM(J11:K11) -> 6 | M11: 1 | N11: 1 | O11: 2 | P11: 1 | Q11: 4 | R11: 24 | S11: 1 | T11: 1 | U11: =SUM(M11:T11) -> 35 | V11: =F11+I11+L11+U11 -> 47 | Y11: =F11 -> 6 | Z11: =I11 -> 0 | AA11: =L11 -> 6 | AB11: =U11 -> 35 | AD11: =SUM(Y11:AC11) -> 47
A12: Foreign | D12: 1 | F12: =SUM(D12:E12) -> 1 | G12: 1 | I12: =SUM(G12:H12) -> 1 | J12: 0 | K12: 0 | L12: =SUM(J12:K12) -> 0 | M12: 1 | N12: 0 | O12: 10 | P12: 0 | Q12: 0 | R12: 16 | S12: 0 | T12: 0 | U12: =SUM(M12:T12) -> 27 | V12: =F12+I12+L12+U12 -> 29 | Y12: =F12 -> 1 | Z12: =I12 -> 1 | AA12: =L12 -> 0 | AB12: =U12 -> 27 | AD12: =SUM(Y12:AC12) -> 29
A14: 2. Gross Tonnage | D14: 28569.13 | F14: =F15+F16 -> 28569.13 | G14: 5602 | I14: =I15+I16 -> 5602 | J14: 4196 | K14: 2558.29 | L14: =L15+L16 -> 6754.29 | M14: 9201 | N14: 195 | O14: 154835.66 | P14: 598.84 | Q14: 2139.47 | R14: 497157 | S14: 191 | T14: 395.33 | U14: =U15+U16 -> 664713.3 | V14: =+V15+V16 -> 705638.72 | Y14: =F14 -> 28569.13 | Z14: =I14 -> 5602 | AA14: =L14 -> 6754.29 | AB14: =U14 -> 664713.3 | AD14: =+AD15+AD16 -> 705638.72
A15: Domestic | D15: 5075.13 | F15: =SUM(D15:E15) -> 5075.13 | G15: 0 | I15: =SUM(G15:H15) -> 0 | J15: 4196 | K15: 2558.29 | L15: =SUM(J15:K15) -> 6754.29 | M15: 985 | N15: 195 | O15: 989.66 | P15: 598.84 | Q15: 2139.47 | R15: 51083 | S15: 191 | T15: 395.33 | U15: =SUM(M15:T15) -> 56577.3 | V15: =F15+I15+L15+U15 -> 68406.72 | Y15: =F15 -> 5075.13 | Z15: =I15 -> 0 | AA15: =L15 -> 6754.29 | AB15: =U15 -> 56577.3 | AD15: =SUM(Y15:AC15) -> 68406.72
A16: Foreign | D16: 23494 | F16: =SUM(D16:E16) -> 23494 | G16: 5602 | I16: =SUM(G16:H16) -> 5602 | J16: 0 | K16: 0 | L16: =SUM(J16:K16) -> 0 | M16: 8216 | N16: 0 | O16: 153846 | P16: 0 | Q16: 0 | R16: 446074 | S16: 0 | T16: 0 | U16: =SUM(M16:T16) -> 608136 | V16: =F16+I16+L16+U16 -> 637232 | Y16: =F16 -> 23494 | Z16: =I16 -> 5602 | AA16: =L16 -> 0 | AB16: =U16 -> 608136 | AD16: =SUM(Y16:AC16) -> 637232
A18: 3. Net Tonnage | D18: 13901.09 | F18: =F19+F20 -> 13901.09 | G18: 1681 | I18: =I19+I20 -> 1681 | J18: 1260 | K18: 2300.21 | L18: =L19+L20 -> 3560.21 | M18: 5590 | N18: 59 | O18: 66807.94 | P18: 361.62 | Q18: 942.08 | R18: 219447 | S18: 129.88 | T18: 118.6 | U18: =U19+U20 -> 293456.12 | V18: =+V19+V20 -> 312598.42 | Y18: =F18 -> 13901.09 | Z18: =I18 -> 1681 | AA18: =L18 -> 3560.21 | AB18: =U18 -> 293456.12 | AD18: =+AD19+AD20 -> 312598.42
A19: Domestic | D19: 2741.09 | F19: =SUM(D19:E19) -> 2741.09 | G19: 0 | I19: =SUM(G19:H19) -> 0 | J19: 1260 | K19: 2300.21 | L19: =SUM(J19:K19) -> 3560.21 | M19: 295 | N19: 59 | O19: 547.94 | P19: 361.62 | Q19: 942.08 | R19: 23505 | S19: 129.88 | T19: 118.6 | U19: =SUM(M19:T19) -> 25959.12 | V19: =F19+I19+L19+U19 -> 32260.42 | Y19: =F19 -> 2741.09 | Z19: =I19 -> 0 | AA19: =L19 -> 3560.21 | AB19: =U19 -> 25959.12 | AD19: =SUM(Y19:AC19) -> 32260.42
A20: Foreign | D20: 11160 | F20: =SUM(D20:E20) -> 11160 | G20: 1681 | I20: =SUM(G20:H20) -> 1681 | J20: 0 | K20: 0 | L20: =SUM(J20:K20) -> 0 | M20: 5295 | N20: 0 | O20: 66260 | P20: 0 | Q20: 0 | R20: 195942 | S20: 0 | T20: 0 | U20: =SUM(M20:T20) -> 267497 | V20: =F20+I20+L20+U20 -> 280338 | Y20: =F20 -> 11160 | Z20: =I20 -> 1681 | AA20: =L20 -> 0 | AB20: =U20 -> 267497 | AD20: =SUM(Y20:AC20) -> 280338
A22: 4. Deadweight Tonnage | D22: 39218.9 | F22: =F23+F24 -> 39218.9 | G22: 1274 | I22: =I23+I24 -> 1274 | J22: 1870.88 | K22: 7029.8505 | L22: =L23+L24 -> 8900.7305 | M22: 14917.25 | N22: 321.75 | O22: 229458.3 | P22: 988.086 | Q22: 3575.12 | R22: 790514.45 | S22: 300 | T22: 610 | U22: =U23+U24 -> 1040685 | V22: =+V23+V24 -> 1090078.6 | Y22: =F22 -> 39218.9 | Z22: =I22 -> 1274 | AA22: =L22 -> 8900.7305 | AB22: =U22 -> 1040685 | AD22: =+AD23+AD24 -> 1090078.6
A23: Domestic | D23: 9851.4 | F23: =SUM(D23:E23) -> 9851.4 | G23: 0 | I23: =SUM(G23:H23) -> 0 | J23: 1870.88 | K23: 7029.8505 | L23: =SUM(J23:K23) -> 8900.7305 | M23: 1625.25 | N23: 321.75 | O23: 2063 | P23: 988.086 | Q23: 3575.12 | R23: 77439.93 | S23: 300 | T23: 610 | U23: =SUM(M23:T23) -> 86923.136 | V23: =F23+I23+L23+U23 -> 105675.27 | Y23: =F23 -> 9851.4 | Z23: =I23 -> 0 | AA23: =L23 -> 8900.7305 | AB23: =U23 -> 86923.136 | AD23: =SUM(Y23:AC23) -> 105675.27
A24: Foreign | D24: 29367.5 | F24: =SUM(D24:E24) -> 29367.5 | G24: 1274 | I24: =SUM(G24:H24) -> 1274 | J24: 0 | K24: 0 | L24: =SUM(J24:K24) -> 0 | M24: 13292 | N24: 0 | O24: 227395.3 | P24: 0 | Q24: 0 | R24: 713074.52 | S24: 0 | T24: 0 | U24: =SUM(M24:T24) -> 953761.82 | V24: =F24+I24+L24+U24 -> 984403.32 | Y24: =F24 -> 29367.5 | Z24: =I24 -> 1274 | AA24: =L24 -> 0 | AB24: =U24 -> 953761.82 | AD24: =SUM(Y24:AC24) -> 984403.32
A26: 5. Length of Vessel (m.) | D26: 575.21 | F26: =F27+F28 -> 575.21 | G26: 93.7 | I26: =I27+I28 -> 93.7 | J26: 157.2 | K26: 225.68 | L26: =L27+L28 -> 382.88 | M26: 206.4 | N26: 27.56 | O26: 1633.02 | P26: 72.77 | Q26: 259.52 | R26: 4879.71 | S26: 37.5 | T26: 50.2 | U26: =U27+U28 -> 7166.68 | V26: =+V27+V28 -> 8218.47 | Y26: =F26 -> 575.21 | Z26: =I26 -> 93.7 | AA26: =L26 -> 382.88 | AB26: =U26 -> 7166.68 | AD26: =+AD27+AD28 -> 8218.47
A27: Domestic | D27: 395.21 | F27: =SUM(D27:E27) -> 395.21 | G27: 0 | I27: =SUM(G27:H27) -> 0 | J27: 157.2 | K27: 225.68 | L27: =SUM(J27:K27) -> 382.88 | M27: 70 | N27: 27.56 | O27: 116.05 | P27: 72.77 | Q27: 259.52 | R27: 2077.62 | S27: 37.5 | T27: 50.2 | U27: =SUM(M27:T27) -> 2711.22 | V27: =F27+I27+L27+U27 -> 3489.31 | Y27: =F27 -> 395.21 | Z27: =I27 -> 0 | AA27: =L27 -> 382.88 | AB27: =U27 -> 2711.22 | AD27: =SUM(Y27:AC27) -> 3489.31
A28: Foreign | D28: 180 | F28: =SUM(D28:E28) -> 180 | G28: 93.7 | I28: =SUM(G28:H28) -> 93.7 | J28: 0 | K28: 0 | L28: =SUM(J28:K28) -> 0 | M28: 136.4 | N28: 0 | O28: 1516.97 | P28: 0 | Q28: 0 | R28: 2802.09 | S28: 0 | T28: 0 | U28: =SUM(M28:T28) -> 4455.46 | V28: =F28+I28+L28+U28 -> 4729.16 | Y28: =F28 -> 180 | Z28: =I28 -> 93.7 | AA28: =L28 -> 0 | AB28: =U28 -> 4455.46 | AD28: =SUM(Y28:AC28) -> 4729.16
A30: 6. Beam of Vessel (m.) | D30: 104.11 | F30: =F31+F32 -> 104.11 | G30: 17.2 | I30: =I31+I32 -> 17.2 | J30: 24 | K30: 45.01 | L30: =L31+L32 -> 69.01 | M30: 32.5 | N30: 8.8 | O30: 274.79 | P30: 11.6 | Q30: 48.7 | R30: 845.62 | S30: 9.5 | T30: 9 | U30: =U31+U32 -> 1240.51 | V30: =+V31+V32 -> 1430.83 | Y30: =F30 -> 104.11 | Z30: =I30 -> 17.2 | AA30: =L30 -> 69.01 | AB30: =U30 -> 1240.51 | AD30: =+AD31+AD32 -> 1430.83
A31: Domestic | D31: 74.11 | F31: =SUM(D31:E31) -> 74.11 | G31: 0 | I31: =SUM(G31:H31) -> 0 | J31: 24 | K31: 45.01 | L31: =SUM(J31:K31) -> 69.01 | M31: 12.3 | N31: 8.8 | O31: 20.87 | P31: 11.6 | Q31: 48.7 | R31: 342.98 | S31: 9.5 | T31: 9 | U31: =SUM(M31:T31) -> 463.75 | V31: =F31+I31+L31+U31 -> 606.87 | Y31: =F31 -> 74.11 | Z31: =I31 -> 0 | AA31: =L31 -> 69.01 | AB31: =U31 -> 463.75 | AD31: =SUM(Y31:AC31) -> 606.87
A32: Foreign | D32: 30 | F32: =SUM(D32:E32) -> 30 | G32: 17.2 | I32: =SUM(G32:H32) -> 17.2 | J32: 0 | K32: 0 | L32: =SUM(J32:K32) -> 0 | M32: 20.2 | N32: 0 | O32: 253.92 | P32: 0 | Q32: 0 | R32: 502.64 | S32: 0 | T32: 0 | U32: =SUM(M32:T32) -> 776.76 | V32: =F32+I32+L32+U32 -> 823.96 | Y32: =F32 -> 30 | Z32: =I32 -> 17.2 | AA32: =L32 -> 0 | AB32: =U32 -> 776.76 | AD32: =SUM(Y32:AC32) -> 823.96
A34: 7. Draft of Vessel (m.) | D34: 26.39 | F34: =F35+F36 -> 26.39 | G34: 4.4 | I34: =I35+I36 -> 4.4 | J34: 11.3 | K34: 5.05 | L34: =L35+L36 -> 16.35 | M34: 10.65 | N34: 2.5 | O34: 64.0825 | P34: 5.125 | Q34: 12.465 | R34: 206.275 | S34: 2.3 | T34: 3.25 | U34: =U35+U36 -> 306.6475 | V34: =+V35+V36 -> 353.7875 | Y34: =F34 -> 26.39 | Z34: =I34 -> 4.4 | AA34: =L34 -> 16.35 | AB34: =U34 -> 306.6475 | AD34: =+AD35+AD36 -> 353.7875
A35: Domestic | D35: 18.775 | F35: =SUM(D35:E35) -> 18.775 | G35: 0 | I35: =SUM(G35:H35) -> 0 | J35: 11.3 | K35: 5.05 | L35: =SUM(J35:K35) -> 16.35 | M35: 3.55 | N35: 2.5 | O35: 6.825 | P35: 5.125 | Q35: 12.465 | R35: 87.225 | S35: 2.3 | T35: 3.25 | U35: =SUM(M35:T35) -> 123.24 | V35: =F35+I35+L35+U35 -> 158.365 | Y35: =F35 -> 18.775 | Z35: =I35 -> 0 | AA35: =L35 -> 16.35 | AB35: =U35 -> 123.24 | AD35: =SUM(Y35:AC35) -> 158.365
A36: Foreign | D36: 7.615 | F36: =SUM(D36:E36) -> 7.615 | G36: 4.4 | I36: =SUM(G36:H36) -> 4.4 | J36: 0 | K36: 0 | L36: =SUM(J36:K36) -> 0 | M36: 7.1 | N36: 0 | O36: 57.2575 | P36: 0 | Q36: 0 | R36: 119.05 | S36: 0 | T36: 0 | U36: =SUM(M36:T36) -> 183.4075 | V36: =F36+I36+L36+U36 -> 195.4225 | Y36: =F36 -> 7.615 | Z36: =I36 -> 4.4 | AA36: =L36 -> 0 | AB36: =U36 -> 183.4075 | AD36: =SUM(Y36:AC36) -> 195.4225
A38: 8. Down/Idle Time (hrs.) | D38: 0 | F38: =F39+F40 -> 0 | G38: 0 | I38: =I39+I40 -> 0 | J38: 0 | K38: 0 | L38: =L39+L40 -> 0 | M38: 0 | N38: 0 | O38: 0 | P38: 0 | Q38: 0 | R38: 0 | S38: 0 | T38: 0 | U38: =U39+U40 -> 0 | V38: =+V39+V40 -> 0 | Y38: =F38 -> 0 | Z38: =I38 -> 0 | AA38: =L38 -> 0 | AB38: =U38 -> 0 | AD38: =+AD39+AD40 -> 0
A39: Domestic | D39: 0 | F39: =SUM(D39:E39) -> 0 | G39: 0 | I39: =SUM(G39:H39) -> 0 | J39: 0 | K39: 0 | L39: =SUM(J39:K39) -> 0 | M39: 0 | N39: 0 | O39: 0 | P39: 0 | Q39: 0 | R39: 0 | S39: 0 | T39: 0 | U39: =SUM(M39:T39) -> 0 | V39: =F39+I39+L39+U39 -> 0 | Y39: =F39 -> 0 | Z39: =I39 -> 0 | AA39: =L39 -> 0 | AB39: =U39 -> 0 | AD39: =SUM(Y39:AC39) -> 0
A40: Foreign | D40: 0 | F40: =SUM(D40:E40) -> 0 | G40: 0 | I40: =SUM(G40:H40) -> 0 | J40: 0 | K40: 0 | L40: =SUM(J40:K40) -> 0 | M40: 0 | N40: 0 | O40: 0 | P40: 0 | Q40: 0 | R40: 0 | S40: 0 | T40: 0 | U40: =SUM(M40:T40) -> 0 | V40: =F40+I40+L40+U40 -> 0 | Y40: =F40 -> 0 | Z40: =I40 -> 0 | AA40: =L40 -> 0 | AB40: =U40 -> 0 | AD40: =SUM(Y40:AC40) -> 0
Y41: =F41 -> 0 | Z41: =I41 -> 0 | AA41: =L41 -> 0 | AB41: =U41 -> 0
A42: 9. Waiting Time (hrs.) | D42: 0 | F42: =F43+F44 -> 0 | G42: 0 | I42: =I43+I44 -> 0 | J42: 0 | K42: 0 | L42: =L43+L44 -> 0 | M42: 0 | N42: 0 | O42: 0 | P42: 0 | Q42: 0 | R42: 0 | S42: 0 | T42: 0 | U42: =U43+U44 -> 0 | V42: =+V43+V44 -> 0 | Y42: =F42 -> 0 | Z42: =I42 -> 0 | AA42: =L42 -> 0 | AB42: =U42 -> 0 | AD42: =+AD43+AD44 -> 0
A43: Domestic | D43: 0 | F43: =SUM(D43:E43) -> 0 | G43: 0 | I43: =SUM(G43:H43) -> 0 | J43: 0 | K43: 0 | L43: =SUM(J43:K43) -> 0 | M43: 0 | N43: 0 | O43: 0 | P43: 0 | Q43: 0 | R43: 0 | S43: 0 | T43: 0 | U43: =SUM(M43:T43) -> 0 | V43: =F43+I43+L43+U43 -> 0 | Y43: =F43 -> 0 | Z43: =I43 -> 0 | AA43: =L43 -> 0 | AB43: =U43 -> 0 | AD43: =SUM(Y43:AC43) -> 0
A44: Foreign | D44: 0 | F44: =SUM(D44:E44) -> 0 | G44: 0 | I44: =SUM(G44:H44) -> 0 | J44: 0 | K44: 0 | L44: =SUM(J44:K44) -> 0 | M44: 0 | N44: 0 | O44: 0 | P44: 0 | Q44: 0 | R44: 0 | S44: 0 | T44: 0 | U44: =SUM(M44:T44) -> 0 | V44: =F44+I44+L44+U44 -> 0 | Y44: =F44 -> 0 | Z44: =I44 -> 0 | AA44: =L44 -> 0 | AB44: =U44 -> 0 | AD44: =SUM(Y44:AC44) -> 0
A46: 10. Service Time (hrs.) | D46: 519.13333 | F46: =F47+F48 -> 519.13333 | G46: 10.466667 | I46: =I47+I48 -> 10.466667 | J46: 121.35 | K46: 733.95 | L46: =L47+L48 -> 855.3 | M46: 340.98333 | N46: 140 | O46: 4457.6667 | P46: 935.33333 | Q46: 591.56667 | R46: 1849.15 | S46: 96.466667 | T46: 23 | U46: =U47+U48 -> 8434.1667 | V46: =+V47+V48 -> 9819.0667 | Y46: =F46 -> 519.13333 | Z46: =I46 -> 10.466667 | AA46: =L46 -> 855.3 | AB46: =U46 -> 8434.1667 | AD46: =+AD47+AD48 -> 9819.0667
A47: Domestic | D47: 423.23333 | F47: =SUM(D47:E47) -> 423.23333 | G47: 0 | I47: =SUM(G47:H47) -> 0 | J47: 121.35 | K47: 733.95 | L47: =SUM(J47:K47) -> 855.3 | M47: 82.333333 | N47: 140 | O47: 4053 | P47: 935.33333 | Q47: 591.56667 | R47: 1417.6333 | S47: 96.466667 | T47: 23 | U47: =SUM(M47:T47) -> 7339.3333 | V47: =F47+I47+L47+U47 -> 8617.8667 | Y47: =F47 -> 423.23333 | Z47: =I47 -> 0 | AA47: =L47 -> 855.3 | AB47: =U47 -> 7339.3333 | AD47: =SUM(Y47:AC47) -> 8617.8667
A48: Foreign | D48: 95.9 | F48: =SUM(D48:E48) -> 95.9 | G48: 10.466667 | I48: =SUM(G48:H48) -> 10.466667 | J48: 0 | K48: 0 | L48: =SUM(J48:K48) -> 0 | M48: 258.65 | N48: 0 | O48: 404.66667 | P48: 0 | Q48: 0 | R48: 431.51667 | S48: 0 | T48: 0 | U48: =SUM(M48:T48) -> 1094.8333 | V48: =F48+I48+L48+U48 -> 1201.2 | Y48: =F48 -> 95.9 | Z48: =I48 -> 10.466667 | AA48: =L48 -> 0 | AB48: =U48 -> 1094.8333 | AD48: =SUM(Y48:AC48) -> 1201.2
A50: 11. Net Service Time (hrs.) | D50: 519.13333 | F50: =F51+F52 -> 519.13333 | G50: 10.466667 | I50: =I51+I52 -> 10.466667 | J50: 121.35 | K50: 733.95 | L50: =L51+L52 -> 855.3 | M50: 340.98333 | N50: 140 | O50: 4457.6667 | P50: 935.33333 | Q50: 591.56667 | R50: 1849.15 | S50: 96.466667 | T50: 23 | U50: =U51+U52 -> 8434.1667 | V50: =+V51+V52 -> 9819.0667 | Y50: =F50 -> 519.13333 | Z50: =I50 -> 10.466667 | AA50: =L50 -> 855.3 | AB50: =U50 -> 8434.1667 | AD50: =+AD51+AD52 -> 9819.0667
A51: Domestic | D51: 423.23333 | F51: =SUM(D51:E51) -> 423.23333 | G51: 0 | I51: =SUM(G51:H51) -> 0 | J51: 121.35 | K51: 733.95 | L51: =SUM(J51:K51) -> 855.3 | M51: 82.333333 | N51: 140 | O51: 4053 | P51: 935.33333 | Q51: 591.56667 | R51: 1417.6333 | S51: 96.466667 | T51: 23 | U51: =SUM(M51:T51) -> 7339.3333 | V51: =F51+I51+L51+U51 -> 8617.8667 | Y51: =F51 -> 423.23333 | Z51: =I51 -> 0 | AA51: =L51 -> 855.3 | AB51: =U51 -> 7339.3333 | AD51: =SUM(Y51:AC51) -> 8617.8667
...
